BEGIN:VCALENDAR
VERSION:2.0
PRODID:-//PIKK.ee - ECPv6.13.2.1//NONSGML v1.0//EN
CALSCALE:GREGORIAN
METHOD:PUBLISH
X-WR-CALNAME:PIKK.ee
X-ORIGINAL-URL:https://www.pikk.ee
X-WR-CALDESC:Events for PIKK.ee
REFRESH-INTERVAL;VALUE=DURATION:PT1H
X-Robots-Tag:noindex
X-PUBLISHED-TTL:PT1H
BEGIN:VTIMEZONE
TZID:Europe/Tallinn
BEGIN:DAYLIGHT
TZOFFSETFROM:+0200
TZOFFSETTO:+0300
TZNAME:EEST
DTSTART:20200329T010000
END:DAYLIGHT
BEGIN:STANDARD
TZOFFSETFROM:+0300
TZOFFSETTO:+0200
TZNAME:EET
DTSTART:20201025T010000
END:STANDARD
END:VTIMEZONE
BEGIN:VEVENT
DTSTART;VALUE=DATE:20200318
DTEND;VALUE=DATE:20200319
DTSTAMP:20260425T041815
CREATED:20200309T072724Z
LAST-MODIFIED:20200317T091538Z
UID:10009571-1584489600-1584575999@www.pikk.ee
SUMMARY:Seminar “Efektiivsem põllumajandus läbi teadliku tegutsemise” - EDASI LÜKATUD AASTA TEISE POOLDE
DESCRIPTION:Hea Põllumees! \nSeoses koroonaviiruse levikuga Eestis kehtestas valitsus eriolukorra. Keelatud on kõik avalikud üritused ja seetõttu oleme otsustanud\, et 18. märtisil toimuma pidanud seminar „Efektiivsem põllumajandus läbi teadliku tegutsemise“ lükkub aasta teise poolde. \nHoidke ennast ja lähedasi\, \nAgriconi meeskond \n  \nHea Põllumees!\nOled oodatud seminarile “Efektiivsem põllumajandus läbi teadliku tegutsemise”\nSeminar toimub: 18. märtsil 2020\nAsukoht: Tartu Raadimõisa hotell\, (Mõisavärava 1\, Vahi alev\, Tartu) \nLektorid: Alar Astover\, professor\,PhD\nHanno Marrandi\, Kasti Teravili OÜ\nMeit Jürgens\, Agricon Eesti \nKell 9.30-10.00 Hommikukohv ja registreerimine\nSeminaril arutleme teemadel\nPõllumulla orgaaniline aine mullaviljakuse ja süsinikuneutraalsuse valguses\nPõllumuldade happesus ja erinevad lubimaterjalid\nGrainSense – ole teadlik oma põllukultuuride kvaliteedis\nAsukohapõhine väetamine ettevõttes Kasti Teravili OÜ\nKell 14.00 Päeva kokkuvõte \nVajalik eelregistreerimine kuni 15.03.2020\nmeit.jurgens@agricon-baltic.com\ntelefonil +372 5253431 \nKohtade arv on piiratud!\nwww.agricon-baltic.com
URL:https://www.pikk.ee/sundmus/seminar-efektiivsem-pollumajandus-labi-teadliku-tegutsemise/
LOCATION:Tartumaa\, Eesti
ORGANIZER;CN="Agricon-Baltic":MAILTO:meit.jurgens@agricon-baltic.com
GEO:58.4057128;26.801576
END:VEVENT
END:VCALENDAR