BEGIN:VCALENDAR
VERSION:2.0
PRODID:-//PIKK.ee - ECPv6.13.2.1//NONSGML v1.0//EN
CALSCALE:GREGORIAN
METHOD:PUBLISH
X-ORIGINAL-URL:https://www.pikk.ee
X-WR-CALDESC:Events for PIKK.ee
REFRESH-INTERVAL;VALUE=DURATION:PT1H
X-Robots-Tag:noindex
X-PUBLISHED-TTL:PT1H
BEGIN:VTIMEZONE
TZID:Europe/Tallinn
BEGIN:DAYLIGHT
TZOFFSETFROM:+0200
TZOFFSETTO:+0300
TZNAME:EEST
DTSTART:20190331T010000
END:DAYLIGHT
BEGIN:STANDARD
TZOFFSETFROM:+0300
TZOFFSETTO:+0200
TZNAME:EET
DTSTART:20191027T010000
END:STANDARD
BEGIN:DAYLIGHT
TZOFFSETFROM:+0200
TZOFFSETTO:+0300
TZNAME:EEST
DTSTART:20200329T010000
END:DAYLIGHT
BEGIN:STANDARD
TZOFFSETFROM:+0300
TZOFFSETTO:+0200
TZNAME:EET
DTSTART:20201025T010000
END:STANDARD
END:VTIMEZONE
BEGIN:VEVENT
DTSTART;VALUE=DATE:20200306
DTEND;VALUE=DATE:20200307
DTSTAMP:20260426T022146
CREATED:20200108T142215Z
LAST-MODIFIED:20200131T070358Z
UID:10009478-1583452800-1583539199@www.pikk.ee
SUMMARY:Tagasi juurte juurde 2020 - taimekasvatuskoolitus mahetootjale
DESCRIPTION:Ürituse nimi: Tagasi juurte juurde 2020- taimekasvatuskoolitus mahetootjale \nToimumise aeg: 6. märts 2020 \nLisa ennast üritusele kirja: https://docs.google.com/forms/d/e/1FAIpQLSePLxco_LNHB8Q3tTF4Nuk6j7FI3oYshpYDVzxN8LO0784pog/viewform \nÜrituse lisainfo: Agri Partner Oü\, Aive Jänes\, aive@agripartner.ee\, 50 77 145
URL:https://www.pikk.ee/sundmus/tagasi-juurte-juurde-2020-taimekasvatuskoolitus-mahetootjale/
CATEGORIES:Taimekasvatus
END:VEVENT
BEGIN:VEVENT
DTSTART;VALUE=DATE:20190207
DTEND;VALUE=DATE:20190208
DTSTAMP:20260426T022146
CREATED:20190102T131640Z
LAST-MODIFIED:20190206T062741Z
UID:10009105-1549497600-1549583999@www.pikk.ee
SUMMARY:Tagasi juurte juurde 2019 - taimekasvatuskoolitus mahetootjale
DESCRIPTION:Ürituse nimi: Tagasi juurte juurde 2019- taimekasvatuskoolitus mahetootjale \nToimumise aeg: 7. veebruar 2019 \nAeg: 10.00-16.00 \nToimumise asukoht: Eesti Maaülikooli peamaja aula\, Fr. R Kreutzwaldi 1. \nJuba neljandat korda toimub maheteraviljakavatusele pühendatud õppepäev. \nSel aastal on põhifookuses erinevad katsed nii väetiste kui biostimulaatoritega. \nKoostöös Eesti Maaülikooli Mahekeskusega läheb õppepäev  arvesse mahepõllumajandusliku tootmise toetuse saamise kohustusliku koolitusena. \n10.00 Avasõnad– Argo Kukk/ Agri Partner OÜ \n10.00- 10.45 Biostimulaatorite kasutamine maheteravilja kasvatamisel– Tiia Kangor/ Eesti Taimekasvatuse Instituut \n10.45-11.30  Biostimulaatorite võrdluskatsed teraviljadel tavaviljeluses– Pille Sooväli/ Eesti Taimekasvatuse Instituut \n11.30-12.15  Biostimulaatori ja mikroorganismide koosmõju taime täisväärtusliku arengu tagamiseks. Katsete tulemuste arutelu– Deniss Davõdov/ BIOORG OÜ \n12.15-13.00 Lõuna \n13.00- 13.45  Katsetulemused kaaliumirikaste maheväetistega Kuusiku Katsekeskuses– Karli Sepp/ Põllumajandusuuringute Keskus \n13.45-  14.15 Maheklastri taimekasvatuskatsete esimese aasta katsetulemused– Margus Ess/ Maheklaster \n14.15- 15.00  Orgaanilis-mineraalsete väetiste kasutamine mahetaimekasvatuses– Edmundas Akstinas/ ORIJ GROUP \n15.00- 15.45 Toiteelementide ringlus mahepõllumajanduses- Ecolan-i uued mahe NPK väetised– Ecolan \n  \nInfopäevadel osalemine on tasuta. Osalemiseks on kindlasti vajalik eelregistreerimine! \nLisa ennast üritusele kirja: https://docs.google.com/forms/d/1tsrZn6tjf0kv64kV-rfOjwRXmtswhm2OvULdXRm3ZFQ/edit \nÜrituse lisainfo: Agri Partner Oü\, Aive Jänes\, aive@agripartner.ee\, 50 77 145
URL:https://www.pikk.ee/sundmus/tagasi-juurte-juurde-2019-taimekasvatuskoolitus-mahetootjale/
LOCATION:Tartumaa\, Eesti
CATEGORIES:Taimekasvatus
GEO:58.4057128;26.801576
END:VEVENT
END:VCALENDAR