BEGIN:VCALENDAR
VERSION:2.0
PRODID:-//PIKK.ee - ECPv6.13.2.1//NONSGML v1.0//EN
CALSCALE:GREGORIAN
METHOD:PUBLISH
X-WR-CALNAME:PIKK.ee
X-ORIGINAL-URL:https://www.pikk.ee
X-WR-CALDESC:Events for PIKK.ee
REFRESH-INTERVAL;VALUE=DURATION:PT1H
X-Robots-Tag:noindex
X-PUBLISHED-TTL:PT1H
BEGIN:VTIMEZONE
TZID:Europe/Tallinn
BEGIN:DAYLIGHT
TZOFFSETFROM:+0200
TZOFFSETTO:+0300
TZNAME:EEST
DTSTART:20260329T010000
END:DAYLIGHT
BEGIN:STANDARD
TZOFFSETFROM:+0300
TZOFFSETTO:+0200
TZNAME:EET
DTSTART:20261025T010000
END:STANDARD
END:VTIMEZONE
BEGIN:VEVENT
DTSTART;TZID=Europe/Tallinn:20260429T100000
DTEND;TZID=Europe/Tallinn:20260429T164500
DTSTAMP:20260423T135457
CREATED:20260402T135439Z
LAST-MODIFIED:20260402T135838Z
UID:10011946-1777456800-1777481100@www.pikk.ee
SUMMARY:XX Toiduainetööstuse Aastakonverents 2026: Toit ja kindlustunne
DESCRIPTION:Registreerumine ja täpsem info: SIIT LINGILT \nToimumisvorm ja – koht: Veebis ja Tallinnas Radisson Blu Olümpia Hotelli Konverentsikesksuses (Liivalaia 33\, Tallinn) \nLühike sündmuse kirjeldus: \nTänavune konverents keskendub toiduainetööstuse rollile kiiresti muutuvas majanduskeskkonnas ning arutleb\, kuidas tagada Eesti toidutööstuse konkurentsivõime ja toidu kättesaadavus nii kohalikul kui rahvusvahelisel tasandil. Päeva jooksul käsitleme globaalseid majandustrende\, ekspordi olulisust kui toidujulgeoleku garantiid ning jagame praktilisi kogemusi Eesti toidu edukast viimisest välisturgudele. \nEsimene sessioon annab ülevaate majanduskeskkonnast ja selle mõjust sektorile\, tuues esile võtmetegurid\, mis mõjutavad ettevõtete arenguvõimalusi ja efektiivsust. Teises sessioonis keskendume toiduainetööstust kujundavatele mõjuteguritele\, sealhulgas tarbijakäitumisele\, ning arutame sektori hetkeseisu erinevate tööstusharude vaates. \nKonverentsi üheks oluliseks osaks on traditsiooniline konkursi „Eesti Parim Toiduaine 2026“ võitjate väljakuulutamine ja autasustamine. Tseremoonial osaleb regionaal- ja põllumajandusminister. \nPäeva lõpetab diskussioon „Kuidas kindlustada toidu kättesaadavus?“\, kus arutleme koos valdkonna võtmeosapooltega\, millised sammud on vajalikud sektori jätkusuutlikkuse ja konkurentsivõime tagamiseks. Arutelus osalevad nii riigi kui ka ettevõtete esindajad. \nKonverentsi modereerib Toiduliidu juhataja Sirje Potisepp. \nSihtgrupp: Toidutootjad \n  \nPÄEVAKAVA \n9.00 – 10.00           Registreerimine\, hommikukohv \n10.00 – 10.05            Sissejuhatus \n Sirje Potisepp Toiduliidu juhataja \n10.05 – 10.15            Pöördumine \nVeljo Ipits Toiduliidu volikogu esimees \n  \nI sessioon: TOIDUAINETÖÖSTUS JA MAJANDUSKESKKOND \nModeraator               Sirje Potisepp \n10.15 – 11.00            Majandustrendid\, mis hakkavad mõjutama Eesti toiduainetööstust    \nTriinu Tapver LHV AS majandusanalüütik \n11.00 – 11.30            Eksport kui toidu julgeoleku garant \nLiina Vahtras Ettevõtluse ja Innovatsiooni Sihtasutuse juhatuse liige \n11.30 – 11.55            Kogemuslugu: kuidas Eesti toitu maailma müüa \nLisli Pak Kadarbiku Köögivili OÜ ostujuht                                 \n11.55 – 12.00            I sessiooni kokkuvõte   \n  \n12.00 – 12.55            Lõuna\, fuajees toodete degusteerimised \n  \nII sessioon: TOIDUAINETÖÖSTUS JA MÕJUTEGURID \nModeraator: *            Sirje Potisepp \n13.00 – 14.10            “Eesti Parim Toiduaine 2026” väljakuulutamine\, võitjate autasustamine \nTseremoonial osaleb regionaal- ja põllumajandusminister Hendrik Johannes Terras \n14.10 – 14.40            Tarbimisest ja tarbijatest \nIvar Soone majandusteadlane ja käitumispsühholoog \n14.40 – 15.00             Tervislik paus\, toodete degusteerimine \n15.00 – 15.35            Kuidas läheb toiduaine- ja joogitööstus? \n Silver Kaur Maag Food OÜ – liha- ja piimatööstus \n Ragnar Kõiv Eesti Pagar AS AS – pagaritööstus \nTimo Pärn Saare Kala OÜ – kalatööstus \nJaanus Vihand A.Le Coq AS – joogitööstus \n15.35 – 16.30            Diskussioonivoor*: Kuidas kindlustada toidu kättesaadavus?   \nModeraator: Sirje Potisepp \nOsalejad: riigi esindaja – kinnitamisel\, Silver Kaur Maag Food\, Oleg Gross OG Elektra\, Ants- Hannes Viira EPKK\, Ando Leppiman Eesti Varude Keskus   \n16.30 – 16.45           Lõppsõna ja kokkuvõte – moderaator \nJärgneb EPT vastuvõtt banketisaalis.                 \n*korraldaja jätab endale õiguse teha vajadusel programmi muudatusi \n  \nOsalustasu: 50 EUR + km \n  \nTäpsem info ja registreerimine www.toiduliit.ee või telefonil +3726484621 \nKorraldaja: Eesti Toiduainetööstuse Liit \n \n  \n 
URL:https://www.pikk.ee/sundmus/xx-toiduainetoostuse-aastakonverents-2026-toit-ja-kindlustunne/
LOCATION:Tallinn\, Liivalaia 33\, Eesti
CATEGORIES:Toiduainete tootmine,Toit ja toiduohutus
END:VEVENT
BEGIN:VEVENT
DTSTART;VALUE=DATE:20260518
DTEND;VALUE=DATE:20260521
DTSTAMP:20260423T135457
CREATED:20260316T121020Z
LAST-MODIFIED:20260316T121020Z
UID:10011909-1779062400-1779321599@www.pikk.ee
SUMMARY:Õppereis PLMA Amsterdam rahvusvahelisele messile “Innovatsioon\, tootearendus ja teaduskoostöö toidutööstuses
DESCRIPTION:Kutsume osalema õppereisil „World of Private Label 2026“ rahvusvahelisele messile Amsterdamis 18.–20. mail 2026. \nMess „World of Private Label 2026“ toimub 19.-20. mail RAI messikeskuses Amsterdamis\, Hollandis. \n  \nPalun andke oma osalemissoovist märku registreerudes hiljemalt K 18. märtsiks SIIT lingilt.  \nOsalejate arv on piiratud (10 osalejat).  Registreerudes võtab osaleja vastutuse osaleda õppereisil. \n  \nReisi eesmärk on pakkuda ettevõtetelele võimalust külastada õppereisil toidutööstuse messi World of Private Label International Trade Show\, mis toimub 2026. aasta 19.-20. mail Amsterdamis. \nÕppereisi fookuses on innovatsioon\, tootearendus ja teaduskoostöö toidutööstuses. \n  \nAjakava \nLend 18.05.2026 Tallinn→ Amsterdam kell 07:30-09:00                  \n\nTransport majutuskohta\nVarajane check-in (kui võimalik) või pagasi hoiustamine\nGrupikoosolek\nToimub messihalli eelkülastus\, messi sissepääsupiletite vormistamine ning erinevatel eelüritustel\, vastavalt ettevõtjate soovist ja vajadustest\, osalemine.\n\nAsukoht: RAI Amsterdam Convention Centre\, Holland \nMessiprogramm on täpsustamisel\, kuid praeguse info kohaselt on 18.mai programmjärgmine: \nPre-Show Seminars & Workshops (Monday\, May 18\, 2026): \n12:00 – 18:00: Visitor Badge Pick-Up. \n13:00 – 14:00: Workshops. \n14:00 – 16:00: Pre-Show Seminars (market research\, trends\, Salute to Excellence Awards). \n  \n\nÕhtune ametlik osa ja tervitus ning kogunemine Eesti delegatsiooniga ühiseks õhtusöögiks\, messil osalevate ettevõtjatega ja Hollandis\,  Eesti saatkonna/ suursaadiku võimalik osalus – läbirääkimised pooleli\, selgub hiljem;\n\n  \nT s.o. 19.mai 2026 – PLMA 2026 mess\, 1. külastuspäev\, kell 9:00 – 18:00 \nAsukoht: RAI Amsterdam Convention Centre\, Holland \n10:00 – 11:00 \n\nSisenemine messile\nRegistreerimine ja badge’ide kättesaamine\, kui seda pole tehtud\nLühitutvustus messialade ja päeva fookuste kohta\n\n11:00 – 13:00 \n\nOrienteeruv individuaalne ringkäik PLMA 2026 peamistes valdkondades:\n\no          piimatooted \no          liha- ja kalatooted \no          joogid \no          pagaritooted \no          valmisroad \no          maitseained ja koostisosad \no          uute tehnoloogiate ja pakendilahenduste esitlused \n13:00 – 14:00 \n\nLõuna messialal ja esimesed kontaktkohtumised\n\n14:00 – 16:30 \n\nIndividuaalsed külastused valitud eksponentide juurde\nInspiratsioonialad ja tehnoloogiauudiste sektor (tootmine\, automatiseerimine\, digitaliseerimine)\nInnovatsiooni- ja trendilavad\, seminarid\, mis sel korral keskenduvad kaubanduses AI kasutusvõimalustele\, tarbijakäitumisele ja jätkusuutlikkusele. Lisainfo ja seminaride/ürituste ajaplaan esitatakse enne messi toimumist: https://www.plmainternational.com/events\n\nNB! Kui messistende külastab Eesti suursaadik Hollandis hr Paul Teesalu oma messkonnaliikmetega\, oleme valmis ringkäigul osalema ja Eesti messibokse tutvustama\, kuna Toiduliit on ühisstendi korraldaja ja teemaga hästi kursis. Saatkonnalt ootame Hollandi turu ülevaadet. \n16:30 – 17:00 \n\nPäeva kokkuvõte hotellis\nAruteluring: olulisemad tähelepanekud ja kontaktid\n\n  \nK s.o. 20.mai 2026 – PLMA 2026 mess\, 2. külastuspäev\, kell 9:00-16:30 \nAsukoht: RAI Amsterdam Convention Centre\, Holland \nFookus: tootearendus\, tehnoloogiad ja pakenditrendid \n09:30 – 11:30 \n\nIndividuaalne osalemine messi seminaridel ja esitlusradadel (valikuline vastavalt kättesaadavale kavale)\, mis sel korral keskenduvad kaubanduses AI kasutusvõimalustele\, tarbijakäitumisele ja jätkusuutlikkusele. Lisainfo ja seminaride/ürituste ajaplaan esitatakse enne messi toimumist: https://www.plmainternational.com/events\n\n  \n11:30 – 13:00 \n\nIndividuaalne messikülastus jätkub\n\n13:00 – 14:30 \n\nLõuna ja võrgustumine\n\n14:30 – 16:30 \n\nViimased kohtumised ekspordi-\, jaemüügi- ja hulgipartneritega\nKonkurentide ja innovatsiooniliidrite ülevaade\nMessipäeva lõpetamine ja lennujaama suundumine.\n\nOsalejate kokkuvõte: \no          mis on rakendatav Eestis \no          milliste ettevõtetega jätkata kontakte \no          võimalikud koostöösuunad \nNB! Kui messistende külastab Eesti suursaadik Hollandis hr Paul Teesalu oma messkonnaliikmetega\, oleme valmis ringkäigul osalema ja Eesti messibokse tutvustama\, kuna Toiduliit on ühisstendi korraldaja ja teemaga hästi kursis. Saatkonnalt ootame Hollandi turu ülevaadet. Samuti jagatakse messi lõppedes mõningaid tootenäidiseid saatkonda. \n  \nTagasilend \, 20.05.2026 Amsterdam →Tallinn kell 16:35-19:55  \nÕppereis lõpeb Tallinnas. \n*korraldajal teha ajakavas muudatusi \n  \nSihtrühm ja tasu \nTeadmussiirde tegevuste sihtrühmaks on põllumajandustootjad\, toiduainetööstuse ettevõtted\, nõustajad ja teised sektori huvirühmad. \nÕppereisil osalemine on sihtrühma kuulujale vähese tähtsusega abi kui ettevõttel on piisavalt vähese tähtsusega abi (VTA) jääki. \n  \nÕppereisil osalemine on vähese tähtsusega abi summas ca 530\,56 €\, millele lisandub osaleva ettevõtte omaosalus summas ca  530\,56 €+KM.  \nMETK toetuse saamise tingimuseks on\, et messikülastuse õppereisil osalevad vähemalt 10 ettevõtte esindajad. \n  \nHinnas sisalduvad: Edasi-tagasi lennupiletid\, majutus ja kindlustuskatted: Tervis\, reisitõrge\, pagas. \nMessipääsmed hind ca 217\,51 €. Palume täpsustada\, kas vajate messipääset või saate oma ettevõtte kutse. Sel juhul saab jätta messipääsme tellimata. \n  \nÜritus viiakse läbi „Põllumajanduslike teadmiste ja innovatsiooni süsteemi“ (AKIS) programmi raames\, kaasrahastab Euroopa Liit. Kaasrahastab Euroopa Liit. \n  \nLisainfo: \nLiina Laineveer \nLiina.laineveer@toiduliit.ee\n+372 5205877 \n 
URL:https://www.pikk.ee/sundmus/oppereis-plma-amsterdam-rahvusvahelisele-messile-innovatsioon-tootearendus-ja-teaduskoostoo-toidutoostuses/
CATEGORIES:Toit ja toiduohutus
END:VEVENT
END:VCALENDAR