BEGIN:VCALENDAR
VERSION:2.0
PRODID:-//PIKK.ee - ECPv6.13.2.1//NONSGML v1.0//EN
CALSCALE:GREGORIAN
METHOD:PUBLISH
X-ORIGINAL-URL:https://www.pikk.ee
X-WR-CALDESC:Events for PIKK.ee
REFRESH-INTERVAL;VALUE=DURATION:PT1H
X-Robots-Tag:noindex
X-PUBLISHED-TTL:PT1H
BEGIN:VTIMEZONE
TZID:Europe/Tallinn
BEGIN:DAYLIGHT
TZOFFSETFROM:+0200
TZOFFSETTO:+0300
TZNAME:EEST
DTSTART:20120325T010000
END:DAYLIGHT
BEGIN:STANDARD
TZOFFSETFROM:+0300
TZOFFSETTO:+0200
TZNAME:EET
DTSTART:20121028T010000
END:STANDARD
END:VTIMEZONE
BEGIN:VEVENT
DTSTART;VALUE=DATE:20120810
DTEND;VALUE=DATE:20120811
DTSTAMP:20260422T070921
CREATED:20171231T220000Z
LAST-MODIFIED:20171231T220000Z
UID:10005385-1344556800-1344643199@www.pikk.ee
SUMMARY:Valgamaa mesinike õppereis Läti mesilatesse
DESCRIPTION:Valgamaa \nValgast Lätimaale \nValgamaa \n	Valgamaa Kutseõppekeskus korraldab Eesti Maaelu arengukava 2007-2013 meetme 1.1.2 projekti nr 112011820661 raames koolituse \n\n	“Valgamaa mesinike õppereisi Läti mesilatesse”   \n\n	Sihtrühm: põllumajandustoodete tootmise\, toidutootmise\, töötlemise või metsa\n	majandamisega tegelevad füüsilised või eraõiguslikud isikud ja tema töötajad \n	Maht:    kaks päeva \n	Toimumisaeg: 10.08-11.08.2012 \n	Buss väljub reedel kell 8.00 Valgamaa Kutseõppekeskuse parklast ja jõuab tagasi laupäeval orienteeruvalt kell 18.00. \n	Moderaator: Aivo Sildnik (atesteeritud mesinduskonsulent\, EML juhatuse liige) \n	Teemad:  Tootmismesilad ja efektiivsed töövõtted. Toodangu mitmekesistamine ja lisandväärtuse andmine. \n\n	Kursus on sihtrühmale tasuta ja sisaldab transporti\, toitlustust ning majutust. \n	Kohtade arv on piiratud\, VAJALIK EELREGISTREERIMINE. \n	Osalejatel peab kaasas olema isikut tõendav dokument. \n	Info ja registreerimine: Kalev Laul 5240174\, kalev.laul[A]valgalv.ee  \n	Ürituse korraldamist toetab Euroopa Liit. \n\n	  \n\n	 
URL:https://www.pikk.ee/sundmus/valgamaa-mesinike-oppereis-lati-mesilatesse/
LOCATION:Järvamaa
CATEGORIES:Muu
END:VEVENT
END:VCALENDAR