BEGIN:VCALENDAR
VERSION:2.0
PRODID:-//PIKK.ee - ECPv6.13.2.1//NONSGML v1.0//EN
CALSCALE:GREGORIAN
METHOD:PUBLISH
X-WR-CALNAME:PIKK.ee
X-ORIGINAL-URL:https://www.pikk.ee
X-WR-CALDESC:Events for PIKK.ee
REFRESH-INTERVAL;VALUE=DURATION:PT1H
X-Robots-Tag:noindex
X-PUBLISHED-TTL:PT1H
BEGIN:VTIMEZONE
TZID:Europe/Tallinn
BEGIN:DAYLIGHT
TZOFFSETFROM:+0200
TZOFFSETTO:+0300
TZNAME:EEST
DTSTART:20120325T010000
END:DAYLIGHT
BEGIN:STANDARD
TZOFFSETFROM:+0300
TZOFFSETTO:+0200
TZNAME:EET
DTSTART:20121028T010000
END:STANDARD
END:VTIMEZONE
BEGIN:VEVENT
DTSTART;VALUE=DATE:20120814
DTEND;VALUE=DATE:20120815
DTSTAMP:20260421T180258
CREATED:20171231T220000Z
LAST-MODIFIED:20171231T220000Z
UID:10005419-1344902400-1344988799@www.pikk.ee
SUMMARY:AIANDUSKOOLITUS
DESCRIPTION:Võrumaa \nVõrumaa \nVõrumaa \n\n	Aiandus ja aiakujundus käivad ikka käsikäes. \n\n	 Viinamarjakasvatus \n\n	\n	 8.30  Väljasõit taluliidu juurest; Liiva 11 \n\n	9.00  külastame  meie kandi tuntuimat viinamarjakasvatajat Liia Kaskat\, saadakse teadmisi viinamarjade kasvatamisest\, aia  rajamisest ja hooldamisest\, võimalus ka degusteerida. \n\n	12.00 Väikemetsa talu külastus \n\n	Katmikala viinamarjakasvatusest  – Gaile Tammemägi \n\n	14.00  Külastame Kaija Pruuli maasikaistandust ja koduaeda. \n\n	Väike lõunapaus \n\n	16.00 JÕUAME VÕRRU TAGASI \n\n	PÄEVA OSAMAKS ON 5 € \n\n	Vajalik eelregistreerimine 10.august   53 499 454 ( Marika Parv) \n\n	 Üritust toetab Euroopa Liit.
URL:https://www.pikk.ee/sundmus/aianduskoolitus/
LOCATION:Võrumaa\, Võrumaa
CATEGORIES:Taimekasvatus
GEO:57.7377372;27.1398938
END:VEVENT
END:VCALENDAR