BEGIN:VCALENDAR
VERSION:2.0
PRODID:-//PIKK.ee - ECPv6.13.2.1//NONSGML v1.0//EN
CALSCALE:GREGORIAN
METHOD:PUBLISH
X-ORIGINAL-URL:https://www.pikk.ee
X-WR-CALDESC:Events for PIKK.ee
REFRESH-INTERVAL;VALUE=DURATION:PT1H
X-Robots-Tag:noindex
X-PUBLISHED-TTL:PT1H
BEGIN:VTIMEZONE
TZID:Europe/Tallinn
BEGIN:DAYLIGHT
TZOFFSETFROM:+0200
TZOFFSETTO:+0300
TZNAME:EEST
DTSTART:20120325T010000
END:DAYLIGHT
BEGIN:STANDARD
TZOFFSETFROM:+0300
TZOFFSETTO:+0200
TZNAME:EET
DTSTART:20121028T010000
END:STANDARD
END:VTIMEZONE
BEGIN:VEVENT
DTSTART;VALUE=DATE:20120820
DTEND;VALUE=DATE:20120821
DTSTAMP:20260420T090617
CREATED:20171231T220000Z
LAST-MODIFIED:20171231T220000Z
UID:10005295-1345420800-1345507199@www.pikk.ee
SUMMARY:Õppereis Poolamaale
DESCRIPTION:Võrumaa \nPoolamaa \nVõrumaa \n\n\n		MTÜ Võrumaa Talupidajate Liidu  Nõuandekeskus   korraldab õppereisi  Poolamaale\, eesmärgiga tutvuda Poola aiandus ja põllumajandusettevõttetega. Külastatakse suurimat Poola aiandusnäitust  2012.  Õppereisi toetatakse Turuarendustoetuse  2012 meetmest. \n\n\n	 
URL:https://www.pikk.ee/sundmus/oppereis-poolamaale/
LOCATION:Võrumaa\, Võrumaa
CATEGORIES:Turundus
GEO:57.7377372;27.1398938
END:VEVENT
END:VCALENDAR