BEGIN:VCALENDAR
VERSION:2.0
PRODID:-//PIKK.ee - ECPv6.13.2.1//NONSGML v1.0//EN
CALSCALE:GREGORIAN
METHOD:PUBLISH
X-ORIGINAL-URL:https://www.pikk.ee
X-WR-CALDESC:Events for PIKK.ee
REFRESH-INTERVAL;VALUE=DURATION:PT1H
X-Robots-Tag:noindex
X-PUBLISHED-TTL:PT1H
BEGIN:VTIMEZONE
TZID:Europe/Tallinn
BEGIN:DAYLIGHT
TZOFFSETFROM:+0200
TZOFFSETTO:+0300
TZNAME:EEST
DTSTART:20120325T010000
END:DAYLIGHT
BEGIN:STANDARD
TZOFFSETFROM:+0300
TZOFFSETTO:+0200
TZNAME:EET
DTSTART:20121028T010000
END:STANDARD
END:VTIMEZONE
BEGIN:VEVENT
DTSTART;VALUE=DATE:20120827
DTEND;VALUE=DATE:20120828
DTSTAMP:20260420T090612
CREATED:20171231T220000Z
LAST-MODIFIED:20171231T220000Z
UID:10005404-1346025600-1346111999@www.pikk.ee
SUMMARY:Koolitus "Töökeskkonnavolinike ja töökeskkonnanõukogu liikmete väljaõppekursus"
DESCRIPTION:Tartumaa \nTartu\, Eesti Maaülikool\, Kreutzwaldi 56 (III korrus\, ruum 303) \nTartumaa \n\n	  \n\n	Eesti Maaülikool korraldab Eesti Maaelu Arengukava 2007-2013 meetme 1.1. raames koolituse\n\n	\n	TÖÖKESKKONNAVOLINIKE JA TÖÖKESKKONNANÕUGKOGU LIIKMETE VÄLJAÕPPEKURSUS\n	 \n\n	Sihtrühm põllumajandustoodete tootmise\, toidutootmise\, töötlemise või metsa\n\n	                  majandamisega tegelevad füüsilised või eraõiguslikud juriidilised isikud ja tema töötajad\n\n	 \n\n	Maht        24 akadeemilist tundi auditoorset tööd (3 koolituspäeva)\n\n	 \n\n	Toimumisaeg ja -koht \n	 \n\n	                   27-29.08.2012 (E-K)\, Eesti Maaülikool\, Kreutzwaldi 56 (III korrus\, ruum 303)\, Tartu;\n\n	                   Eerika katsefarm\, Aretuse tn 6\, Märja\, Tähtvere vald\, Tartumaa;\n\n	                   Rõhu katseaed\, Rõhu\, Tähtvere vald\, Tartumaa\n	 \n\n	 Teemad\n\n	– Üldsätted: tööandja ja töötaja kohustused ja õigused\n\n	– Tööõnnetus ja kutsehaigestumine\, riiklik järelevalve\n\n	– Töötervishoiu ja tööohutuse korraldus: riigi ja ettevõtte tasandil\, sisekontroll\, töötervishoiu ja tööohutuse  tegevuskava\, töötajate tervisekontroll\n\n	– Riskianalüüs: töökeskkonna ohutegurid ja nende mõju\n\n	 \n\n	Õppejõud\n\n	Silja Soon\, Tööinspektsiooni töötervishoiu peaspetsialist\n\n	 \n\n	Ajakava 27.08 ja 29.08 (esmaspäev ja kolmapäev)\n\n	10.00 – 11.30 õppetöö (Kreutzwaldi 56\, ruum 303)\n\n	11.30 – 11.45 paus\n\n	11.45 – 13.15 õppetöö\n\n	13.15 – 13.45 lõunapaus\n\n	13.45 – 15.15 õppetöö\n\n	15.15 – 15.30 paus\n\n	15.30 – 17.00 õppetöö\n\n	 \n\n	Ajakava 28.08 (teisipäev)\n\n	09.00 – 11.15 õppetöö (Kreutzwaldi 56\, ruum 303)\n\n	11.15 – 11.30 paus\n\n	11.30 – 13.00 õppetöö (Eerika katsefarm)\n\n	13.00 – 13.45 lõunapaus\n\n	13.45 – 16.00 õppetöö (Rõhu katseaed)\n\n	 \n\n	Kursus on sihtrühmale tasuta.  \n\n	 \n\n	NB! Eerika katsefarmi ja Rõhu katseaia külastused toimuvad osalejate endi transpordiga. \n\n	 \n\n	Kohtade arv on piiratud\, VAJALIK EELREGISTREERIMINE maaülikooli avatud ülikooli tel 731 3175\, 731 3275\, 731 3174 või täites registreerumisvormi maaülikooli kodulehe aadressil http://avatudylikool.emu.ee/taiendope/tahtis/  \n	Koolituse korraldamist toetab Euroopa Liit. \n	 
URL:https://www.pikk.ee/sundmus/koolitus-tookeskkonnavolinike-ja-tookeskkonnanoukogu-liikmete-valjaoppekursus/
LOCATION:Tartumaa\, Eesti
CATEGORIES:Muu
GEO:58.4057128;26.801576
END:VEVENT
END:VCALENDAR