BEGIN:VCALENDAR
VERSION:2.0
PRODID:-//PIKK.ee - ECPv6.13.2.1//NONSGML v1.0//EN
CALSCALE:GREGORIAN
METHOD:PUBLISH
X-WR-CALNAME:PIKK.ee
X-ORIGINAL-URL:https://www.pikk.ee
X-WR-CALDESC:Events for PIKK.ee
REFRESH-INTERVAL;VALUE=DURATION:PT1H
X-Robots-Tag:noindex
X-PUBLISHED-TTL:PT1H
BEGIN:VTIMEZONE
TZID:Europe/Tallinn
BEGIN:DAYLIGHT
TZOFFSETFROM:+0200
TZOFFSETTO:+0300
TZNAME:EEST
DTSTART:20120325T010000
END:DAYLIGHT
BEGIN:STANDARD
TZOFFSETFROM:+0300
TZOFFSETTO:+0200
TZNAME:EET
DTSTART:20121028T010000
END:STANDARD
END:VTIMEZONE
BEGIN:VEVENT
DTSTART;VALUE=DATE:20121212
DTEND;VALUE=DATE:20121213
DTSTAMP:20260421T214608
CREATED:20171231T220000Z
LAST-MODIFIED:20171231T220000Z
UID:10005360-1355270400-1355356799@www.pikk.ee
SUMMARY:Keskkonnasõbraliku majandamise täienduskoolitus
DESCRIPTION:Pärnumaa \nTori seltsimaja\, Tori vald\, Tori  \nPärnumaa \n\n	Koolitused algavad kõikjal kell 10 ja lõpevad orienteeruvalt 16.00. \n\n	Teemad:  \n\n\n		Mulla tähtsusest inimesele ja loodusele\n\n		Keskkonnasõbralik taimekaitse\n\n		Milleks põllumjandusmaastiku elurikkus\n\n\n	  \n\n	29.10 Tartumaa – Puhja Seltsimaja\, Viljandi tee 24\, Puhja (http://www.puhja.ee) \n\n	30.10 Lääne-Virumaa – Pariisi Puhkeküla\, Kadrina vald\, Pariisi (http://www.pariisi.ee) \n\n	30.10 Võrumaa – Ala-Rõuge Külalistemaja\, Võru mnt 12\, Rõuge (http://www.alarouge.ee/) \n\n	31.10 Jõgevamaa – Kamari Seltsimaja\, Põltsamaa vald\, Kamari küla (http://kamari.ee/seltsimaja/) \n\n	31.10 Viljandimaa – Männiku Metsatalu\, Paistu vald\, Intsu küla (http://metsatalu.ee/) \n\n	  \n\n	21.11 Raplamaa – Kehtna Majandus- ja Tehnoloogiakool\, Kooli 1\, Kehtna (http://www.kehtna.edu.ee/ ) \n\n	21.11 Põlvamaa – Eesti Fototurismi Keskus\, Mooste vald\, Mooste (http://www.fototurism.ee) \n\n	21.11 Pärnumaa – Ojako turismitalu\, Audru vald\, Marksa küla (http://www.ojako.ee/) \n\n	22.11 Läänemaa – Lihula kultuurimaja\, Tallinna mnt 1A\, Lihula (http://www.lihula.ee/) \n\n	  \n\n	04.12 Võrumaa – Vastseliina kultuurimaja\, Võidu tn 38\, Vastseliina (http://www.vastseliina.ee/) \n\n	05.12 Tartumaa – Võnnu kultuurimaja\, Tartu mnt 24\, Võnnu (http://www.vonnukultuur.blogspot.com/) \n\n	  \n\n	11.12 Lääne-Virumaa – Kiltsi põhikool\, Väike-Maarja vald\, Liivaküla küla \n\n	 (http://www.v-maarja.ee/kiltsipk/) \n\n	11.12 Pärnumaa – Tori seltsimaja\, Tori vald\, Tori (https://torivald.kovtp.ee/et/rahvamaja) \n\n	12.12 Raplamaa – Rapla kultuurikeskus\, Tallinna mnt 17A\, Rapla (http://www.raplakultuur.ee/) \n\n	12.12 Viljandimaa – hotell Centrum\, Tallinna 24\, Viljandi (http://www.centrum.ee) \n\n	  \n\n	Koolitused on tasuta ning kõik osalejad saavad KSM kohustusliku täienduskoolituse tunnistuse. \n\n	Koolituse läbiviimist toetab Euroopa Liit. \n\n	Osaleda saavad ainult EELREGISTREERITUD osalejad (piiratud arv kohti)! \n\n	Eelregistreeruda saab telefonil: 6 729 143 (Sirje Reintam) või e-mailil: sirje.reintam[A]pmk.agri.ee \n\n	Registreerimine lõpeb 3 päeva enne koolituse toimumist! \n\n	\n	Küsimuste korral pöörduda: katrin.vask[A]pmk.agri.ee  või  53 482 682
URL:https://www.pikk.ee/sundmus/keskkonnasobraliku-majandamise-taienduskoolitus-13/
LOCATION:Pärnumaa\, Pärnumaa\, Eesti
CATEGORIES:Muu
END:VEVENT
BEGIN:VEVENT
DTSTART;VALUE=DATE:20121212
DTEND;VALUE=DATE:20121213
DTSTAMP:20260421T214608
CREATED:20171231T220000Z
LAST-MODIFIED:20171231T220000Z
UID:10005363-1355270400-1355356799@www.pikk.ee
SUMMARY:Keskkonnasõbraliku majandamise täienduskoolitus
DESCRIPTION:Raplamaa \nRapla kultuurikeskus \nRaplamaa \n\n	Koolitused algavad kõikjal kell 10 ja lõpevad orienteeruvalt 16.00. \n\n	Teemad:  \n\n\n		Mulla tähtsusest inimesele ja loodusele\n\n		Keskkonnasõbralik taimekaitse\n\n		Milleks põllumjandusmaastiku elurikkus\n\n\n	  \n\n	29.10 Tartumaa – Puhja Seltsimaja\, Viljandi tee 24\, Puhja (http://www.puhja.ee) \n\n	30.10 Lääne-Virumaa – Pariisi Puhkeküla\, Kadrina vald\, Pariisi (http://www.pariisi.ee) \n\n	30.10 Võrumaa – Ala-Rõuge Külalistemaja\, Võru mnt 12\, Rõuge (http://www.alarouge.ee/) \n\n	31.10 – Jõgevamaa – Kamari Seltsimaja\, Põltsamaa vald\, Kamari küla (http://kamari.ee/seltsimaja/) \n\n	31.10 Viljandimaa – Männiku Metsatalu\, Paistu vald\, Intsu küla (http://metsatalu.ee/) \n\n	  \n\n	21.11 Raplamaa – Kehtna Majandus- ja Tehnoloogiakool\, Kooli 1\, Kehtna (http://www.kehtna.edu.ee/ ) \n\n	21.11 Põlvamaa – Eesti Fototurismi Keskus\, Mooste vald\, Mooste (http://www.fototurism.ee) \n\n	21.11 Pärnumaa – Ojako turismitalu\, Audru vald\, Marksa küla (http://www.ojako.ee/) \n\n	22.11 Läänemaa – Lihula kultuurimaja\, Tallinna mnt 1A\, Lihula (http://www.lihula.ee/) \n\n	  \n\n	04.12 Võrumaa – Vastseliina kultuurimaja\, Võidu tn 38\, Vastseliina (http://www.vastseliina.ee/) \n\n	05.12 Tartumaa – Võnnu kultuurimaja\, Tartu mnt 24\, Võnnu (http://www.vonnukultuur.blogspot.com/) \n\n	  \n\n	11.12 Lääne-Virumaa – Kiltsi põhikool\, Väike-Maarja vald\, Liivaküla küla \n\n	 (http://www.v-maarja.ee/kiltsipk/) \n\n	11.12 Pärnumaa – Tori seltsimaja\, Tori vald\, Tori (https://torivald.kovtp.ee/et/rahvamaja) \n\n	12.12 Raplamaa – Rapla kultuurikeskus\, Tallinna mnt 17A\, Rapla (http://www.raplakultuur.ee/) \n\n	12.12 Viljandimaa – hotell Centrum\, Tallinna 24\, Viljandi (http://www.centrum.ee) \n\n	  \n\n	Koolitused on tasuta ning kõik osalejad saavad KSM kohustusliku täienduskoolituse tunnistuse. \n\n	Koolituse läbiviimist toetab Euroopa Liit. \n\n	Osaleda saavad ainult EELREGISTREERITUD osalejad (piiratud arv kohti)! \n\n	Eelregistreeruda saab telefonil: 6 729 143 (Sirje Reintam) või e-mailil: sirje.reintam[A]pmk.agri.ee \n\n	Registreerimine lõpeb 3 päeva enne koolituse toimumist! \n\n	\n	Küsimuste korral pöörduda: katrin.vask[A]pmk.agri.ee  või  53 482 682
URL:https://www.pikk.ee/sundmus/keskkonnasobraliku-majandamise-taienduskoolitus-14/
LOCATION:Raplamaa\, Raplamaa
CATEGORIES:Muu
GEO:58.8492625;24.7346569
END:VEVENT
BEGIN:VEVENT
DTSTART;VALUE=DATE:20121212
DTEND;VALUE=DATE:20121213
DTSTAMP:20260421T214608
CREATED:20171231T220000Z
LAST-MODIFIED:20171231T220000Z
UID:10005396-1355270400-1355356799@www.pikk.ee
SUMMARY:Piimakarjakasvatus Lääne-Virumaal
DESCRIPTION:Ida-Virumaa \nSaka Mõis\, Kohtla vald 30103\, Ida-Virumaa \nIda-Virumaa \n\n	Rakvere Piimaühistu TÜ korraldab koostöös MTÜ Virumaa Põllumeeste Liidu Lääne-Virumaa Põllumajanduse Nõuandekeskusega Lääne-Virumaaa piimatootjatele\, sh Rakvere Piimaühistu TÜ liikmetele\, suunatud 2-päevase koolituse 12.12.2012-13.12.2012 Saka Mõisas. \n\n	Koolituse päevakava on järgmine: \n\n	12.12.2012 \n\n	10.30-11.00 Saabumine\, tervituskohv \n\n	11.00-13.00 Lääne-Virumaa piimatootjate 2012. aasta piimatoodangu\, söötmise ja karja liikumise ökonoomika analüüs (Aadi Remmik) \n\n	13.00-14.00 Lõunasöök \n\n	14.00-15.30 Lääne-Virumaa piimatootjate majandusliku konkurentsivõime suurendamine läbi keskkonnahoidlikuma ja efektiivsema äritegevuse (Aadi Remmik) \n\n	15.30-16.00 Kohvipaus \n\n	16.00-18.00 2012. aasta Lääne-Virumaa piimatootjate silohooaeg (Pilleriin Puskar) \n\n	19:00 Õhtusöök \n\n	  \n\n	13.12.2012 \n\n	8.00-9.00 hommikusöök \n\n	9.00-10.30 Ühistegevuse arendamine Lääne-Virumaa piimatootjate vahel (Olav Kreen) \n\n	10.30-10.45 Kohvipaus \n\n	10.45-12.15 Lääne-Virumaa piimandussektori arenguseminar (Olav Kreen) \n\n	12.15-13.00 Lõunasöök \n\n	13.00-15.00 Lääne-Virumaa piimandussektori arenguseminar (Olav Kreen) \n\n	15.00 Lahkumine \n\n	  \n\n	Palume eelnevalt registreerida e-postil priit@rpy.ee. Samuti teatada\, kes soovib majutust. \n\n	  \n\n	Koolituse korraldamist toetab Euroopa Liit ja koolitus on osalejatele tasuta.
URL:https://www.pikk.ee/sundmus/piimakarjakasvatus-laane-virumaal/
LOCATION:Ida-Virumaa\, Ida-Virumaa\, Eesti
CATEGORIES:Loomakasvatus
GEO:59.2592663;27.4136535
END:VEVENT
BEGIN:VEVENT
DTSTART;VALUE=DATE:20121212
DTEND;VALUE=DATE:20121213
DTSTAMP:20260421T214608
CREATED:20171231T220000Z
LAST-MODIFIED:20171231T220000Z
UID:10005567-1355270400-1355356799@www.pikk.ee
SUMMARY:Keskkonnasõbraliku majandamise täienduskoolitus
DESCRIPTION:Viljandimaa \nHotell Centrum\, Tallinna 24\, Viljandi \nViljandimaa \n\n	Koolitused algavad kõikjal kell 10 ja lõpevad orienteeruvalt 16.00. \n\n	Teemad:  \n\n\n		Mulla tähtsusest inimesele ja loodusele\n\n		Keskkonnasõbralik taimekaitse\n\n		Milleks põllumjandusmaastiku elurikkus\n\n\n	  \n\n	29.10 Tartumaa – Puhja Seltsimaja\, Viljandi tee 24\, Puhja (http://www.puhja.ee) \n\n	30.10 Lääne-Virumaa – Pariisi Puhkeküla\, Kadrina vald\, Pariisi (http://www.pariisi.ee) \n\n	30.10 Võrumaa – Ala-Rõuge Külalistemaja\, Võru mnt 12\, Rõuge (http://www.alarouge.ee/) \n\n	31.10 Jõgevamaa – Kamari Seltsimaja\, Põltsamaa vald\, Kamari küla (http://kamari.ee/seltsimaja/) \n\n	31.10 Viljandimaa – Männiku Metsatalu\, Paistu vald\, Intsu küla (http://metsatalu.ee/) \n\n	  \n\n	21.11 Raplamaa – Kehtna Majandus- ja Tehnoloogiakool\, Kooli 1\, Kehtna (http://www.kehtna.edu.ee/ ) \n\n	21.11 Põlvamaa – Eesti Fototurismi Keskus\, Mooste vald\, Mooste (http://www.fototurism.ee) \n\n	21.11 Pärnumaa – Ojako turismitalu\, Audru vald\, Marksa küla (http://www.ojako.ee/) \n\n	22.11 Läänemaa – Lihula kultuurimaja\, Tallinna mnt 1A\, Lihula (http://www.lihula.ee/) \n\n	  \n\n	04.12 Võrumaa – Vastseliina kultuurimaja\, Võidu tn 38\, Vastseliina (http://www.vastseliina.ee/) \n\n	05.12 Tartumaa – Võnnu kultuurimaja\, Tartu mnt 24\, Võnnu (http://www.vonnukultuur.blogspot.com/) \n\n	  \n\n	11.12 Lääne-Virumaa – Kiltsi põhikool\, Väike-Maarja vald\, Liivaküla küla \n\n	 (http://www.v-maarja.ee/kiltsipk/) \n\n	11.12 Pärnumaa – Tori seltsimaja\, Tori vald\, Tori (https://torivald.kovtp.ee/et/rahvamaja) \n\n	12.12 Raplamaa – Rapla kultuurikeskus\, Tallinna mnt 17A\, Rapla (http://www.raplakultuur.ee/) \n\n	12.12 Viljandimaa – hotell Centrum\, Tallinna 24\, Viljandi (http://www.centrum.ee) \n\n	  \n\n	Koolitused on tasuta ning kõik osalejad saavad KSM kohustusliku täienduskoolituse tunnistuse. \n\n	Koolituse läbiviimist toetab Euroopa Liit. \n\n	Osaleda saavad ainult EELREGISTREERITUD osalejad (piiratud arv kohti)! \n\n	Eelregistreeruda saab telefonil: 6 729 143 (Sirje Reintam) või e-mailil: sirje.reintam[A]pmk.agri.ee \n\n	Registreerimine lõpeb 3 päeva enne koolituse toimumist! \n\n	\n	Küsimuste korral pöörduda: katrin.vask[A]pmk.agri.ee  või  53 482 682
URL:https://www.pikk.ee/sundmus/keskkonnasobraliku-majandamise-taienduskoolitus-15/
LOCATION:Viljandimaa\, Viljandimaa\, Eesti
CATEGORIES:Muu
GEO:58.2821746;25.5752233
END:VEVENT
END:VCALENDAR