BEGIN:VCALENDAR
VERSION:2.0
PRODID:-//PIKK.ee - ECPv6.13.2.1//NONSGML v1.0//EN
CALSCALE:GREGORIAN
METHOD:PUBLISH
X-WR-CALNAME:PIKK.ee
X-ORIGINAL-URL:https://www.pikk.ee
X-WR-CALDESC:Events for PIKK.ee
REFRESH-INTERVAL;VALUE=DURATION:PT1H
X-Robots-Tag:noindex
X-PUBLISHED-TTL:PT1H
BEGIN:VTIMEZONE
TZID:Europe/Tallinn
BEGIN:DAYLIGHT
TZOFFSETFROM:+0200
TZOFFSETTO:+0300
TZNAME:EEST
DTSTART:20130331T010000
END:DAYLIGHT
BEGIN:STANDARD
TZOFFSETFROM:+0300
TZOFFSETTO:+0200
TZNAME:EET
DTSTART:20131027T010000
END:STANDARD
END:VTIMEZONE
BEGIN:VEVENT
DTSTART;VALUE=DATE:20130121
DTEND;VALUE=DATE:20130122
DTSTAMP:20260424T172518
CREATED:20171231T220000Z
LAST-MODIFIED:20171231T220000Z
UID:10005424-1358726400-1358812799@www.pikk.ee
SUMMARY:Maakondlik  infopäev "Taimekaitse teostamine"
DESCRIPTION:Viljandimaa \nOlustvere  Teenindus  ja  Maamajanduskoolis \nViljandimaa \n\n	Viljandi  Põllumajanduse  Nõuandeühing  korraldab   Taimekaitse  teostamise  koolituse   Olustvere  Teenindus  ja  Maamajanduskoolis  MAK-i  meetme  1.1  raames  21.01.2013  algusega  kell  9.00.  Koolitus  on  tootjatele  ja  sisendite  müüjatele  kelle  taimekaitsetunnistuse kehtivus  on  lõppemas. \n\n	Info  ja  registreerimine   e-posti  aadress:  nouandeyhing[A]vpnu.ee  või  telefonil  4333608
URL:https://www.pikk.ee/sundmus/maakondlik-infopaev-taimekaitse-teostamine/
LOCATION:Viljandimaa\, Viljandimaa\, Eesti
CATEGORIES:Taimekasvatus
GEO:58.2821746;25.5752233
END:VEVENT
BEGIN:VEVENT
DTSTART;VALUE=DATE:20130121
DTEND;VALUE=DATE:20130122
DTSTAMP:20260424T172518
CREATED:20171231T220000Z
LAST-MODIFIED:20171231T220000Z
UID:10005574-1358726400-1358812799@www.pikk.ee
SUMMARY:Infopäev "Aiandusettevõtja - tööandja"
DESCRIPTION:Pärnumaa \nTihemetsa\, Pärnumaa Kutsehariduskeskuse (PKHK) Voltveti koolituskeskus  \nPärnumaa \n\n	Pärnumaa Kutsehariduskeskuse Voltveti koolituskeskus annab teada\, et:\n	 \n	21. jaanuaril 2013 algusega kell 9.00 korraldab Pärnumaa Kutsehariduskeskuse (PKHK) Voltveti koolituskeskus PRIA poolt rahastatud MAK meetme 1.1 „Koolitus- ja teavitustegevus“ (viitenumber taotlusel 111011670318) raames tasuta infopäeva \n	Aiandusettevõtja – tööandja. \n	Info PKHK kodulehel www.hariduskeskus.ee või tel 449 1062 või tel 53924376. \n	 
URL:https://www.pikk.ee/sundmus/infopaev-aiandusettevotja-tooandja/
LOCATION:Pärnumaa\, Pärnumaa\, Eesti
CATEGORIES:Muu
END:VEVENT
END:VCALENDAR