BEGIN:VCALENDAR
VERSION:2.0
PRODID:-//PIKK.ee - ECPv6.13.2.1//NONSGML v1.0//EN
CALSCALE:GREGORIAN
METHOD:PUBLISH
X-WR-CALNAME:PIKK.ee
X-ORIGINAL-URL:https://www.pikk.ee
X-WR-CALDESC:Events for PIKK.ee
REFRESH-INTERVAL;VALUE=DURATION:PT1H
X-Robots-Tag:noindex
X-PUBLISHED-TTL:PT1H
BEGIN:VTIMEZONE
TZID:Europe/Tallinn
BEGIN:DAYLIGHT
TZOFFSETFROM:+0200
TZOFFSETTO:+0300
TZNAME:EEST
DTSTART:20130331T010000
END:DAYLIGHT
BEGIN:STANDARD
TZOFFSETFROM:+0300
TZOFFSETTO:+0200
TZNAME:EET
DTSTART:20131027T010000
END:STANDARD
END:VTIMEZONE
BEGIN:VEVENT
DTSTART;VALUE=DATE:20130129
DTEND;VALUE=DATE:20130130
DTSTAMP:20260424T025006
CREATED:20171231T220000Z
LAST-MODIFIED:20171231T220000Z
UID:10005436-1359417600-1359503999@www.pikk.ee
SUMMARY:Köögivilja ja kartuli maheseemnekasvatuse koolitus
DESCRIPTION:Tartumaa \nTartu\, EMÜ Mahekeskus\, Õssu küla\, Ülenurme vald\, asukoht vt http://mahekeskus.emu.ee/uldinfo/kontakt \nTartumaa \n\n	  \n\n	Eesti Mahepõllumajanduse SA korraldab maheseemnekasvatuse koolitused. \n\n	Esmalt toimuvad kaks samateemalist üldisemat maheseemnekasvatuse nõudeid lahtiseletavat päeva ja siis eri kultuurigruppide mahesemnekasvatusest juba täpsemalt. \n\n	\n	Koolitustel osalemine on tasuta. Osalemiseks on vajalik registreerimine e-mailil mahepm@gmail.com (eelistatult) või telefonil\n	5662 0955. Registreerimisel kindlasti esitada oma nimi\, soovitud koolituse koht ja kuupäev. Kohtade arv on piiratud.\n	Koolitused lähevad arvesse mahepõllumajandusliku tootmise toetuse raames nõutava kohustusliku koolitusena. \n\n	Eesti Mahepõllumajanduse SA\n	  \n\n	  \n\n	Maheseemnekasvatuse üldised nõuded \n\n	22.01 Rakvere\, Margeri maja\, Pikk tn 26 I korrus \n\n	24.01 Maheseemnekasvatuse üldised nõuded Pärnu- Ettevõtluskõrgkool Mainoris\, Rüütli 2\, Pärnu \n\n	  \n\n	Kava: \n\n	9:00 Maheseemne kasvatamise käivitamine. \n\n	Vajadus\, võimalused\, eeldused ja nõuded. \n\n	12:00 Kohvipaus \n\n	12:20 Maheseeme ja selle erinevus tavaseemnest. Sordi omaniku – esindaja roll sertifitseeritud seemnete kasvatamisel \n\n	14:00 Tootjale esitatavad nõuded sertifitseeritud seemne kasvatamiseks \n\n	15:00 Lõpp \n\n	  \n\n	Lektorid: \n\n	Margus Ess (Jõgeva SAI)\, Kristina Soon (PMA) ja Margo Mansberg \n\n	  \n\n	  \n\n	Liblikõieliste heintaimede maheseemnekasvatus \n\n	28.01 Haapsalu\, Hotell Päeva Villa (restoranis)\, Lai 7 \n\n	30.01 Viljandi\, Ettevõtluskõrgkool Mainor\, ruum A4\, Tallinna 19/21 \n\n	  \n\n	Kava: \n\n	9:00 Liblikõieliste heintaimede seemnekasvatuse agrotehnika \n\n	12:00 Kohvipaus \n\n	12:20 Erinevate liblikõieliste heintaimede nõuded kasvutingimustele\, seemnekasvatuse olulisemad reeglid\, koristusjärgne töötlemine \n\n	15:00 Lõpp \n\n	  \n\n	Lektorid: \n\n	Margus Ess ja Sirje Tamm (Jõgeva SAI)\, Margo Mansberg \n\n	  \n\n	  \n\n	Köögivilja ja kartuli maheseemnekasvatus \n\n	29.01 Tartu\, EMÜ Mahekeskus\, Õssu küla\, Ülenurme vald\, asukoht vt http://mahekeskus.emu.ee/uldinfo/kontakt \n\n	  \n\n	Kava: \n\n	9:00 Köögivilja seemnekasvatus ja eripära maheviljeluses. \n\n	Köögivilja ja kartuli agrotehnika maheseemnekasvatuses \n\n	12:00 Kohvipaus \n\n	12:20 Köögivilja ja kartuli agrotehnika maheseemnekasvatuses jätkub \n\n	14:00 Kartuli seemnekasvatus ja sertifitseeritud seemnele esitatavad nõuded \n\n	15:00 Lõpp \n\n	  \n\n	Lektorid: \n\n	Ingrid Bender\, Margus Ess\, Ilmar Polli (Jõgeva SAI) \n\n	  \n\n	  \n\n	Teravilja maheseemnekasvatus \n\n	31.01 Rakvere\, Margeri maja\, Pikk tn 26 I korrus \n\n	  \n\n	Kava: \n\n	9:00 Teravilja agrotehnika maheseemnekasvatuses. Probleemsemad umbrohud teravilja seemnekasvatuses \n\n	12:00 Kohvipaus \n\n	12:20 Teraviljade haigused ja kahjurid \n\n	13:20 Teraviljaseemne koristusjärgne töötlemine ja pakendamine \n\n	15:00 Lõpp \n\n	  \n\n	Lektorid: \n\n	Margus Ess\, Pille Sooväli (Jõgeva SAI) \n\n	 
URL:https://www.pikk.ee/sundmus/koogivilja-ja-kartuli-maheseemnekasvatuse-koolitus/
LOCATION:Tartumaa\, Eesti
CATEGORIES:Taimekasvatus
GEO:58.4057128;26.801576
END:VEVENT
BEGIN:VEVENT
DTSTART;VALUE=DATE:20130129
DTEND;VALUE=DATE:20130130
DTSTAMP:20260424T025006
CREATED:20171231T220000Z
LAST-MODIFIED:20171231T220000Z
UID:10005699-1359417600-1359503999@www.pikk.ee
SUMMARY:Keskkonnasõbraliku majandamise täienduskoolitus
DESCRIPTION:Põlvamaa \nhotell Pesa saal\, Uus tn 5\, Põlva \nPõlvamaa \n\n	Keskkonnasõbraliku majandamise (KSM) toetuse taotlejad peavad kohustuseperioodi jooksul läbima ühe 6- tunnise KSM täienduskoolituse. \n\n	VIIMASED keskkonnasõbraliku majandamise (KSM) MAK  2007-2013 täienduskoolitused toimuvad järgnevates kohtades: \n\n	Algus kõikjal 10.00 orienteeruv lõpp 16.00 \n\n	Teemad: \n\n	Mulla tähtsusest inimesele ja loodusele\n	Keskkonnasõbralik taimekaitse\n	Milleks põllumajandusmaastiku elurikkus \n\n	  \n\n	22.01 Viljandimaa – Viljandi Maavalitsuse saal\, Vabaduse plats 2\, Viljandi http://viljandi.maavalitsus.ee \n\n	22.01 Ida-Virumaa – Ida-Virumaa Talupidajate Liidu saal\, Rakvere tn 27\, Jõhvi http://www.ivtl.ee/ \n\n	23.01 Pärnumaa – Pärnumaa Talupidajate Liidu saal\, P. Kerese 4\, Pärnu http://www.nouanne.ee \n\n	24.01 Lääne-Virumaa – Aqva Hotel & SPA\, saal Augustus\, Parkali 4\, Rakvere http://www.aqvahotels.ee \n\n	29.01 Põlvamaa – hotell Pesa saal\, Uus tn 5\, Põlva http://www.kagureis.ee \n\n	05.02 Tartumaa – EMÜ vana peahoone aula\, Kreutzwaldi 64\, Tartu http://www.emu.ee/ \n\n	06.02 Jõgevamaa – Jõgeva Kultuurikeskuse Kammersaal\, Aia 6\, Jõgeva  http://www.jogevakultuurikeskus.ee/ \n\n	06.02 Saaremaa – hotell Mardi saal K-5\, Vallimaa 5a\, Kuressaare http://www.hotelmardi.eu/ \n\n	07.02 Läänemaa – hotell Kongo saal\, Kalda 19\, Haapsalu http://www.kongohotel.ee/ \n\n	13.02 Võrumaa – hotell Kubija saal\, Männiku 43a\, Võru http://www.kubija.ee \n\n	13.02 Järvamaa – Paide Kultuurikeskuse Kammersaal\, Pärnu 18\, Paide http://paidekultuurikeskus.ee \n\n	13.02 Harjumaa – Põllumajandusuuringute Keskuse saal\, Teaduse 4/6\, Saku  http://pmk.agri.ee/ \n\n	14.02 Valgamaa – Valga Kultuuri- ja Huvialakeskus Ovaalsaal\, Kesk 1\, Valga http://www.valgakultuurikeskus.ee/ \n\n	14.02 Raplamaa – Rapla kultuurikeskus\, Tallinna mnt 17A\, Rapla \n\n	http://www.raplakultuur.ee/ \n\n	  \n\n	Koolitused on tasuta ning kõik osalejad saavad KSM kohustusliku täienduskoolituse tunnistuse. \n\n	Koolituse läbiviimist toetab Euroopa Liit. \n\n	Eelregistreeruda saab telefonil: 6 729 143 (Sirje Reintam) või e-mailil: sirje.reintam[A]pmk.agri.ee \n\n	Registreerimine lõpeb 3 päeva enne koolituse toimumist! \n\n	Lisainfo:  Katrin Vask 7 480 044\, 53 482 682\, katrin.vask[A]pmk.agri.eevõi PMK koduleht
URL:https://www.pikk.ee/sundmus/keskkonnasobraliku-majandamise-taienduskoolitus-20/
LOCATION:Põlvamaa\, Põlvamaa\, Eesti
CATEGORIES:Taimekasvatus
GEO:58.1160622;27.2066394
END:VEVENT
BEGIN:VEVENT
DTSTART;VALUE=DATE:20130129
DTEND;VALUE=DATE:20130130
DTSTAMP:20260424T025006
CREATED:20171231T220000Z
LAST-MODIFIED:20171231T220000Z
UID:10005741-1359417600-1359503999@www.pikk.ee
SUMMARY:Taimekaitse taimekaitsetöötaja tunnistuse pikendamiseks
DESCRIPTION:Põlvamaa \nRäpina Aianduskoolis \nPõlvamaa \n\n	Räpina Aianduskool annab teada\, et korraldab 2013.a. kevadel PRIA rahastusel koolitusi alljärgnevalt:  \n	Taimekaitse koolitus \n	* 29.jaanuar kell 9.00 (8h) Taimekaitse taimekaitsetöötaja tunnistuse pikendamiseks (viitenumber 112012650875) Koolitus toimub Räpina Aianduskoolis \n	* 27.veebruar kell 9.00 (8h) Taimekaitse taimekaitsetöötaja tunnistuse pikendamiseks (viitenumber 112012800977) Koolitus toimub Võrus \n	* 26.märts kell 9.00 (8h) Taimekaitse taimekaitsetöötaja tunnistuse pikendamiseks (viitenumber 112012650844) Koolitus toimub Räpina Aianduskoolis \n	* 16.aprill kell 9.00 (8h) Taimekaitse taimekaitsetöötaja tunnistuse pikendamiseks (viitenumber 112012820896) Koolitus toimub Valgamaal Sangastes \n	* 11.-13.veebruar kell 9.00 (24 h) Taimekaitse taimekaitsetöötaja tunnistuse saamiseks (viitenumber 112012650848) Koolitus toimub Räpina Aianduskoolis \n	* 12.-13.märts kell 9.00 (16h) Taimekaitse taimekaitsetöötaja tunnistuse saamiseks (viitenumber 112012820904) Koolitus toimub Valgamaal Sangastes \n	* 02.-03.aprill kell 9.00 (24h) Taimekaitse taimekaitsetöötaja tunnistuse saamiseks (viitenumber 112012820904) Koolitus toimub  \n	Koolituste läbiviimist toetab Euroopa Liit. \n\n	Täpsem info Räpina Aianduskooli kodulehel www.aianduskool.ee \n	  \n\n	Info:\n	Eda Gross\n	Räpina Aianduskooli täienduskoolituse metoodik\n	tel.: 7961 549; 53 461 209 \n\n	\n	 
URL:https://www.pikk.ee/sundmus/taimekaitse-taimekaitsetootaja-tunnistuse-pikendamiseks/
LOCATION:Põlvamaa\, Põlvamaa\, Eesti
CATEGORIES:Taimekasvatus
GEO:58.1160622;27.2066394
END:VEVENT
END:VCALENDAR