BEGIN:VCALENDAR
VERSION:2.0
PRODID:-//PIKK.ee - ECPv6.13.2.1//NONSGML v1.0//EN
CALSCALE:GREGORIAN
METHOD:PUBLISH
X-WR-CALNAME:PIKK.ee
X-ORIGINAL-URL:https://www.pikk.ee
X-WR-CALDESC:Events for PIKK.ee
REFRESH-INTERVAL;VALUE=DURATION:PT1H
X-Robots-Tag:noindex
X-PUBLISHED-TTL:PT1H
BEGIN:VTIMEZONE
TZID:Europe/Tallinn
BEGIN:DAYLIGHT
TZOFFSETFROM:+0200
TZOFFSETTO:+0300
TZNAME:EEST
DTSTART:20130331T010000
END:DAYLIGHT
BEGIN:STANDARD
TZOFFSETFROM:+0300
TZOFFSETTO:+0200
TZNAME:EET
DTSTART:20131027T010000
END:STANDARD
END:VTIMEZONE
BEGIN:VEVENT
DTSTART;VALUE=DATE:20130131
DTEND;VALUE=DATE:20130201
DTSTAMP:20260421T151725
CREATED:20171231T220000Z
LAST-MODIFIED:20171231T220000Z
UID:10005733-1359590400-1359676799@www.pikk.ee
SUMMARY:Infopäev " Farmer - elustiil või äri"
DESCRIPTION:Hiiumaa \nKäina Kultuurikeskus Mäe tn 2 väike saal \nHiiumaa \n\n	Kell 10.00-14.30 \n\n	Teemad: Olemasolevate ettevõtlusressurrside teadvustamine ja eesmärkide püstitamine. Lüpsilehmade söötmis- ja pidamiskulude optimeerimine. Esmaspoegimisea saavutamine 24-25 kuu jooksul. Farmeri valikud parima lahenduse leidmiseks. \n\n	Lektorid on loomakasvatuse konsulendid Jüri Mets ja Ivi Randmaa \n\n	Infopäev toimub EL MAK meetme 1.1 toetuse abil ja on osalejatele tasuta. \n\n	Korraldaja on Hiiumaa Nõuandekeskus
URL:https://www.pikk.ee/sundmus/infopaev-farmer-elustiil-voi-ari-2/
LOCATION:Hiiumaa\, Hiiumaa\, Eesti
CATEGORIES:Loomakasvatus
END:VEVENT
BEGIN:VEVENT
DTSTART;VALUE=DATE:20130131
DTEND;VALUE=DATE:20130201
DTSTAMP:20260421T151725
CREATED:20171231T220000Z
LAST-MODIFIED:20171231T220000Z
UID:10005437-1359590400-1359676799@www.pikk.ee
SUMMARY:Teravilja maheseemnekasvatuse koolitus
DESCRIPTION:Lääne-Virumaa \n Rakvere\, Margeri maja\, Pikk tn 26 I korrus \nLääne-Virumaa \n\n	  \n\n	Eesti Mahepõllumajanduse SA korraldab maheseemnekasvatuse koolitused. \n\n	Esmalt toimuvad kaks samateemalist üldisemat maheseemnekasvatuse nõudeid lahtiseletavat päeva ja siis eri kultuurigruppide mahesemnekasvatusest juba täpsemalt. \n\n	\n	Koolitustel osalemine on tasuta. Osalemiseks on vajalik registreerimine e-mailil mahepm@gmail.com (eelistatult) või telefonil\n	5662 0955. Registreerimisel kindlasti esitada oma nimi\, soovitud koolituse koht ja kuupäev. Kohtade arv on piiratud.\n	Koolitused lähevad arvesse mahepõllumajandusliku tootmise toetuse raames nõutava kohustusliku koolitusena. \n\n	Eesti Mahepõllumajanduse SA\n	  \n\n	  \n\n	Maheseemnekasvatuse üldised nõuded \n\n	22.01 Rakvere\, Margeri maja\, Pikk tn 26 I korrus \n\n	24.01 Maheseemnekasvatuse üldised nõuded Pärnu- Ettevõtluskõrgkool Mainoris\, Rüütli 2\, Pärnu \n\n	  \n\n	Kava: \n\n	9:00 Maheseemne kasvatamise käivitamine. \n\n	Vajadus\, võimalused\, eeldused ja nõuded. \n\n	12:00 Kohvipaus \n\n	12:20 Maheseeme ja selle erinevus tavaseemnest. Sordi omaniku – esindaja roll sertifitseeritud seemnete kasvatamisel \n\n	14:00 Tootjale esitatavad nõuded sertifitseeritud seemne kasvatamiseks \n\n	15:00 Lõpp \n\n	  \n\n	Lektorid: \n\n	Margus Ess (Jõgeva SAI)\, Kristina Soon (PMA) ja Margo Mansberg \n\n	  \n\n	  \n\n	Liblikõieliste heintaimede maheseemnekasvatus \n\n	28.01 Haapsalu\, Hotell Päeva Villa (restoranis)\, Lai 7 \n\n	30.01 Viljandi\, Ettevõtluskõrgkool Mainor\, ruum A4\, Tallinna 19/21 \n\n	  \n\n	Kava: \n\n	9:00 Liblikõieliste heintaimede seemnekasvatuse agrotehnika \n\n	12:00 Kohvipaus \n\n	12:20 Erinevate liblikõieliste heintaimede nõuded kasvutingimustele\, seemnekasvatuse olulisemad reeglid\, koristusjärgne töötlemine \n\n	15:00 Lõpp \n\n	  \n\n	Lektorid: \n\n	Margus Ess ja Sirje Tamm (Jõgeva SAI)\, Margo Mansberg \n\n	  \n\n	  \n\n	Köögivilja ja kartuli maheseemnekasvatus \n\n	29.01 Tartu\, EMÜ Mahekeskus\, Õssu küla\, Ülenurme vald\, asukoht vt http://mahekeskus.emu.ee/uldinfo/kontakt \n\n	  \n\n	Kava: \n\n	9:00 Köögivilja seemnekasvatus ja eripära maheviljeluses. \n\n	Köögivilja ja kartuli agrotehnika maheseemnekasvatuses \n\n	12:00 Kohvipaus \n\n	12:20 Köögivilja ja kartuli agrotehnika maheseemnekasvatuses jätkub \n\n	14:00 Kartuli seemnekasvatus ja sertifitseeritud seemnele esitatavad nõuded \n\n	15:00 Lõpp \n\n	  \n\n	Lektorid: \n\n	Ingrid Bender\, Margus Ess\, Ilmar Polli (Jõgeva SAI) \n\n	  \n\n	  \n\n	Teravilja maheseemnekasvatus \n\n	31.01 Rakvere\, Margeri maja\, Pikk tn 26 I korrus \n\n	  \n\n	Kava: \n\n	9:00 Teravilja agrotehnika maheseemnekasvatuses. Probleemsemad umbrohud teravilja seemnekasvatuses \n\n	12:00 Kohvipaus \n\n	12:20 Teraviljade haigused ja kahjurid \n\n	13:20 Teraviljaseemne koristusjärgne töötlemine ja pakendamine \n\n	15:00 Lõpp \n\n	  \n\n	Lektorid: \n\n	Margus Ess\, Pille Sooväli (Jõgeva SAI) \n\n	 
URL:https://www.pikk.ee/sundmus/teravilja-maheseemnekasvatuse-koolitus/
LOCATION:Lääne-Virumaa\, Lääne-Virumaa\, Eesti
CATEGORIES:Taimekasvatus
END:VEVENT
BEGIN:VEVENT
DTSTART;VALUE=DATE:20130131
DTEND;VALUE=DATE:20130201
DTSTAMP:20260421T151725
CREATED:20171231T220000Z
LAST-MODIFIED:20171231T220000Z
UID:10005684-1359590400-1359676799@www.pikk.ee
SUMMARY:Infopäev "Nõuetele vastavus põllumajanduses 2013"
DESCRIPTION:Saaremaa \nKuressaare\, Ülikoolide keskus (Pargi 5a). REGISTREERIMINE LÕPPENUD\, kohad on täis! \nSaaremaa \n\n	Ökoloogiliste Tehnoloogiate Keskus korraldab Eesti maaelu arengukava 2007-2013 meetme 1.1 raames (viitenumber 111012440412) infopäeva „Nõuetele vastavus põllumajanduses 2013“. \n\n	Sihtrühm: otsetoetuste ja MAK 2007-2013 toetuste taotlejad.\n\n	\n	Teemad: \n\n	– nõuetele vastavuse taust\, üldine olemus\, vajalikkus\, head põllumajandus- ja keskkonnatingimused\, \n\n	– kohustuslikud majandamisnõuded: keskkond\, rahva-\, looma- ja taimetervis\, loomade heaolu\n\n	 \n\n	22. jaanuaril Nurga külalistemajas (Niine 4\, Rakvere)\n\n	30. jaanuaril Rapla keskraamatukogus (Lasteaia 5\, Rapla)\n\n	31. jaanuaril Ülikoolide keskuses (Pargi 5a\, Kuressaare). REGISTREERIMINE LÕPPENUD\, kohad on täis!\n\n	6. veebruaril hotellis Kantri (Riia 215\, Tartu)\n\n	7. veebruaril hotellis Tamula (Vee 4\, Võru)\n\n	12. veebruaril hotellis Centrum (Tallinna 24\, Viljandi)\n\n	 \n\n	Algus kell 11.00\, lõpp 15.30. \n\n	 \n\n	Lektorid on põllumajandusnõustajad ja Ökoloogiliste Tehnoloogiate Keskuse esindaja. Koolitus on osalejatele tasuta. \n\n	 \n\n	NÕUTAV EELREGISTREERIMINE vähemalt 3 päeva enne ürituse toimumist. Kohtade arv on piiratud.\n\n	Info ja registreerimine e-mail argopeepson[A]gmail.com (eelistatult)\, tel 520 8438.\n\n	 \n\n	Toetab Euroopa Liit.
URL:https://www.pikk.ee/sundmus/infopaev-nouetele-vastavus-pollumajanduses-2013-3/
LOCATION:Saaremaa\, Saaremaa
CATEGORIES:Muu
GEO:58.3705526;22.6876383
END:VEVENT
END:VCALENDAR