BEGIN:VCALENDAR
VERSION:2.0
PRODID:-//PIKK.ee - ECPv6.13.2.1//NONSGML v1.0//EN
CALSCALE:GREGORIAN
METHOD:PUBLISH
X-WR-CALNAME:PIKK.ee
X-ORIGINAL-URL:https://www.pikk.ee
X-WR-CALDESC:Events for PIKK.ee
REFRESH-INTERVAL;VALUE=DURATION:PT1H
X-Robots-Tag:noindex
X-PUBLISHED-TTL:PT1H
BEGIN:VTIMEZONE
TZID:Europe/Tallinn
BEGIN:DAYLIGHT
TZOFFSETFROM:+0200
TZOFFSETTO:+0300
TZNAME:EEST
DTSTART:20130331T010000
END:DAYLIGHT
BEGIN:STANDARD
TZOFFSETFROM:+0300
TZOFFSETTO:+0200
TZNAME:EET
DTSTART:20131027T010000
END:STANDARD
END:VTIMEZONE
BEGIN:VEVENT
DTSTART;VALUE=DATE:20130318
DTEND;VALUE=DATE:20130319
DTSTAMP:20260420T045408
CREATED:20171231T220000Z
LAST-MODIFIED:20171231T220000Z
UID:10005491-1363564800-1363651199@www.pikk.ee
SUMMARY:Esmaabi koolitus töölistele (2 koolituspäeva)
DESCRIPTION:Hiiumaa \nKäinas\,  Mäe tn. 2 \nHiiumaa \n\n	MTÜ Saarte Nõuandekeskus korraldab esmaspäeval ja teisipäeval\, 18.-19. märts 2013.a. \n	Hiiumaal  Käinas  Mäe tn. 2  algusega kell 10.00 \n	maakondliku kahepäevase koolituse  teemal:  „Esmaabi koolitus töölistele“ . \n	Käsitletakse  esmaabi  võtteid ja jagatakse teadmisi  esmaabist ettevõtetes. Tehakse praktilisi näiteid esmaabi vajaduse korral.\n	                                                                                                       \n	Lektorid:  Varju Vaher ja Margarita Kangur \n	Info telefonil ja registreerimine 5136756 \n\n	Infopäev on tasuta ja selle korraldamist toetab EL meetmest 1.1. Toetuse taotluse viitenumber 112011740723. \n\n	  \n\n	 
URL:https://www.pikk.ee/sundmus/esmaabi-koolitus-toolistele-2-koolituspaeva/
LOCATION:Hiiumaa\, Hiiumaa\, Eesti
CATEGORIES:Muu
END:VEVENT
END:VCALENDAR