BEGIN:VCALENDAR
VERSION:2.0
PRODID:-//PIKK.ee - ECPv6.13.2.1//NONSGML v1.0//EN
CALSCALE:GREGORIAN
METHOD:PUBLISH
X-WR-CALNAME:PIKK.ee
X-ORIGINAL-URL:https://www.pikk.ee
X-WR-CALDESC:Events for PIKK.ee
REFRESH-INTERVAL;VALUE=DURATION:PT1H
X-Robots-Tag:noindex
X-PUBLISHED-TTL:PT1H
BEGIN:VTIMEZONE
TZID:Europe/Tallinn
BEGIN:DAYLIGHT
TZOFFSETFROM:+0200
TZOFFSETTO:+0300
TZNAME:EEST
DTSTART:20130331T010000
END:DAYLIGHT
BEGIN:STANDARD
TZOFFSETFROM:+0300
TZOFFSETTO:+0200
TZNAME:EET
DTSTART:20131027T010000
END:STANDARD
END:VTIMEZONE
BEGIN:VEVENT
DTSTART;VALUE=DATE:20130319
DTEND;VALUE=DATE:20130320
DTSTAMP:20260421T025319
CREATED:20171231T220000Z
LAST-MODIFIED:20171231T220000Z
UID:10005504-1363651200-1363737599@www.pikk.ee
SUMMARY:Põllukultuuride kasvatus - teravilja- ja õlikultuuride alternatiivsed viljelusmeetodid
DESCRIPTION:Raplamaa \nRapla Maavalitsuses\, Rapla\, Tallinna mnt 14\, saal 204 \nRaplamaa \n\n	  \n\n	Eesti Mahepõllumajanduse Sihtasutus korraldab koolituse \n\n	"Põllukultuuride kasvatus – teravilja- ja õlikultuuride alternatiivsed viljelusmeetodid" \n\n	19.03 Rapla Maavalitsuses\, Rapla\, Tallinna mnt 14\, saal 204 \n\n	21.03 Võru Maavalitsuses\, Võrus\, Jüri 12\, II korruse saal \n\n	22.03 Eesti Maaülikooli Mahekeskuses\, Õssu küla\, Ülenurme vald\, Tartumaa \n\n	  \n\n	Kava: \n\n	10:00 Sissejuhatus alternatiivsetesse viljelusmeetoditesse \n\n	10:30 Lai reavahe teraviljakasvatuses \n\n	11:30 Vagudepõhine mullaharimine \n\n	12:00 Kohvipaus \n\n	12:20 Minimeeritud harimine mahetootmises \n\n	14:00 Otsekülvi tehnoloogia maheviljeluses \n\n	14:30 Arutelu \n\n	15:00 Lõpp \n\n	Lektorid Margo Mansberg\, Margus Ess \n\n	Koolitustel osalemine on tasuta. Osalemiseks on vajalik registreerimine e-mailil mahepm@gmail.com (eelistatult) või telefonil 5662 0955. Registreerimisel kindlasti esitada oma nimi\, soovitud koolituse koht ja kuupäev. \n\n	Kohtade arv on piiratud. \n\n	Koolitused lähevad arvesse mahepõllumajandusliku tootmise toetuse raames nõutava kohustusliku koolitusena. \n\n	Koolituse tellija on Põllumajandusministerium\, toetab Euroopa Liit.
URL:https://www.pikk.ee/sundmus/pollukultuuride-kasvatus-teravilja-ja-olikultuuride-alternatiivsed-viljelusmeetodid/
LOCATION:Raplamaa\, Raplamaa
CATEGORIES:Taimekasvatus
GEO:58.8492625;24.7346569
END:VEVENT
BEGIN:VEVENT
DTSTART;VALUE=DATE:20130319
DTEND;VALUE=DATE:20130320
DTSTAMP:20260421T025319
CREATED:20171231T220000Z
LAST-MODIFIED:20171231T220000Z
UID:10005863-1363651200-1363737599@www.pikk.ee
SUMMARY:EPKK Aiandusfoorum 2013
DESCRIPTION:Järvamaa \nPaide Kultuurikeskuse (Pärnu 18\, Paide) kammersaalis  \nJärvamaa \n	Kutsume Teid osa võtma EPKK tänavusest Aiandusfoorumist\n	19. märtsil kell 11 – 16 Paide Kultuurikeskuse kammersaalis\, (Pärnu t 18\, Paide). \n\n	Foorumil osalemiseks palume hiljemalt 15. märtsiks registreeruda siin: \n\n	https://docs.google.com/forms/d/1hr7d43UIKCZ0oHyn4qquw6xbH7zvSS90fyar5Rj5xqk/viewform?sid=57820e4ea18de29d&token=bKeQJT0BAAA.1MunsX6yEgSVyj_bvKxZOw.Z38aF-HXB63dLf_rrMyjfg&pli=1 \n\n	Aeg/ Ettekande teema/ Ettekandja / Asutus \n	11.00 – 11.10 Avamine\, tervitussõnad Raivo Külasepp\n	11.10 – 11.40 Aianduse võimalused Eesti maaelu arengukava uuel perioodil PM   Sigmar Suu\n	11.40 – 12.10 Ühistegevus Eesti aiandustootmises Jaan Leetsaar\, EMÜ Majandus- ja sotsiaalinstituut\n	12.10 – 12.50 Ühistegevus Läti aiandustootmises Edite Strazdina\, Musmaju Darzeni KS (Läti)\n	12.50 – 13.30 Ühistegevus Soome aiandustootmises Mikko Rahtola\, Luomuliitto (Soome)\n	13.30 – 14.10 Lõuna\n	14.10 – 14.30 Aianduskultuuride keskkonnasäästlikud kasvatustehnoloogiad Marge Starast/Priit Põldma\n	EMÜ Põllumajandus- ja Keskkonnainstituut\n	14.30 – 14.50 Eestlaste õunaeelistused 2006-2011. uuringu tutvustus Ulvi Moor\, EMÜ Põllumajandus- ja Keskkonnainstituut\n	14.50 – 15.10 Meloni- ja arbuusikasvatuse perspektiivid Eestis Tiina Paasik\, Räpina aianduskool\n	15.10 – 15.20 Riiklik toidujulgeolek.  Andres Parve Eesti Kaitsetööstuse Liit\,\n	15.20 – 15.50 Kaitseväe toiduhanked Karin Repp Kaitseväe Logistikakeskuses\n	15.50 – 16.00 Foorumi lõpetamine \n	Aiandusfoorumit toetab Euroopa Liit. \n	Info: vevo[A]epkk.ee  \n	Eesti Põllumajandus-Kaubanduskoda http://www.epkk.ee/\n	 
URL:https://www.pikk.ee/sundmus/epkk-aiandusfoorum-2013/
LOCATION:Järvamaa\, Järvamaa\, Eesti
CATEGORIES:Taimekasvatus
GEO:58.8866713;25.5000624
END:VEVENT
END:VCALENDAR