BEGIN:VCALENDAR
VERSION:2.0
PRODID:-//PIKK.ee - ECPv6.13.2.1//NONSGML v1.0//EN
CALSCALE:GREGORIAN
METHOD:PUBLISH
X-WR-CALNAME:PIKK.ee
X-ORIGINAL-URL:https://www.pikk.ee
X-WR-CALDESC:Events for PIKK.ee
REFRESH-INTERVAL;VALUE=DURATION:PT1H
X-Robots-Tag:noindex
X-PUBLISHED-TTL:PT1H
BEGIN:VTIMEZONE
TZID:Europe/Tallinn
BEGIN:DAYLIGHT
TZOFFSETFROM:+0200
TZOFFSETTO:+0300
TZNAME:EEST
DTSTART:20130331T010000
END:DAYLIGHT
BEGIN:STANDARD
TZOFFSETFROM:+0300
TZOFFSETTO:+0200
TZNAME:EET
DTSTART:20131027T010000
END:STANDARD
END:VTIMEZONE
BEGIN:VEVENT
DTSTART;VALUE=DATE:20130502
DTEND;VALUE=DATE:20130503
DTSTAMP:20260426T032222
CREATED:20171231T220000Z
LAST-MODIFIED:20171231T220000Z
UID:10005521-1367452800-1367539199@www.pikk.ee
SUMMARY:Koolitus "Toorpiimatootmise ja käitlemise kvaliteet ettevõttes" (kokku 9.päeval)
DESCRIPTION:Tartumaa \nTartus\, Märjal OÜ Eerika Farm \nTartumaa \n	Olustvere Teenindus- ja Maamajanduskool \n	Koolitus „Toorpiimatootmise ja käitlemise kvaliteet ettevõttes“ \n	Koolitus on mõeldud veisefarmis töötavatele inimestele\, kelle vastutusalaks on piimakvaliteedi tagamine. Koolitus toimub üheksal päeval\, kokku 72 õppetundi. \n\n	02.-03.mai 2013 Tartus Märjal OÜ Eerika Farm\n	Strateegiad ja eesmärgid piimakvaliteedi tagamiseks.\n	Lektorid Piret Kalmus EMÜ\, Marika Oeselg Olustvere TMK \n	08.- 10.mai 2012 Tartus Märjal OÜ Eerika farm\n	Praktiline õpe: farmivisiidid\, piimaanalüüsid\, töökorraldus.\n	Söötmise kvaliteedi parandamine piima maitse ja lõhnavigade parandamiseks.\n	Lektor Marika Oeselg \n	16.-17.mai 2013 Tartus Märjal OÜ Eerika Farm\n	Söötade ja söötmise mõjust piima koostisele ja piimakvaliteedile.\n	Söödaratsioonide koostamine.\n	Lektor Meelis Ots EMÜ \n	05.-06.juuni 2013 Tartus Märjal OÜ Eerika Farm\n	Tootmisandmete kogumine ja analüüs.\n	Kursuse lõpetamine.\n	Lektorid Piret Kalmus\, Marika Oeselg \n	Koolitus osalejale tasuta. \n	Registreerimine kuni  28.aprill 2013 kool[A]olustvere.edu.ee    \n	ja tel. 4374290.\n	Info tel. 5136242 Marika Oeselg \n\n	Koolituse  korraldamist abistab OÜ Eerika Farm Märja Aretuse 2 Tartu maakond. \n	Koolituse korraldamist toetab Euroopa Liit. \n\n	 
URL:https://www.pikk.ee/sundmus/koolitus-toorpiimatootmise-ja-kaitlemise-kvaliteet-ettevottes-kokku-9-paeval/
LOCATION:Tartumaa\, Eesti
CATEGORIES:Loomakasvatus
GEO:58.4057128;26.801576
END:VEVENT
BEGIN:VEVENT
DTSTART;VALUE=DATE:20130502
DTEND;VALUE=DATE:20130503
DTSTAMP:20260426T032223
CREATED:20171231T220000Z
LAST-MODIFIED:20171231T220000Z
UID:10006037-1367452800-1367539199@www.pikk.ee
SUMMARY:Koolitus veisefarmi loomakasvatusjuhtidele ja talunikele (kokku 9 päeval)
DESCRIPTION:Tartumaa \nMärja\, Eerika Farm OÜ (Märja\, Aretuse 6\, Tähtvere vald\, Tartu maakond) \nTartumaa \n\n	\n	Olustvere Teenindus- ja Maamajanduskool korraldab\n	KOOLITUSE VEISEFARMI LOOMAKASVATUSJUHTIDELE JA TALUNIKELE \n	Koolituse asukoht: Märja\, Eerika Farm OÜ (Märja\, Aretuse 6\, Tähtvere vald\, Tartu maakond) \n	Koolitus toimub üheksal päeval\, kokku 72 õppetundi. \n	02.-03.mai Strateegiad ja eesmärgid piimakvaliteedi tagamiseks.\n	Mastiidiriski hindamine ettevõttes\n	Exceli baasil loodav lihtne andmestik (võimalusel sülearvuti kaasa)\n	Praktilised juhised karja piimakvaliteeti mõjutavate riskikohtade leidmiseks\n	Enda ettevõtte baasil riskijuhtimise väljatöötamine tootmisandmete baasil.\n	P. Kalmus Eesti Maülikool \, Marika Oeselg Olustvere TMK \n	08.-10.mai Tootmisandmete analüüs\, töökorraldus.\n	08.mai Iseseisvate tööde esitamine\, analüüs ja arutelu .\n	09. mai Igapäevaste piimaanalüüside tõlgendamine\, lehmade tervisenäita-jate praktiline hindamine\, söötade mõjust piima kvaliteedile.\n	10.mai Farmipraktika oma ettevõtte baasil\n	P. Kalmus Eesti Maülikool \, Marika Oeselg Olustvere TMK \n	16.-17.mai Söötade ja söötmise mõjust piima koostisele ja piimakvaliteedile.\n	Söödaratsioonide koostamine.\n	Meelis Ots Eesti Maaülikool \n	04.-05.juuni Loomade heaolu ja tervist mõjutavad tegurid\n	04.juuni Loomade heaolu ja tervist mõjutavate tegurite leidmine ja analüüs.\n	Praktiline õpe farmis ; võimalused ja lahendused.\n	Kalmer Kalmus Eesti Maaülikool\n	05.juuni Farmi loomakasvatusjuhi otsuste mõju piimakvaliteedile\n	Kursuse lõpetamine. \n	Koolitus osalejatele tasuta. \n	NB! Registreerimine kuni 30.aprill \n	kool[A]olustvere.edu.ee ja tel 4374242. \n\n	Koolituse korraldamist toetab Euroopa Liit. \n	 
URL:https://www.pikk.ee/sundmus/koolitus-veisefarmi-loomakasvatusjuhtidele-ja-talunikele-kokku-9-paeval/
LOCATION:Tartumaa\, Eesti
CATEGORIES:Loomakasvatus
GEO:58.4057128;26.801576
END:VEVENT
BEGIN:VEVENT
DTSTART;VALUE=DATE:20130502
DTEND;VALUE=DATE:20130503
DTSTAMP:20260426T032223
CREATED:20171231T220000Z
LAST-MODIFIED:20171231T220000Z
UID:10006043-1367452800-1367539199@www.pikk.ee
SUMMARY:MAK II telje toetuste ja otsetoetuste infopäev
DESCRIPTION:Saaremaa \nKuressaare Ametikoolis\, (Kohtu tn.22 Kuressaare) \nSaaremaa \n\n	02.mail algusega kell 10.00 korraldab MTÜ Saarte Nõuandekeskus Kuressaare Ametikoolis Kohtu tn.22 Kuressaares\, MAK II telje toetuste ja otsetoetuste tasuta infopäeva. \n\n	Lektorid on Jekaterina Näälik ja Veeve Kaasik. Infopäeva tellija on Põllumajandusministeerium\, korraldamist toetab Euroopa Liit. \n\n	Infopäeval käsitletavad teemad: 2013.aastal rakendunud nõuetele vastavuse nõuded\, muudatused MAK 2007 – 2013 II telje toetuste (ebasoodsamate piirkondade toetus; Natura 2000 toetus põllumajandusmaale; keskkonnasõbraliku majandamise toetus\, mahepõllumajandusliku tootmise toetus; ohustatud tõugu loomapidamise toetus; kohalikku sorti taimede kasvatamise toetus; poolloodusliku koosluse hooldamise toetus; Natura 2000 toetus erametsamaale) ning I samba pindalatoetuste taotlemisel; e-PRIA tutvustus. \n\n	Registreerimine saartenk[A]gmail.com või telefonidel 45 56 145 ja 56699168\, 56357949. \n	Infopäev korraldatakse Põllumajandusministeeriumi tellimisel ja Euroopa Liidu toel. \n	  \n\n	 
URL:https://www.pikk.ee/sundmus/mak-ii-telje-toetuste-ja-otsetoetuste-infopaev-7/
LOCATION:Saaremaa\, Saaremaa
CATEGORIES:Muu
GEO:58.3705526;22.6876383
END:VEVENT
END:VCALENDAR