BEGIN:VCALENDAR
VERSION:2.0
PRODID:-//PIKK.ee - ECPv6.13.2.1//NONSGML v1.0//EN
CALSCALE:GREGORIAN
METHOD:PUBLISH
X-WR-CALNAME:PIKK.ee
X-ORIGINAL-URL:https://www.pikk.ee
X-WR-CALDESC:Events for PIKK.ee
REFRESH-INTERVAL;VALUE=DURATION:PT1H
X-Robots-Tag:noindex
X-PUBLISHED-TTL:PT1H
BEGIN:VTIMEZONE
TZID:Europe/Tallinn
BEGIN:DAYLIGHT
TZOFFSETFROM:+0200
TZOFFSETTO:+0300
TZNAME:EEST
DTSTART:20130331T010000
END:DAYLIGHT
BEGIN:STANDARD
TZOFFSETFROM:+0300
TZOFFSETTO:+0200
TZNAME:EET
DTSTART:20131027T010000
END:STANDARD
END:VTIMEZONE
BEGIN:VEVENT
DTSTART;VALUE=DATE:20130503
DTEND;VALUE=DATE:20130504
DTSTAMP:20260421T010855
CREATED:20171231T220000Z
LAST-MODIFIED:20171231T220000Z
UID:10005573-1367539200-1367625599@www.pikk.ee
SUMMARY:Majandusaasta aruanne ja selle elektrooniline esitamine põllumajanduslikele äriühingutele
DESCRIPTION:Jõgevamaa \nJõgeva kultuurikeskuse kammersaal\, algus 10.00 \nJõgevamaa \n\n	Lektor on suurte kogemustega majanduskonsulent Aino Vooro. \n\n	  \n\n	Käsitletavad teemad \n\n	Muutused majandusaasta aruande esitamisel ja raamatupidamises; raamatupidamise aastaaruande koostamise käik ja elektrooniline esitamine; raamatupidamise aastaaruande põhiaruanded ja lisades avalikustatav informatsioon; olulisematest vigadest raamatupidamise aastaaruande koostamise; praktilisi näpunäiteid 2012. a raamatupidamise aastaaruande koostamiseks. \n\n	  \n\n	Soovitav eelregistreerimine eelistatavalt meilile ttl@kodu.ee või 736 6955. \n\n	  \n\n	Kui koolituskohas oma nime kirja panete\, peate kirjutama ka isikukoodi.
URL:https://www.pikk.ee/sundmus/majandusaasta-aruanne-ja-selle-elektrooniline-esitamine-pollumajanduslikele-ariuhingutele/
LOCATION:Jõgevamaa\, Jõgevamaa\, Eesti
CATEGORIES:Muu
END:VEVENT
END:VCALENDAR