BEGIN:VCALENDAR
VERSION:2.0
PRODID:-//PIKK.ee - ECPv6.13.2.1//NONSGML v1.0//EN
CALSCALE:GREGORIAN
METHOD:PUBLISH
X-WR-CALNAME:PIKK.ee
X-ORIGINAL-URL:https://www.pikk.ee
X-WR-CALDESC:Events for PIKK.ee
REFRESH-INTERVAL;VALUE=DURATION:PT1H
X-Robots-Tag:noindex
X-PUBLISHED-TTL:PT1H
BEGIN:VTIMEZONE
TZID:Europe/Tallinn
BEGIN:DAYLIGHT
TZOFFSETFROM:+0200
TZOFFSETTO:+0300
TZNAME:EEST
DTSTART:20130331T010000
END:DAYLIGHT
BEGIN:STANDARD
TZOFFSETFROM:+0300
TZOFFSETTO:+0200
TZNAME:EET
DTSTART:20131027T010000
END:STANDARD
END:VTIMEZONE
BEGIN:VEVENT
DTSTART;VALUE=DATE:20130619
DTEND;VALUE=DATE:20130620
DTSTAMP:20260422T003121
CREATED:20171231T220000Z
LAST-MODIFIED:20171231T220000Z
UID:10006068-1371600000-1371686399@www.pikk.ee
SUMMARY:Mahepõllumajanduslik põllukultuuride kasvatus - põllupäev
DESCRIPTION:Ida-Virumaa \nIda-Virumaa Talupidajate Liit\, Rakvere tn 27\, Jõhvi \nIda-Virumaa \n\n	Eesti Mahepõllumajanduse Sihtasutus korraldab mahepõllumajanduse täiendõppe koolitused teemadel \n\n	"Mahepõllumajanduslik põllukultuuride kasvatus – põllupäev"\n	10. juuni 2013\n	Saaremaa \n	Alustame Orissaare vallamajas\, Kuivastu mnt. 33\, Orissaare\, põldude ja\n	masinatega tutvume OÜ Põlde Mahetalus \n	Kava\n	10:00 Umbrohtude agrobioloogilised rühmad ja nende tõrje\n	mahetootmises\, tuulekaera tõrje  ja sertseemne olulisus mahetootmises.\n	Veeve Kaasik\, nõustaja\n	12:00 Kohvipaus\n	12:30 Teraviljakasvatusel uute maaharimismasinate tutvustus\n	(umbrohuniiduk\, ökokultivaator) OÜ Põlde Mahetalus (Ivo Salm)\, põldude vaatlus.\n	15:00 Lõpp \n	"Mahepõllumajanduslik põllukultuuride kasvatus – põllupäev"\n	11. juuni 2013\n	Viljandimaal \n	Alustame Karksi- Nuias\, Rahumäe 2A kohvikus „HEIM“\, põldude ja\n	masinatega tutvume OÜ Coldmix põldudel \n	Kava\n	10:00 Umbrohtude agrobioloogilised rühmad ja nende tõrje\n	mahetootmises\, tuulekaera tõrje  ja sertseemne olulisus mahetootmises.\n	Karin Hüva\, nõustaja\n	12:30 Kohvipaus\n	13.00Teraviljakasvatusel uute maaharimismasinate tutvustus\n	(umbrohuniiduk\, ökokultivaator) OÜ Coldmix (Toomas Osijärv) põldudel\, põldude vaatlus.\n	Karin Hüva\, nõustaja.\n	15:00 Lõpp \n	"Mahepõllumajanduslik põllukultuuride kasvatus – põllupäev"\n	19. juuni 2013\n	Ida-Virumaa \n	Alustame Ida-Virumaa Talupidajate liidu ruumides\, Rakvere tn 27\, Jõhvi\n	põldude ja masinatega tutvume Mägipõllu talus \n	Kava\n	10:00 Umbrohtude agrobioloogilised rühmad ja nende tõrje\n	mahetootmises\, tuulekaera tõrje  ja sertseemne olulisus mahetootmises.\n	Karin Hüva\, nõustaja\n	12:00 Kohvipaus\n	12:30 Teraviljakasvatusel uute maaharimismasinate tutvustus\n	(umbrohuniiduk\, ökokultivaator) Mägipõllu talu põldudel\, põldude\n	vaatlus. Sander Sarap\, Mägipõllu talu .\n	15:00 Lõpp \n\n	Koolitustel osalemine on tasuta. Osalemiseks on vajalik\n	registreerimine e-mailil mahepm[A]gmail.com (eelistatult) või telefonil\n	5662 0955. Registreerimisel palume kindlasti esitada oma nimi\,\n	soovitud koolituse koht ja kuupäev.\n	Kohtade arv on piiratud.\n	Koolitused lähevad arvesse mahepõllumajandusliku tootmise toetuse\n	raames nõutava kohustusliku koolitusena.\n	Koolituste tellija on Põllumajandusministeerium\, toetab Euroopa Liit. \n\n	Suvekuudel on kavas mahepõllumajanduse täiendõppe koolitused üle Eesti erinevatel teemadel. Info maheklubis. \n	Eesti Mahepõllumajanduse Sihtasutus
URL:https://www.pikk.ee/sundmus/mahepollumajanduslik-pollukultuuride-kasvatus-pollupaev-3/
LOCATION:Ida-Virumaa\, Ida-Virumaa\, Eesti
CATEGORIES:Taimekasvatus
GEO:59.2592663;27.4136535
END:VEVENT
END:VCALENDAR