BEGIN:VCALENDAR
VERSION:2.0
PRODID:-//PIKK.ee - ECPv6.13.2.1//NONSGML v1.0//EN
CALSCALE:GREGORIAN
METHOD:PUBLISH
X-WR-CALNAME:PIKK.ee
X-ORIGINAL-URL:https://www.pikk.ee
X-WR-CALDESC:Events for PIKK.ee
REFRESH-INTERVAL;VALUE=DURATION:PT1H
X-Robots-Tag:noindex
X-PUBLISHED-TTL:PT1H
BEGIN:VTIMEZONE
TZID:Europe/Tallinn
BEGIN:DAYLIGHT
TZOFFSETFROM:+0200
TZOFFSETTO:+0300
TZNAME:EEST
DTSTART:20130331T010000
END:DAYLIGHT
BEGIN:STANDARD
TZOFFSETFROM:+0300
TZOFFSETTO:+0200
TZNAME:EET
DTSTART:20131027T010000
END:STANDARD
END:VTIMEZONE
BEGIN:VEVENT
DTSTART;VALUE=DATE:20130730
DTEND;VALUE=DATE:20130731
DTSTAMP:20260419T213236
CREATED:20171231T220000Z
LAST-MODIFIED:20171231T220000Z
UID:10005612-1375142400-1375228799@www.pikk.ee
SUMMARY:Mahelambakasvatuse koolitus Lääne-Virumaal
DESCRIPTION:Lääne-Virumaa \nLääne-Virumaal\, Roelas\, Sinilille 1\, Roela Rahvamajas \nLääne-Virumaa \n\n	Eesti Mahepõllumajanduse SA korraldab õppepäeva teemal: \n\n	\n	"Mahelambakasvatus"\n	30. juulil 2013\n	Lääne-Virumaal\, Roelas\, Sinilille 1\, Roela Rahvamajas ja ettevõttes Rehekivi OÜ (Hugo ja Tiina Vaino)\n	\n	Kava:\n	10:00 Lammastele sobiva talvesööda tootmine ja säilitamine. Lammaste söötmine.\n	12:00 Kohvipaus\n	12:20 Piimalambakasvatus. Lambapiima tootmine ja töötlemine. Lambakasvatussaaduste realiseerimine\n	Rehekivi OÜ lambakasvatuse tutvustus. Lammaste tõuaretus\, Lammaste karjamaad\, nende rajamine ja tarastamine.\n	15:00 Lõpp\n	\n	Lektorid Hillar Kalda ja Hugo Vaino \n\n	Koolituste tellija on Põllumajandusministeerium\, toetab Euroopa Liit. \n\n\n		Koolitusel osalemine on tasuta. Osalemiseks on vajalik registreerimine e-mailil mahepm@gmail.com (eelistatult) või telefonil 5662 0955. Registreerimisel palume kindlasti esitada oma nimi\, soovitud koolituse koht ja kuupäev.\n\n		Koolitused lähevad arvesse mahepõllumajandusliku tootmise toetuse raames nõutava kohustusliku koolitusena.\n\n		 \n\n		Kohtade arv on piiratud. \n\n\n	 
URL:https://www.pikk.ee/sundmus/mahelambakasvatuse-koolitus-laane-virumaal/
LOCATION:Lääne-Virumaa\, Lääne-Virumaa\, Eesti
CATEGORIES:Loomakasvatus
END:VEVENT
BEGIN:VEVENT
DTSTART;VALUE=DATE:20130730
DTEND;VALUE=DATE:20130731
DTSTAMP:20260419T213236
CREATED:20171231T220000Z
LAST-MODIFIED:20171231T220000Z
UID:10006106-1375142400-1375228799@www.pikk.ee
SUMMARY:Infopäev „Väetiste ja taimekaitsevahendite kasutamine põllumajanduses“
DESCRIPTION:Hiiumaa \nPühalepa vallas Toomas Remmelkoore Harju talu maadel \nHiiumaa \n\n	MTÜ Hiiumaa Nõuandekeskus korraldab maakondliku infopäeva „Väetiste ja taimekaitsevahendite kasutamine põllumajanduses“  30.07.2013 Pühalepa vallas Toomas Remmelkoore Harju talu maadel. Algus kell 12.00 Soera Talumuuseumis\, edasi suundutakse põlde vaatlema. \n\n	Käsitletavad teemad: \n\n	Põldude väetamine – efektiivne väetamine\, väetiste vajadus erinevatel kultuuridel \n\n	Taimekaitse – teraviljade ja rapsi kahjurid ning nende tõrje \n\n	Glüfosaatide kasutamine ja toime \n\n	Lektorid: Veeve Kaasik ja Helle Aasma \n\n	Info ja eelregistreerimine info@hiiuteave.ee\, mob 56473322
URL:https://www.pikk.ee/sundmus/infopaev-vaetiste-ja-taimekaitsevahendite-kasutamine-pollumajanduses/
LOCATION:Hiiumaa\, Hiiumaa\, Eesti
CATEGORIES:Taimekasvatus
END:VEVENT
END:VCALENDAR