BEGIN:VCALENDAR
VERSION:2.0
PRODID:-//PIKK.ee - ECPv6.13.2.1//NONSGML v1.0//EN
CALSCALE:GREGORIAN
METHOD:PUBLISH
X-ORIGINAL-URL:https://www.pikk.ee
X-WR-CALDESC:Events for PIKK.ee
REFRESH-INTERVAL;VALUE=DURATION:PT1H
X-Robots-Tag:noindex
X-PUBLISHED-TTL:PT1H
BEGIN:VTIMEZONE
TZID:Europe/Tallinn
BEGIN:DAYLIGHT
TZOFFSETFROM:+0200
TZOFFSETTO:+0300
TZNAME:EEST
DTSTART:20130331T010000
END:DAYLIGHT
BEGIN:STANDARD
TZOFFSETFROM:+0300
TZOFFSETTO:+0200
TZNAME:EET
DTSTART:20131027T010000
END:STANDARD
END:VTIMEZONE
BEGIN:VEVENT
DTSTART;VALUE=DATE:20130809
DTEND;VALUE=DATE:20130810
DTSTAMP:20260424T115302
CREATED:20171231T220000Z
LAST-MODIFIED:20171231T220000Z
UID:10006142-1376006400-1376092799@www.pikk.ee
SUMMARY:Mahepõllumajandusliku kitsekasvatuse koolitus
DESCRIPTION:Saaremaa \nSaaremaal\, Kuressaares\, Tallinna tn. 27\, Saarte Nõuandekeskuses \nSaaremaa \n\n	Eesti Mahepõllumajanduse SA korraldab õppepäeva: \n\n	\n	"Mahepõllumajanduslik kitsekasvatus" \n	9. augustil 2013\, kell 10:00-15:00 \n	Saaremaal\, Kuressaares\, Tallinna tn. 27\, Saarte Nõuandekeskuses \n	Kava\n	10:00 Kitsede pidamine ja söötmine\, Hillar Kalda\n	12:10 Kohvipaus\n	12:30 Kitsepiimast toodete valmistamine\, Vilma Tatar Eesti Maaülikool\n	15:00 Lõpp \n\n	  \n\n	 Koolitustel osalemine on tasuta. Osalemiseks on vajalik\n	 registreerimine e-mailil mahepm[A]gmail.com (eelistatult) või telefonil\n	 5662 0955. Registreerimisel palume kindlasti esitada oma nimi\,\n	 soovitud koolituse koht ja kuupäev.\n	 Kohtade arv on piiratud. \n	 Koolitused lähevad arvesse mahepõllumajandusliku tootmise toetuse\n	 raames nõutava kohustusliku koolitusena.\n	Koolituste tellija on Põllumajandusministeerium\, toetab Euroopa Liit. \n\n	 
URL:https://www.pikk.ee/sundmus/mahepollumajandusliku-kitsekasvatuse-koolitus/
LOCATION:Saaremaa\, Saaremaa
CATEGORIES:Loomakasvatus
GEO:58.3705526;22.6876383
END:VEVENT
END:VCALENDAR