BEGIN:VCALENDAR
VERSION:2.0
PRODID:-//PIKK.ee - ECPv6.13.2.1//NONSGML v1.0//EN
CALSCALE:GREGORIAN
METHOD:PUBLISH
X-ORIGINAL-URL:https://www.pikk.ee
X-WR-CALDESC:Events for PIKK.ee
REFRESH-INTERVAL;VALUE=DURATION:PT1H
X-Robots-Tag:noindex
X-PUBLISHED-TTL:PT1H
BEGIN:VTIMEZONE
TZID:Europe/Tallinn
BEGIN:DAYLIGHT
TZOFFSETFROM:+0200
TZOFFSETTO:+0300
TZNAME:EEST
DTSTART:20130331T010000
END:DAYLIGHT
BEGIN:STANDARD
TZOFFSETFROM:+0300
TZOFFSETTO:+0200
TZNAME:EET
DTSTART:20131027T010000
END:STANDARD
END:VTIMEZONE
BEGIN:VEVENT
DTSTART;VALUE=DATE:20130905
DTEND;VALUE=DATE:20130906
DTSTAMP:20260425T035938
CREATED:20171231T220000Z
LAST-MODIFIED:20171231T220000Z
UID:10006119-1378339200-1378425599@www.pikk.ee
SUMMARY:Baltic Deal projekti põllumajanduskonverents "Veefoorum 2013"
DESCRIPTION:Pärnumaa \nPärnu\, Pärnu Kontserdimaja \nPärnumaa \n\n5. septembril ootame kõiki Pärnu\, kus leiab aset selle projekti raames viimane konverents "Veefoorum 2013". Sel aastal oleme tähelepanu alla võtnud uuringute ja projekti tegevuste tulemused. Kuulda võib ettekandeid nii parima põllumajandustehnika\, tehismärgalade\, põllumajanduspraktikate kuluefektiivsuse kui ka Eesti vete seisundi kohta. \nProjekt Baltic Deal on Läänemere äärsete riikide koostööprojekt (2010-2013 september). Projekti eesmärk on vähendada põllumajanduslikust tegevusest tulenevaid negatiivseid mõjusid keskkonnale nii\, et konkurentsivõime ja tootmismahud ei kannataks. Loe edasi Baltic Deal kodulehelt http://www.pikk.ee/balticdeal/ \nVeefoorum 2013 \n5. september 2013\, Pärnu Kontserdimajas \n\nProgramm \n(programm pdf-ina) \n9.30 Kogunemine \n10.00 Tervitussõnad\n10.10 Eesti vete seisund ja inimtegevuse mõju – Rene Reisner\, Keskkonnaministeerium\n10.40 Parim võimalik tehnika – hindamise juhendmaterjalide täiendamine – Allan Kaasik\, Eesti Maaülikool\n11.10 Sõnnikulaotustehnoloogiad\, mõju keskkonnale ja tasuvus – Kalvi Tamm\, Eesti Taimekasvatuse Instituut\n11.40 Põllumajanduse hajureostuse vähendamise võimalused\, kogemused tehismärgala paneerimisel\nViraito OÜ-s – Alar Noorvee\, OÜ AquaProject\n12.10 Rootsi kogemused põllumajanduskeskkonna alases nõuandmises ning tootjate seisukohad uute keskkonna piirangute osas – Kristina Yngwe\, Lantbrukarnas Riksförbun \n13.00 Lõuna \n14.00 Keskkonna- ja põllumajanduse valdkonna nõustamisvajaduse taustauuringu tulemused – Tiit Oidjärv\, OÜ Hendrikson & Ko\n14.30 Põllumajanduses kasutatavate keskkonnameetmete kuluefektiivsuse uuring – Karl Kupits\, AS Maves\n15.00 Kohvipaus\n15.30 Toiteelementide bilanss ja pestitsiidide kasutuskoormus. PMK uuringute tulemused – Marje Särekanno\, Põllumajandusuuringute Keskus\n16.15 Toitelementide bilansi arvutuste tulemused projekti Baltic Deal näidistaludes – Lilia Kulli\, Rapla Nõuandjate Ühendus\n16.30 Läänemere koostööprojekt Baltic Deal – Heidi Öövel\, Maaelu Edendamise Sihtasutus \n17.00 Lõpusõnad – Heidi Öövel\, Maaelu Edendamise Sihtasutus \nRegistreerimine kuni 31.08.2013 aadressil: https://docs.google.com/forms/d/1CbpYGKgVWKLYXwdCss7qv3Ls3loWxhSYBjsPlnT60Hk/viewform \n\nÜrituse toimumist toetab:\n \n\nInfo: Piret Sõmer\, piret.somer[A]nouandeteenistus.ee \ntel: +37253445789 \n  \n\n 
URL:https://www.pikk.ee/sundmus/baltic-deal-projekti-pollumajanduskonverents-veefoorum-2013/
LOCATION:Pärnumaa\, Pärnumaa\, Eesti
CATEGORIES:Muu
END:VEVENT
END:VCALENDAR