BEGIN:VCALENDAR
VERSION:2.0
PRODID:-//PIKK.ee - ECPv6.13.2.1//NONSGML v1.0//EN
CALSCALE:GREGORIAN
METHOD:PUBLISH
X-ORIGINAL-URL:https://www.pikk.ee
X-WR-CALDESC:Events for PIKK.ee
REFRESH-INTERVAL;VALUE=DURATION:PT1H
X-Robots-Tag:noindex
X-PUBLISHED-TTL:PT1H
BEGIN:VTIMEZONE
TZID:Europe/Tallinn
BEGIN:DAYLIGHT
TZOFFSETFROM:+0200
TZOFFSETTO:+0300
TZNAME:EEST
DTSTART:20130331T010000
END:DAYLIGHT
BEGIN:STANDARD
TZOFFSETFROM:+0300
TZOFFSETTO:+0200
TZNAME:EET
DTSTART:20131027T010000
END:STANDARD
END:VTIMEZONE
BEGIN:VEVENT
DTSTART;VALUE=DATE:20131104
DTEND;VALUE=DATE:20131105
DTSTAMP:20260423T060910
CREATED:20171231T220000Z
LAST-MODIFIED:20171231T220000Z
UID:10006233-1383523200-1383609599@www.pikk.ee
SUMMARY:Koolitus "Taimekaitse (taimekaitsetöötaja tunnistuse saamiseks)"
DESCRIPTION:Põlvamaa \nRäpina\, Räpina Aianduskool ( Pargi 32\, Räpina)  \nPõlvamaa \n	Räpina Aianduskool korraldab\n	04.-06.novembril 2013 kell 9.00 – 17.00 \n	24 tunnise koolituse\n	"Taimekaitse (taimekaitsetöötaja tunnistuse saamiseks)" \n	Koolitus toimub Räpina Aianduskoolis\, Pargi 32\, Räpina  \n	Info: eda.gross[A]aianduskool.ee\n	Tel 7961549; 53461209. \n	 
URL:https://www.pikk.ee/sundmus/koolitus-taimekaitse-taimekaitsetootaja-tunnistuse-saamiseks/
LOCATION:Põlvamaa\, Põlvamaa\, Eesti
CATEGORIES:Muu
GEO:58.1160622;27.2066394
END:VEVENT
END:VCALENDAR