BEGIN:VCALENDAR
VERSION:2.0
PRODID:-//PIKK.ee - ECPv6.13.2.1//NONSGML v1.0//EN
CALSCALE:GREGORIAN
METHOD:PUBLISH
X-WR-CALNAME:PIKK.ee
X-ORIGINAL-URL:https://www.pikk.ee
X-WR-CALDESC:Events for PIKK.ee
REFRESH-INTERVAL;VALUE=DURATION:PT1H
X-Robots-Tag:noindex
X-PUBLISHED-TTL:PT1H
BEGIN:VTIMEZONE
TZID:Europe/Tallinn
BEGIN:DAYLIGHT
TZOFFSETFROM:+0200
TZOFFSETTO:+0300
TZNAME:EEST
DTSTART:20130331T010000
END:DAYLIGHT
BEGIN:STANDARD
TZOFFSETFROM:+0300
TZOFFSETTO:+0200
TZNAME:EET
DTSTART:20131027T010000
END:STANDARD
END:VTIMEZONE
BEGIN:VEVENT
DTSTART;VALUE=DATE:20131108
DTEND;VALUE=DATE:20131109
DTSTAMP:20260421T200007
CREATED:20171231T220000Z
LAST-MODIFIED:20171231T220000Z
UID:10006209-1383868800-1383955199@www.pikk.ee
SUMMARY:Infopäev "Mullaviljakuse säilitamine ja suurendamine"
DESCRIPTION:Valgamaa \nValga\, Müllersoni Ärimaja (Vabaduse 26) \nValgamaa \n\n	Eesti Maaülikool korraldab Eesti Maaelu arengukava 2007-2013 meetme 1.1. raames INFOPÄEVA \n\n	MULLAVILJAKUSE SÄILITAMINE JA SUURENDAMINE                                                   \n\n	Sihtrühm:        põllumajandus-\, toidu-  ja metsandussektoris hõivatud isikud\n	Maht:               ühepäevane koolitus\, 6 akadeemilist tundi auditoorset tööd\n	Toimumisaeg ja -koht:  08.11.2013 (reede) Valga\, Müllersoni Ärimaja (Vabaduse 26) \n\n	Teemad: \n\n\n		Huumusbilanss\n\n		Huumusbilansi arvutamine ja võimalused selle reguleerimiseks\n\n		Haljasväetiste (erinevad haljasväetiskultuurid\, allakülvid\, puhaskülvid) kasvatamine mulla omaduste parandamiseks (biomassi moodustamine\, toitainete sidumisvõime\, mulla füüsikaliste ja bioloogiliste omaduste mõjutamine\, mõju järelkultuuride saagikusele ja selle kestus)\n\n		Vahekultuuride kasvatamine toitainete leostumise vältimiseks põhikultuurist vabal perioodil\n\n		Erinevate vahekultuuride biomassi moodustamisvõime\, toitainete sidumisvõime\n\n		Integreeritud taimekaitse          \n\n\n	Õppejõud Eesti Maaülikooli Põllumajandus- ja keskkonnainstituudi\, taimekasvatuse ja rohumaaviljeluse osakonnast: Liina Talgre\, mag\, teadur ja Enn Lauringson\, dr\, dotsent        \n\n	Ajakava: \n	10.00 – 11.30 õppetöö\n	11.30 – 11.45 kohvipaus\n	11.45 – 13.15 õppetöö\n	13.15 – 13.30 paus\n	13.30 – 15.00 õppetöö\n	  \n\n	Infopäev on sihtrühmale tasuta\, kohtade arv on piiratud. \n	Vajalik eelregistreerimine maaülikooli avatud ülikooli\n	telefonidel 731 3175\, 731 3275\, 731 3174 \n	või täites registreerumisvormi kodulehel  \n\n	Infopäeva korraldamist toetab Euroopa Liit.\n	  \n\n	Koolitust korraldab:\n	Eesti Maaülikooli avatud ülikool\n	Tel 731 3174\,  731 3275\, 731 3175\n	emu.ee">avayl@emu.ee\n	http://avatudylikool.emu.ee/\n	Kreutzwaldi 56\n	51014 Tartu  \n	 
URL:https://www.pikk.ee/sundmus/infopaev-mullaviljakuse-sailitamine-ja-suurendamine-3/
LOCATION:Järvamaa\, Eesti
CATEGORIES:Taimekasvatus
END:VEVENT
BEGIN:VEVENT
DTSTART;VALUE=DATE:20131108
DTEND;VALUE=DATE:20131109
DTSTAMP:20260421T200007
CREATED:20171231T220000Z
LAST-MODIFIED:20171231T220000Z
UID:10006235-1383868800-1383955199@www.pikk.ee
SUMMARY:Infopäev "Suitsulihatoodete valmistamine"
DESCRIPTION:Valgamaa \nValga\, Valga Keskraamatukogu seminariruum (aadress: Aia 12\, Valga) \nValgamaa \n	Eesti Maaülikool korraldab Eesti Maaelu arengukava 2007-2013 meetme 1.1. raames\n	infopäeva\n	SUITSULIHATOODETE VALMISTAMINE \n	Sihtrühm: põllumajandustoodete tootmise\, toidu tootmise või töötlemisega tegelevad füüsilised või eraõiguslikud juriidilised isikud ja tema töötajad \n\n	Maht: 6 akadeemilist tundi auditoorset tööd \n\n	Toimumisaeg ja -koht: reede\, 08.11.2013\, Valga Keskraamatukogu seminariruum (aadress: Aia 12) \n\n	  \n\n	Teemad:\n	– Suitsulihatoodete jaotus\n	– Lihalõikus\n	– Liha soolamine\n	– Liha suitsutamine\n	– Liha kuivatamine\n	– Suitsulihatoodete tehnoloogiad \n\n	  \n\n	Õppejõud\n	Riina Soidla\, mag (tehn)\, maaülikooli veterinaarmeditsiini ja loomakasvatuse instituudi lektor\n	Lembit Lepasalu\, knd (tehn) maaülikooli veterinaarmeditsiini ja loomakasvatuse instituudi lektor \n\n	  \n\n	Ajakava: \n	10.00 – 11.30 õppetöö\n	11.30 – 12.00 kohvipaus\n	12.00 – 13.30 õppetöö\n	13.30 – 13.45 paus\n	13.45 – 15.15 õppetöö \n\n	  \n\n	Kursus on sihtrühmale tasuta. \n\n	Kohtade arv on piiratud.\n	Vajalik eelregistreerimine maaülikooli avatud ülikooli\n	telefonidel 731 3175\, 731 3275\, 731 3174  või täites registreerumisvormi kodulehel\n	http://avatudylikool.emu.ee/taiendope/registreeru-kursusele/ \n\n	\n	Infopäeva korraldamist toetab Euroopa Liit. \n	Koolitust korraldab:\n	Eesti Maaülikooli avatud ülikool\n	Tel 731 3174\,  731 3275\, 731 3175\n	http://avatudylikool.emu.ee/\n	Kreutzwaldi 56\n	51014 Tartu  \n\n	  \n\n	 
URL:https://www.pikk.ee/sundmus/infopaev-suitsulihatoodete-valmistamine/
LOCATION:Järvamaa\, Eesti
CATEGORIES:Toiduainete tootmine
END:VEVENT
BEGIN:VEVENT
DTSTART;VALUE=DATE:20131108
DTEND;VALUE=DATE:20131109
DTSTAMP:20260421T200007
CREATED:20171231T220000Z
LAST-MODIFIED:20171231T220000Z
UID:10006243-1383868800-1383955199@www.pikk.ee
SUMMARY:Infopäev "Toidukäitlemisettevõtte enesekontrollisüsteem"
DESCRIPTION:Tartumaa \nTartu\, Eesti Maaülikooli Tehnikamaja (Kreutzwaldi 56 (ruum 303)\,Tartu) \nTartumaa \n\n	\n	Eesti Maaülikool korraldab Eesti Maaelu arengukava 2007-2013 meetme 1.1. raames infopäeva\n	TOIDUKÄITLEMISETTEVÕTTE ENESEKONTROLLISÜSTEEM \n	Sihtrühm: põllumajandustoodete tootmise\, toidu tootmise või töötlemisega tegelevad füüsilised või eraõiguslikud juriidilised isikud ja tema töötajad\n	Maht: 7 akadeemilist tundi auditoorset tööd\n	Toimumisaeg ja -koht:  reede\, 08.11.2013; Eesti Maaülikooli Tehnikamaja\, Kreutzwaldi 56 (ruum 303)\,Tartu \n\n	Teemad:\n	– enesekontroll\, -plaan ja -süsteem;\n	– enesekontrolliplaani koostamine;\n	– eeltingimusprogrammide väljatöötamine;\n	– HACCP põhimõtted (ohtude analüüs\, kriitilised kontrollpunktid\, seire\, kriitiliste piiride ja korrigeerivate tegevuste määramine);\n	– enesekontrolli dokumenteerimine ja ajakohastamine. \n\n	Õppejõud\n	Katrin Laikoja\, mag (tehn)\, Eesti Maaülikooli Veterinaarmeditsiini ja loomakasvatuse instituudi lektor \n\n	Ajakava \n	10.00 – 11.30 õppetöö\n	11.30 – 11.40 paus\n	11.40 – 13.10 õppetöö\n	13.10 – 13.40 kohvipaus\n	13.40 – 15.10 õppetöö\n	15.10 – 15.15 paus\n	15.15 – 16.00 õppetöö \n\n	Kursus on sihtrühmale tasuta.\n	Kohtade arv on piiratud.\n	Vajalik eelregistreerimine maaülikooli avatud ülikooli\n	telefonidel 731 3175\, 731 3275\, 731 3174   \n	või täites registreerumisvormi kodulehel \n	http://avatudylikool.emu.ee/taiendope/registreeru-kursusele/  \n\n	Infopäeva korraldamist toetab Euroopa Liit.  \n	  \n\n	Koolitust korraldab:\n	Eesti Maaülikooli avatud ülikool\n	Tel 731 3174\,  731 3275\, 731 3175\n	http://avatudylikool.emu.ee/\n	Kreutzwaldi 56\n	51014 Tartu \n\n	 
URL:https://www.pikk.ee/sundmus/infopaev-toidukaitlemisettevotte-enesekontrollisusteem/
LOCATION:Tartumaa\, Eesti
CATEGORIES:Toiduainete tootmine
GEO:58.4057128;26.801576
END:VEVENT
END:VCALENDAR