BEGIN:VCALENDAR
VERSION:2.0
PRODID:-//PIKK.ee - ECPv6.13.2.1//NONSGML v1.0//EN
CALSCALE:GREGORIAN
METHOD:PUBLISH
X-WR-CALNAME:PIKK.ee
X-ORIGINAL-URL:https://www.pikk.ee
X-WR-CALDESC:Events for PIKK.ee
REFRESH-INTERVAL;VALUE=DURATION:PT1H
X-Robots-Tag:noindex
X-PUBLISHED-TTL:PT1H
BEGIN:VTIMEZONE
TZID:Europe/Tallinn
BEGIN:DAYLIGHT
TZOFFSETFROM:+0200
TZOFFSETTO:+0300
TZNAME:EEST
DTSTART:20130331T010000
END:DAYLIGHT
BEGIN:STANDARD
TZOFFSETFROM:+0300
TZOFFSETTO:+0200
TZNAME:EET
DTSTART:20131027T010000
END:STANDARD
END:VTIMEZONE
BEGIN:VEVENT
DTSTART;VALUE=DATE:20131127
DTEND;VALUE=DATE:20131128
DTSTAMP:20260422T091447
CREATED:20171231T220000Z
LAST-MODIFIED:20171231T220000Z
UID:10006158-1385510400-1385596799@www.pikk.ee
SUMMARY:Konsulentide teabepäevad
DESCRIPTION:Harjumaa \nHotell Lavendel\, Sõpruse tee 9\, Haabneeme\, Viimsi vald \nHarjumaa \nPÄEVAKAVA: \n27. november\n9.30 Registreerumine ja tervituskohv\n10.00 Koordineeriva Keskuse tegevused 2013. aastal ja plaanid uueks aastaks – Andres Vinni\, Maaelu Edendamise Sihtasutuse juhatuse liige\n10.30 Pindalatoetuste nõuete rikkumised ja vähendamised – Ulla Kaur\, PRIA otsetoetuste osakonna kontrollibüroo juhtivspetsialist\n11.15 Keskkonnatoetuste nõuete rikkumised ja vähendamised – Tanel Trell\, PRIA otsetoetuste osakonna menetlusbüroo juhataja\n12.00 Kliimamuutused ja põllumajandus – Ain Kallis\, KAUR peaspetsialist\, TTÜ dotsent\n12.45 – 13.30 Lõuna\n13.30 Põllumajandussektoris kliimamuutuste leevendamise ja kliimamuutustega kohanemise tegevuskava 2012-2020 – Martti Mandel\, Põllumajandusministeeriumi põllumajandusturu korraldamise osakonna taimekasvatussaaduste büroo peaspetsialist\n14.00 Kompleksnõustamise töögrupp – Alar Lugu\, Pärnumaa Talupidajate Nõuandekeskus\, maaettevõtluse ja finantsmajanduse ning taimekasvatuse konsulent\n14.30 Autoriõigus ja viitamine – Eneli Sutt ja Marko Puusaar\, Hariduse Infotehnoloogia Sihtasutus\n15.30 – 15.45 Kohvipaus\n15.45 Autoriõigus ja viitamine – Eneli Sutt ja Marko Puusaar\, Hariduse Infotehnoloogia Sihtasutus\n16.45 – 17.45 Nõuandesüsteemi arutelu\n19.00 – 02.00 Pidulik aastalõpu õhtusöök\, autasustatakse aasta parimaid \n28. november\n10.00 Euroopa Innovatsioonipartnerlus – Kaire Kasearu\, Põllumajandusministeeriumi teadus- ja arendusosakonna koosseisuväline teenistuja – spetsialist\n10.30 MAK 2007-2013 meetme 1.3 Nõuandeteenuste toetamise rakendamistulemuste ülevaade\, Mati Mõtte\, Eesti Maaülikool\n11.15 – 11.30 Kohvipaus\n11.30 Ökonomeetriliste mudelite kasutamine toetuste mõju hindamiseks ettevõtjate jätkusuutlikkusele\, Mati Mõtte\, Eesti Maaülikool\n12.15 Viljelusvõistlus – taimekasvatajate kogemuste vahetus – Margus Ameerikas\,\nBaltic Agro arendusdirektor\n13.15 – 14.00 Lõuna\n14.00 Ülevaade meetme 1.2 taotlusvoorust – Anne-Ly Võlli\, PRIA arengutoetuste osakonna piirkonna büroo peaspetsialist\n14.45 – 15.30 Sagedasemad vead kuludeklaratsioonide esitamisel ja ühistaotluste kuludeklaratsioonid – Niina Türk\, PRIA arengutoetuste osakonna maaelu investeeringutoetuste büroo peaspetsialist \nTeabepäevadele registreerumine on lõppenud. \nKüsimuste korral kirjutage e-mailile info@nouandeteenistus.ee või helistage Nõuandeteenistusse Melita Laaneser'ile 7313 650 või Katri Kuusk’ile 7 313 650. \nKohtumiseni Haabneemes!
URL:https://www.pikk.ee/sundmus/konsulentide-teabepaevad/
LOCATION:Harjumaa\, Harjumaa\, Eesti
CATEGORIES:Muu
END:VEVENT
BEGIN:VEVENT
DTSTART;VALUE=DATE:20131127
DTEND;VALUE=DATE:20131128
DTSTAMP:20260422T091447
CREATED:20171231T220000Z
LAST-MODIFIED:20171231T220000Z
UID:10006309-1385510400-1385596799@www.pikk.ee
SUMMARY:Ettevõtte juhtimine ja juhi roll ettevõtte arengus
DESCRIPTION:Lääne-Virumaa \nRägavere mõis\, Rägavere küla\, Sõmeru vald\, 44323 Lääne-Virumaa \nLääne-Virumaa \n\n	MTÜ Virumaa Põllumeeste Liit ja Lääne-Virumaa Põllumajanduse Nõuandekeskus korraldavad 27.11.2013-28.11.2013 Lääne-Virumaa põllumajandustootjatele koolituse teemal Ettevõtte juhtimine ja juhi roll ettevõtte arengus. \n\n	Teemad\n	  \n\n\n		JUHTIMINE – Juhtimise mõiste\, tunnused. Juhtimise tasandid\, valdkonnad.Juhtimise funktsioonid. Tänapäeva juhtimise põhimõtted. Praktilised ülesanded\, rühmatöö\n\n\n	  \n\n\n		JUHT –  Juhile vajalikud oskused ja omadused. Juht ja juhi rollid. Eestvedamine. Kaasaegne juht. Praktilised ülesanded\, rühmatöö\n\n\n	  \n\n\n		ORGANISATSIOON – Organisatsiooni mõiste\, alused. Organisatsiooni arengu mudel. Organisatsioonikultuur. Suhtlemine organisatsioonis (sh ametisuhtlemine). Grupid organisatsioonis (sh meeskonnatöö). Praktilised ülesanded\, rühmatöö\n\n\n	  \n\n\n		ÄRIEETIKA – Ärieetika olemus\, ülesanded. Praktilised ülesanded\, rühmatöö\n\n\n	  \n\n\n		ÄRIJUHTIMISE KOGEMUSED Oleg Grossi ja Rägavere mõisa näitel. (+film)\n\n\n	Lektorid Ülo Peets ja Ülo Niisuke. \n\n	  \n\n	27.11.2013\n	12:30-13:00 Kogunemine ja tervituskohv\n	13:00-14:30 Loeng (juhtimine)\n	14:30-15:00 Kohvipaus\n	15:00-16:30 Loeng (juht)\n	16:30-17:00 Kohvipaus\n	17:00-18:00 Loeng (Ärijuhtimise kogemused\, Oleg Grossi ja Rägavere mõisa näitel) \n\n	18:00-18:30 Päeva kokkuvõte\, arutelu. \n\n	18:30-19:00 Film – Maa kui äriobjekt\, Virumaal. \n\n	28.11.2013\n	08:30-09:00 Kogunemine ja tervituskohv\n	09:00-10:30 Loeng (organisatsioon)\n	10:30-11:00 Kohvipaus\n	11:00-12:30 Loeng (juhtimisestiil ja ärieetika)\n	12:30-13:00 Kohvipaus \n\n	13:00-14:00 Loeng (kogemused ettevõttejuhtimisel) \n\n	14:00-14:30 Koolituse kokkuvõte \n\n	  \n\n	Kohustuslik eel-registreerimine e-postil virunouanne[A]gmail.com või  \n\n	telefonil +372 55 17 871. \n\n	  \n\n	Koolituse korraldamist toetab Euroopa Liit ja koolitus on osalejatele tasuta.
URL:https://www.pikk.ee/sundmus/ettevotte-juhtimine-ja-juhi-roll-ettevotte-arengus/
LOCATION:Lääne-Virumaa\, Lääne-Virumaa\, Eesti
CATEGORIES:Maaettevõtlus
END:VEVENT
BEGIN:VEVENT
DTSTART;VALUE=DATE:20131127
DTEND;VALUE=DATE:20131128
DTSTAMP:20260422T091447
CREATED:20171231T220000Z
LAST-MODIFIED:20171231T220000Z
UID:10006316-1385510400-1385596799@www.pikk.ee
SUMMARY:Ohutu taimekaitse teostamise kursus põllumeestele
DESCRIPTION:Järvamaa \nSäreveres\, Järvamaa Kutsehariduskeskuses \nJärvamaa \n	27.-29. novembril 2013.a \n	\n	Ohutu taimekaitse teostamise kursus põllumeestele\,\n	esmakordselt tk-koolitusel osalejatele (16 tundi)\n	\n	Säreveres\, Järvamaa Kutsehariduskeskuses.  \n	Kursuse läbiviija Järvamaa Kutsehariduskeskus. \n	Lisainfo ja registreerimine Ruth Türk\, tel. 5329 2188\,  ruth.turk@jkhk.ee\, \n	JKHK\n	\n	Kursus on osalejatele tasuta.  \n\n	 
URL:https://www.pikk.ee/sundmus/ohutu-taimekaitse-teostamise-kursus-pollumeestele/
LOCATION:Järvamaa\, Järvamaa\, Eesti
CATEGORIES:Muu
GEO:58.8866713;25.5000624
END:VEVENT
BEGIN:VEVENT
DTSTART;VALUE=DATE:20131127
DTEND;VALUE=DATE:20131128
DTSTAMP:20260422T091447
CREATED:20171231T220000Z
LAST-MODIFIED:20171231T220000Z
UID:10006333-1385510400-1385596799@www.pikk.ee
SUMMARY:ETKLi kongress”Taludeta pole maaelu“
DESCRIPTION:Harjumaa \nTallinn\, Hotell Euroopa (Tallinn\, Paadi 5) \nHarjumaa \n	27.november 2013 \n	ETKLi kongress”Taludeta pole maaelu“ \n	HOTELL EUROOPA\, Tallinn \, Paadi 5 \n\n	Päevakava \n\n	10.30 – 10.40 Päeva sissejuhatus ja külaliste tervitused \n\n	10.40 – 10.50 Külakogukondade ettevõtlikkus rikastab maaelu – Anneli Kana\, Liikumine Kodukant juhatuse liige. \n\n	10.50 – 11.00 LEADER kui maaelu ja koostöö mootor – Reet Kokovkin\, LEADER eestkõneleja \n\n	11.00 – 11.10 MAK aastateks 2014 – 2020 läbi keskkonnakaitsja silmade – Silvia Lotman\, Eestimaa Looduse Fondi juhatuse esimees \n\n	11.10 – 11.20 Metsandus kui osa maaelust – Priit Põllumäe\, MTÜ Eesti Erametsaliidu tegevjuht \n\n	11.20 – 11.30 Tulevikuvaade põllumajandusse läbi noortaluniku mõtete – Ivo Eenpalu\, MTÜ Eesti Noortalunikud juhatuse esimees\, ETKLi juhatuse aseesimees \n\n	11.30 – 11.40 Ühistegevusest\, ühistutest ja väiketootmise arenguvõimalustest – Leho Verk\, ETKLi nõunik \n\n	11.40 – 12.00 Eesti talu kui rahvusliku põllumajanduse tagatis – Kalle Hamburg\, ETKLi juhatuse esimees \n\n	12 00 – 12 30 Kuidas kindlustada talude jätkusuutlikkus järgneval EL eelarveperioodil aastatel 2014–2020 – Helir-Valdor Seeder\, EV põllumajandusminister \n\n	12.30 – 12.50 Põllumajandusettevõtete struktuur ja nende arenguvajadused – Marju Aamisepp\, Maamajanduse infokeskuse põllumajandussektori majandusanalüüsi osakonna juhataja \n\n	12.50 – 13.35 Lõuna \n\n	13.35 – 14.00 MAK 2014 – 2020 meetmete vastavus talude arengu vajadustele – Kaul Nurm\, ETKLi peadirektor \n\n	14.00 – 14.30 Elu võimalikkusest maal – Andres Arrak\, majandusteadlane \n\n	14.30 – 15.00 Linnriik Eesti või hajalinn Eesti – kumb mudel on jätkusuutlikum? – Garri Raagmaa\, regionaalplaneerimise dotsent \n\n	15.00 – 15.50 Avatud arutelus maaelu tuleviku üle osalevad Helir-Valdor Seeder\, Andres Arrak\, Garri Raagmaa ja Kalle Hamburg \n\n	16.00 – 16.30 Kokkuvõtted ja kongressi deklaratsiooni vastuvõtmine \n	Osavõtust palume teatada e-posti aadressil või telefonil 604 1783; aili[A]taluliit.ee \n\n	  \n\n	 
URL:https://www.pikk.ee/sundmus/etkli-kongresstaludeta-pole-maaelu/
LOCATION:Harjumaa\, Harjumaa\, Eesti
CATEGORIES:Muu
END:VEVENT
END:VCALENDAR