BEGIN:VCALENDAR
VERSION:2.0
PRODID:-//PIKK.ee - ECPv6.13.2.1//NONSGML v1.0//EN
CALSCALE:GREGORIAN
METHOD:PUBLISH
X-ORIGINAL-URL:https://www.pikk.ee
X-WR-CALDESC:Events for PIKK.ee
REFRESH-INTERVAL;VALUE=DURATION:PT1H
X-Robots-Tag:noindex
X-PUBLISHED-TTL:PT1H
BEGIN:VTIMEZONE
TZID:Europe/Tallinn
BEGIN:DAYLIGHT
TZOFFSETFROM:+0200
TZOFFSETTO:+0300
TZNAME:EEST
DTSTART:20140330T010000
END:DAYLIGHT
BEGIN:STANDARD
TZOFFSETFROM:+0300
TZOFFSETTO:+0200
TZNAME:EET
DTSTART:20141026T010000
END:STANDARD
END:VTIMEZONE
BEGIN:VEVENT
DTSTART;VALUE=DATE:20140212
DTEND;VALUE=DATE:20140213
DTSTAMP:20260424T064421
CREATED:20171231T220000Z
LAST-MODIFIED:20171231T220000Z
UID:10006420-1392163200-1392249599@www.pikk.ee
SUMMARY:Infopäev "E-pria koolitus algajatele“
DESCRIPTION:Saaremaa \nKuressaare\, Saarte Nõuandekeskuse õppeklass (Tallinna tn. 27\, Kuressaare) \nSaaremaa \n	MTÜ Saarte Nõuandekeskus korraldab kolmapäeval\, 12.veebruaril 2014.a.   \n\n	Kuressaares\, Tallinna tn. 27  Saarte Nõuandekeskuse õppeklassis algusega kell 10.00 \n\n	maakondliku infopäeva teemal:  „E-pria koolitus algajatele“. \n\n	Arutamisele tulevad teemad: \n	Sisenemine e-pria-sse\, kasutajalepingu sõlmimine\, E-pria lehekülje tutvustamine: teenused\, seaded\, dokumendid\, volitused\, loomadega seotud sündmuste kajastamine e-pria-s. \n\n	Vajalik on infopäevale eelnev registreerimine\, kaasa võtta paroolidega koos ID kaart ja võimalusel sülearvuti. Toimub praktiline koolitus.                                       \n\n	                                                     \n\n	Lektorid: konsulendid Lea Toompuu ja Jekaterina Näälik. \n\n	Info telefonil ja registreerimine 45 56 145 ja 5136756 \n\n	  \n\n	Infopäev on tasuta ja selle korraldamist toetab EL meetmest 1.1.              \n\n	  \n\n	  \n\n	  \n\n	  \n\n	 
URL:https://www.pikk.ee/sundmus/infopaev-e-pria-koolitus-algajatele/
LOCATION:Saaremaa\, Saaremaa
CATEGORIES:Muu
GEO:58.3705526;22.6876383
END:VEVENT
END:VCALENDAR