BEGIN:VCALENDAR
VERSION:2.0
PRODID:-//PIKK.ee - ECPv6.13.2.1//NONSGML v1.0//EN
CALSCALE:GREGORIAN
METHOD:PUBLISH
X-WR-CALNAME:PIKK.ee
X-ORIGINAL-URL:https://www.pikk.ee
X-WR-CALDESC:Events for PIKK.ee
REFRESH-INTERVAL;VALUE=DURATION:PT1H
X-Robots-Tag:noindex
X-PUBLISHED-TTL:PT1H
BEGIN:VTIMEZONE
TZID:Europe/Tallinn
BEGIN:DAYLIGHT
TZOFFSETFROM:+0200
TZOFFSETTO:+0300
TZNAME:EEST
DTSTART:20140330T010000
END:DAYLIGHT
BEGIN:STANDARD
TZOFFSETFROM:+0300
TZOFFSETTO:+0200
TZNAME:EET
DTSTART:20141026T010000
END:STANDARD
END:VTIMEZONE
BEGIN:VEVENT
DTSTART;VALUE=DATE:20140414
DTEND;VALUE=DATE:20140415
DTSTAMP:20260422T220028
CREATED:20171231T220000Z
LAST-MODIFIED:20171231T220000Z
UID:10005822-1397433600-1397519999@www.pikk.ee
SUMMARY:Uusi teadmisi ja oskusi lambakasvatajale
DESCRIPTION:Pärnumaa \nLinnavalitsuse suur saal Suur-Sepa 16\, III k \nPärnumaa \n\n	Tartumaa põllumeeste liit korraldab 4. aprillil algusega 10.00 Linnavalitsuse suures saalis Suur-Sepa 16\, III k tasuta infopäeva „Uusi teadmisi ja oskusi lambakasvatajale“. \n\n	Lektor on konsulent Hillar Kalda. \n\n	  \n\n	Teemad: \n\n	lambakasvatusega alustamine; \n\n	karjamaade rajamine ja tarastamine; \n\n	söötmine; \n\n	karja tervis; \n\n	loomade arvestuse pidamine; \n\n	uute teadusuuringute tutvustus; \n\n	loomade heaolu; \n\n	nõuded mahelambakasvatajale. \n\n	  \n\n	Soovitav eelregistreerimine – palun kõigil\, kel võimalik meilil ttl@kodu.ee või äärmisel juhul tel 736 6955. \n\n	  \n\n	Koolituskohas oma nime kirja pannes peate teadma isikukoodi.
URL:https://www.pikk.ee/sundmus/uusi-teadmisi-ja-oskusi-lambakasvatajale-3/
LOCATION:Pärnumaa\, Pärnumaa\, Eesti
CATEGORIES:Loomakasvatus
END:VEVENT
BEGIN:VEVENT
DTSTART;VALUE=DATE:20140414
DTEND;VALUE=DATE:20140415
DTSTAMP:20260422T220028
CREATED:20171231T220000Z
LAST-MODIFIED:20171231T220000Z
UID:10006395-1397433600-1397519999@www.pikk.ee
SUMMARY:Taimekaitse täienduskoolitus professionaalsele taimekaitsevahendite kasutajale
DESCRIPTION:Pärnumaa \nTihemetsa\, Pärnumaa Kutsehariduskeskuse Voltveti koolituskeskus (Peahoone tee 2\, Tihemetsa\, Saarde vald) \nPärnumaa \n\n	  \n\n	  \n\n	14. aprillil 2014  korraldab Pärnumaa Kutsehariduskeskuse (PKHK) Voltveti koolituskeskus PRIA poolt rahastatud MAK meetme 1.1 „Koolitus- ja teavitustegevus“ (viitenumber taotlusel 112013671204) raames tasuta koolituse "Taimekaitse täienduskoolitus professionaalsele taimekaitsevahendite kasutajale". \n\n	Toimumise koht: Pärnumaa Kutsehariduskeskuse Voltveti koolituskeskus\, Peahoone tee 2\, Tihemetsa\, Saarde vald\, Pärnumaa \n\n	Info PKHK kodulehel www.hariduskeskus.ee\, tel 449 1062\, hanna-liisa.pikkur[A]hariduskeskus.ee. \n	Infopäeva korraldamist toetab EuroopaLiit.  \n\n	  \n\n	  \n\n	 
URL:https://www.pikk.ee/sundmus/taimekaitse-taienduskoolitus-professionaalsele-taimekaitsevahendite-kasutajale/
LOCATION:Pärnumaa\, Pärnumaa\, Eesti
CATEGORIES:Taimekaitse
END:VEVENT
BEGIN:VEVENT
DTSTART;VALUE=DATE:20140414
DTEND;VALUE=DATE:20140415
DTSTAMP:20260422T220028
CREATED:20171231T220000Z
LAST-MODIFIED:20171231T220000Z
UID:10006656-1397433600-1397519999@www.pikk.ee
SUMMARY:Infopäev "Maaettevõtja toetuste saamise võimalused"
DESCRIPTION:Saaremaa \nKuressaare\, Saarte Nõuandekeskuse õppeklass \nSaaremaa \n	MTÜ Saarte Nõuandekeskus korraldab esmaspäeval\, 14.04.2014 algusega kell 11.00  MTÜ Saarte Nõuandekeskuse õppeklassis maakondliku infopäeva teemal: " Maaettevõtja toetuste saamise võimalused" \n\n	Käsitletavad teemad:  EV ja EL abiprogrammid ja makseagentuurid. Toetatavad tegevused ja objektid\, taotleja abikõlblikkuse määramine. Toetuste saamise võimalused 2014.aastal. \n\n	Lektorid:  Mai Vaher ja Epp Petrov \n\n	Õppepäev on tasuta. Toetab Euroopa Liit. Õppepäeva taotluse viitenumber 112012740922   \n	Info ja kontakt: saartenk@gmail.com\, tel 455 6145. \n	 
URL:https://www.pikk.ee/sundmus/infopaev-maaettevotja-toetuste-saamise-voimalused/
LOCATION:Saaremaa\, Saaremaa
CATEGORIES:Muu
GEO:58.3705526;22.6876383
END:VEVENT
END:VCALENDAR