BEGIN:VCALENDAR
VERSION:2.0
PRODID:-//PIKK.ee - ECPv6.13.2.1//NONSGML v1.0//EN
CALSCALE:GREGORIAN
METHOD:PUBLISH
X-WR-CALNAME:PIKK.ee
X-ORIGINAL-URL:https://www.pikk.ee
X-WR-CALDESC:Events for PIKK.ee
REFRESH-INTERVAL;VALUE=DURATION:PT1H
X-Robots-Tag:noindex
X-PUBLISHED-TTL:PT1H
BEGIN:VTIMEZONE
TZID:Europe/Tallinn
BEGIN:DAYLIGHT
TZOFFSETFROM:+0200
TZOFFSETTO:+0300
TZNAME:EEST
DTSTART:20140330T010000
END:DAYLIGHT
BEGIN:STANDARD
TZOFFSETFROM:+0300
TZOFFSETTO:+0200
TZNAME:EET
DTSTART:20141026T010000
END:STANDARD
END:VTIMEZONE
BEGIN:VEVENT
DTSTART;VALUE=DATE:20140428
DTEND;VALUE=DATE:20140429
DTSTAMP:20260419T213256
CREATED:20171231T220000Z
LAST-MODIFIED:20171231T220000Z
UID:10005838-1398643200-1398729599@www.pikk.ee
SUMMARY:Infopäev  " Pindalatoetused 2014"
DESCRIPTION:Läänemaa \nPõllumajandusameti saal\, Jaani 10\, Haapsalu \nLäänemaa \n\n	Kell 10.00- 14.20 \n\n	Teemad. \n\n	Otsetoetused. Pindalapõhised MAK toetused. Toetuste saamise tingimused ja taotlusvormide täitmine.   \n\n	Lektorid on Läänemaa Nõuandekeskuse konsulendid Targo Pikkmets ja Anne Orgla \n\n	Infopäev toimub Maaelu Arengukava koolitusmeetme 1.1 toetuse abil ja on osalejatele tasuta. \n\n	Info ja registreerimine  tel 472 9007\, 5650 6109\, info[A]nouandla.ee \n\n	Korraldaja on Läänemaa Nõuandekeskus
URL:https://www.pikk.ee/sundmus/infopaev-pindalatoetused-2014-2/
LOCATION:Läänemaa
CATEGORIES:Taimekasvatus
END:VEVENT
BEGIN:VEVENT
DTSTART;VALUE=DATE:20140428
DTEND;VALUE=DATE:20140429
DTSTAMP:20260419T213256
CREATED:20171231T220000Z
LAST-MODIFIED:20171231T220000Z
UID:10005852-1398643200-1398729599@www.pikk.ee
SUMMARY:Infopäev "Pindalatoetuste taotluste esitamine e-pria vahendusel“
DESCRIPTION:Saaremaa \nKuressaare\, Saarte  Nõuandekeskus (Tallinna mnt 27\, Kuressaare) \nSaaremaa \n\n	MTÜ Saarte Nõuandekeskus korraldab esmaspäeval\, 28.aprillil  2014.a.   \n\n	Saare maakonnas  Kuressaares  Tallinna  tn. 27  MTÜ  Saarte  Nõuandekeskuse ruumides\, \n	algusega kell 10.00 \n\n	maakondliku infopäeva teemal:  „Pindalatoetuste esitamine e-pria vahendusel“. \n\n	Arutamisele tulevad teemad: „Minu põllud“ tutvustamine. Põldude digitaalne joonistamine. Pindalatoetuste esitamine. Erinevate vormide täitmine ja esitamine. Taotluste muutmise ja annulleerimise võimalused. \n\n	Lektorid:  Jekaterina Näälik ja Lea Toompuu. \n\n	Info telefonil ja registreerimine 45 56 145 ja 5136756 \n\n	Infopäev on tasuta ja selle korraldamist toetab EL meetmest 1.1. Toetuse taotluse viitenumber 112013741067.  \n	 
URL:https://www.pikk.ee/sundmus/infopaev-pindalatoetuste-taotluste-esitamine-e-pria-vahendusel/
LOCATION:Saaremaa\, Saaremaa
CATEGORIES:Muu
GEO:58.3705526;22.6876383
END:VEVENT
END:VCALENDAR