BEGIN:VCALENDAR
VERSION:2.0
PRODID:-//PIKK.ee - ECPv6.13.2.1//NONSGML v1.0//EN
CALSCALE:GREGORIAN
METHOD:PUBLISH
X-WR-CALNAME:PIKK.ee
X-ORIGINAL-URL:https://www.pikk.ee
X-WR-CALDESC:Events for PIKK.ee
REFRESH-INTERVAL;VALUE=DURATION:PT1H
X-Robots-Tag:noindex
X-PUBLISHED-TTL:PT1H
BEGIN:VTIMEZONE
TZID:Europe/Tallinn
BEGIN:DAYLIGHT
TZOFFSETFROM:+0200
TZOFFSETTO:+0300
TZNAME:EEST
DTSTART:20140330T010000
END:DAYLIGHT
BEGIN:STANDARD
TZOFFSETFROM:+0300
TZOFFSETTO:+0200
TZNAME:EET
DTSTART:20141026T010000
END:STANDARD
END:VTIMEZONE
BEGIN:VEVENT
DTSTART;VALUE=DATE:20140618
DTEND;VALUE=DATE:20140619
DTSTAMP:20260422T140317
CREATED:20171231T220000Z
LAST-MODIFIED:20171231T220000Z
UID:10006747-1403049600-1403135999@www.pikk.ee
SUMMARY:Põllupeenrapäev väetamisest
DESCRIPTION:Läänemaa \nÜdruma Seltsimaja\, Kullamaa vald\, Läänemaa \nLäänemaa \n\n	Kell 10.00-14.30 \n\n	Teemad: Taimede mineraalne toitumine. Mineraalväetiste mõju mulla agrokeemilisele seisundile. \n\n	Vedel- ja tahke väetise viimine taimedeni  ja muldaviimise praktilised võimalused. \n\n	Lektorid: \n\n	Avo Toomsoo\, Maaülikooli Mullateaduse ja Agrokeemia Instituudi teadur \n\n	Jaanus Põldmaa\, tehniline ekspert\, tegevtalunik \n\n	Loeng toimub Üdruma Seltsimajas\, praktiline osa Reinu-Einari OÜ-s. \n\n	Infopäev korraldatakse MAK  koolitusmeetme 1.1 toetuse abil ja on osalejatele tasuta. \n\n	Osavõtuks palume registreeruda telefonil 4729 007\, 5650 6109 või e-posti aadressil info@nouandla.ee \n\n	Korraldaja on Läänemaa Nõuandekeskus. \n\n	  \n\n	.
URL:https://www.pikk.ee/sundmus/pollupeenrapaev-vaetamisest/
LOCATION:Läänemaa
CATEGORIES:Taimekasvatus
END:VEVENT
END:VCALENDAR