BEGIN:VCALENDAR
VERSION:2.0
PRODID:-//PIKK.ee - ECPv6.13.2.1//NONSGML v1.0//EN
CALSCALE:GREGORIAN
METHOD:PUBLISH
X-WR-CALNAME:PIKK.ee
X-ORIGINAL-URL:https://www.pikk.ee
X-WR-CALDESC:Events for PIKK.ee
REFRESH-INTERVAL;VALUE=DURATION:PT1H
X-Robots-Tag:noindex
X-PUBLISHED-TTL:PT1H
BEGIN:VTIMEZONE
TZID:Europe/Tallinn
BEGIN:DAYLIGHT
TZOFFSETFROM:+0200
TZOFFSETTO:+0300
TZNAME:EEST
DTSTART:20140330T010000
END:DAYLIGHT
BEGIN:STANDARD
TZOFFSETFROM:+0300
TZOFFSETTO:+0200
TZNAME:EET
DTSTART:20141026T010000
END:STANDARD
END:VTIMEZONE
BEGIN:VEVENT
DTSTART;VALUE=DATE:20141010
DTEND;VALUE=DATE:20141011
DTSTAMP:20260420T010438
CREATED:20171231T220000Z
LAST-MODIFIED:20171231T220000Z
UID:10005920-1412899200-1412985599@www.pikk.ee
SUMMARY:Künniõppepäev
DESCRIPTION:Võrumaa \nSõmerpalu vald Roosu talu \nVõrumaa \n\n	Reedel\, 10.oktoobril toimub Roosu talu põldudel  (sõida Võru –Tartu teed mööda kuni Heimtali kirikuni ja pööra vasakule\, viidad aitavad sind kohale) künnialane õppepäev \n\n	9.30  – 16.00  Mida adra ostmisel silmas pidada? Millise kompleksusega peab ader olema?   Milline peab välja nägema õige künd. Agrotehnilised nõudmised künnile.\n	Kuidas peab ader olema reguleeritud? Kuidas reguleerida?   Lektorid U.Lees ja P.Viil
URL:https://www.pikk.ee/sundmus/kunnioppepaev/
LOCATION:Võrumaa\, Võrumaa
CATEGORIES:Taimekasvatus
GEO:57.7377372;27.1398938
END:VEVENT
END:VCALENDAR