BEGIN:VCALENDAR
VERSION:2.0
PRODID:-//PIKK.ee - ECPv6.13.2.1//NONSGML v1.0//EN
CALSCALE:GREGORIAN
METHOD:PUBLISH
X-ORIGINAL-URL:https://www.pikk.ee
X-WR-CALDESC:Events for PIKK.ee
REFRESH-INTERVAL;VALUE=DURATION:PT1H
X-Robots-Tag:noindex
X-PUBLISHED-TTL:PT1H
BEGIN:VTIMEZONE
TZID:Europe/Tallinn
BEGIN:DAYLIGHT
TZOFFSETFROM:+0200
TZOFFSETTO:+0300
TZNAME:EEST
DTSTART:20140330T010000
END:DAYLIGHT
BEGIN:STANDARD
TZOFFSETFROM:+0300
TZOFFSETTO:+0200
TZNAME:EET
DTSTART:20141026T010000
END:STANDARD
END:VTIMEZONE
BEGIN:VEVENT
DTSTART;VALUE=DATE:20141104
DTEND;VALUE=DATE:20141105
DTSTAMP:20260423T043439
CREATED:20171231T220000Z
LAST-MODIFIED:20171231T220000Z
UID:10006892-1415059200-1415145599@www.pikk.ee
SUMMARY:Infopäev integreeritud taimekaitsest
DESCRIPTION:Läänemaa \nÜdruma Seltsimaja\, Reinu-Einari OÜ\, Kullamaa vald \nLäänemaa \n\n	Austame kell 10.00 Üdruma Seltsimajas loenguga\, praktiline osa toimub Reinu-Einari OÜ -s. Orienteeruv lõpuaeg kell 15.30 \n\n	Teemad: \n\n	Integreeritud keskkonnasõbralik  taimekaitse kui üks osa keskkonnasäästlikust põllumajandusest. \n\n	Teraviljade ja rapsi kahjustajad ja nende tõrje külvist koristuseni. Kaasaegsed laia toime­spekt­riga fungitsiidid – rohkem kui haiguste tõrje. \n\n	Ülevaade põllumajandusele pakutavatest  kaas­aegsetest tehnoloogiatest. \n\n	Tehnilised valikud keskkonnasäästliku tootmise korraldamisel ettevõttes. Tehnika demonstratsioon. \n\n	Esinejad: \n\n	Tiiu Kohu – Läänemaa Nõuandekeskuse konsulent \n\n	Virge Vasar  – Bayer CropScienece Baltikumi piirkonna turundusjuht \n\n	Sulev Jams – Oilseeds Trade tehniline ekspert \n\n	Jaanus Põldmaa ja Hardi Pikkmets Oilseeds Jatiina OÜ-st.  \n\n	Infopäev toimub MAK koolitusmeetme 1.1. toetuse abil ja on osalejatele tasuta. \n\n	Palume osavõtust teatada telefonil 5650 6109 või e-postiga  info[A]nouandla.ee \n\n	Korraldaja on Läänemaa Nõuandekeskus
URL:https://www.pikk.ee/sundmus/infopaev-integreeritud-taimekaitsest/
LOCATION:Läänemaa
CATEGORIES:Taimekasvatus
END:VEVENT
BEGIN:VEVENT
DTSTART;VALUE=DATE:20141104
DTEND;VALUE=DATE:20141105
DTSTAMP:20260423T043439
CREATED:20171231T220000Z
LAST-MODIFIED:20171231T220000Z
UID:10006912-1415059200-1415145599@www.pikk.ee
SUMMARY:Infopäev" Vead\, mis maksavad tuhandeid-näpunäiteid investeeringutoetuste taotlemisel."
DESCRIPTION:Valgamaa \nalgusega kell 10.00 Sangaste Seltsimajas\, Valga Maakonnas \nValgamaa \n\n	Oma kogemusi ja teadmisi  eelmiste taotlusvoorude põhjal jagavad \n\n	Põlvamaa Põllumeeste Liidu Nõuandekeskuse konsulendid Ulvi Ajalik ja Triin Luksepp \n\n	Korraldab Põlvamaa Põllumeeste Liit \, EL  M1.1 toetusel  ning infopäev on osalejale tasuta. \n\n	Palume osalemisest teatada: \n\n	tel .79  92 928 e-mail: pltl@estpak.ee\, mob 56608028
URL:https://www.pikk.ee/sundmus/infopaev-vead-mis-maksavad-tuhandeid-napunaiteid-investeeringutoetuste-taotlemisel-2/
LOCATION:Eesti
CATEGORIES:Finantsmajandus
END:VEVENT
END:VCALENDAR