BEGIN:VCALENDAR
VERSION:2.0
PRODID:-//PIKK.ee - ECPv6.13.2.1//NONSGML v1.0//EN
CALSCALE:GREGORIAN
METHOD:PUBLISH
X-ORIGINAL-URL:https://www.pikk.ee
X-WR-CALDESC:Events for PIKK.ee
REFRESH-INTERVAL;VALUE=DURATION:PT1H
X-Robots-Tag:noindex
X-PUBLISHED-TTL:PT1H
BEGIN:VTIMEZONE
TZID:Europe/Tallinn
BEGIN:DAYLIGHT
TZOFFSETFROM:+0200
TZOFFSETTO:+0300
TZNAME:EEST
DTSTART:20140330T010000
END:DAYLIGHT
BEGIN:STANDARD
TZOFFSETFROM:+0300
TZOFFSETTO:+0200
TZNAME:EET
DTSTART:20141026T010000
END:STANDARD
END:VTIMEZONE
BEGIN:VEVENT
DTSTART;VALUE=DATE:20141125
DTEND;VALUE=DATE:20141126
DTSTAMP:20260426T003020
CREATED:20171231T220000Z
LAST-MODIFIED:20171231T220000Z
UID:10006925-1416873600-1416959999@www.pikk.ee
SUMMARY:Koolitus-teabepäev "Mahepõllumajandus ja teadus 2014"
DESCRIPTION:Harjumaa \nSakus\, Teaduse 4/6 \nHarjumaa \nPõllumajandusuuringute Keskus korraldab \n25. novembril kell 9.30-15.40\nSakus\, Teaduse 4/6 \nkoolitus-teabepäeva "Mahepõllumajandus ja teadus 2014" \n  \n\n\n\n\nAeg \n\n\nTeema \n\n\nEsineja \n\n\n\n\n09.30-10.00 \n\n\nRegistreerimine ja hommikukohv \n\n\n\n\n10.00-10.10 \n\n\nAvamine \n\n\n\n\n10.10-10.40 \n\n\nMahepõllumajanduslik tootmine Eestis 2014. aastal \n\n\n  \nVirve Järvesoo – PMA \n\n\n\n\n10.40-11.15 \n\n\nMAK 2007-2013 mahetoetuse hindamistulemused \n\n\n  \nKarli Sepp – PMK \n\n\n\n\n11.15-11.40 \n\n\nMahepõllumajanduse arengukava \n\n\nEve Ader – PM \n\n\n\n\n11.40-12.00  \n\n\nKohvipaus \n\n\n\n\n12.00-12.40 \n\n\nMahetoiduturu arengutest meil ja mujal \n\n\nMerit Mikk – Mahepõllumajanduse Sihtasutus \n\n\n\n\n12.40-13.20 \n\n\nPõllumajanduse keskkonnamõjude terviklik hidamine läbi olelusringi \n\n\nSirli Pehme – EMÜ \n\n\n\n\n13.20-14.00 \n\n\nLõuna \n\n\n  \n\n\n\n\n14.00-14.50 \n\n\nKülvikorra- ja maheväetiste katse tulemustest Kuusikul \n\n\nKarli Sepp – PMK \n\n\n\n\n14.50-15.25 \n\n\nKartuli väetamisest maheväetistega \n\n\nMarje Särekanno – PMK \n\n\n\n\n15.25-15.40 \n\n\nArutelu ettekannete kohta \n\n\n  \n\n\n\n\n  \nEelregistreerimine kuni 24. novembrini telefonidel 672 9130\, 6729144 või karli.sepp@pmk.agri.ee \nMahepõllumajandustootjad saavad tunnistuse kohustusliku täiendkoolituse osas (6 tundi).   \nKoolituse korraldamist toetab Euroopa Liit.  \n\n 
URL:https://www.pikk.ee/sundmus/koolitus-teabepaev-mahepollumajandus-ja-teadus-2014/
LOCATION:Harjumaa\, Harjumaa\, Eesti
CATEGORIES:Taimekasvatus
END:VEVENT
BEGIN:VEVENT
DTSTART;VALUE=DATE:20141125
DTEND;VALUE=DATE:20141126
DTSTAMP:20260426T003020
CREATED:20171231T220000Z
LAST-MODIFIED:20171231T220000Z
UID:10006944-1416873600-1416959999@www.pikk.ee
SUMMARY:Infopäev "Uusi oskusi ja teadmisi lambakasvatajale"
DESCRIPTION:Lääne-Virumaa \nMaavalitsuse saal Rakveres \nLääne-Virumaa \n\n	Tartumaa Põllumeeste Liit korraldab 25. novembril algusega 10.00 Rakveres\, Maavalitsuse saalis Kreutzwaldi 5\, II k infopäeva „Uusi teadmisi ja oskusi lambakasvatajale“. Lektor on lambakasvatuse konsulent Hillar Kalda. \n\n	Teemad: lambakasvatusega alustamine; lammaste karjamaade rajamine ja tarastamine; lammaste söötmine; karja tervis; loomade arvestuse pidamine; uute teadusuuringute tutvustus; loomade heaolu; nõuded mahelambakasvatajale. \n\n	Soovitav eelregistreerimine ttl@kodu.ee või 736 6955.
URL:https://www.pikk.ee/sundmus/infopaev-uusi-oskusi-ja-teadmisi-lambakasvatajale-2/
LOCATION:Lääne-Virumaa\, Lääne-Virumaa\, Eesti
CATEGORIES:Taimekasvatus
END:VEVENT
END:VCALENDAR