BEGIN:VCALENDAR
VERSION:2.0
PRODID:-//PIKK.ee - ECPv6.13.2.1//NONSGML v1.0//EN
CALSCALE:GREGORIAN
METHOD:PUBLISH
X-WR-CALNAME:PIKK.ee
X-ORIGINAL-URL:https://www.pikk.ee
X-WR-CALDESC:Events for PIKK.ee
REFRESH-INTERVAL;VALUE=DURATION:PT1H
X-Robots-Tag:noindex
X-PUBLISHED-TTL:PT1H
BEGIN:VTIMEZONE
TZID:Europe/Tallinn
BEGIN:DAYLIGHT
TZOFFSETFROM:+0200
TZOFFSETTO:+0300
TZNAME:EEST
DTSTART:20140330T010000
END:DAYLIGHT
BEGIN:STANDARD
TZOFFSETFROM:+0300
TZOFFSETTO:+0200
TZNAME:EET
DTSTART:20141026T010000
END:STANDARD
END:VTIMEZONE
BEGIN:VEVENT
DTSTART;VALUE=DATE:20141127
DTEND;VALUE=DATE:20141128
DTSTAMP:20260424T111040
CREATED:20171231T220000Z
LAST-MODIFIED:20171231T220000Z
UID:10006947-1417046400-1417132799@www.pikk.ee
SUMMARY:Infopäev "Uusi oskusi ja teadmisi lambakasvatajale"
DESCRIPTION:Võrumaa \nVõru vallavalitsus \nVõrumaa \n\n	Tartumaa Põllumeeste Liit korraldab 27. novembril algusega 10.00 Võru vallavalitsuse saalis Võrumõisa tee 4a infopäeva „Uusi teadmisi ja oskusi lambakasvatajale“. Lektor on lambakasvatuse konsulent Hillar Kalda. \n\n	Teemad: lambakasvatusega alustamine; lammaste karjamaade rajamine ja tarastamine; lammaste söötmine; karja tervis; loomade arvestuse pidamine; uute teadusuuringute tutvustus; loomade heaolu; nõuded mahelambakasvatajale. \n\n	Soovitav eelregistreerimine ttl@kodu.ee või 736 6955.
URL:https://www.pikk.ee/sundmus/infopaev-uusi-oskusi-ja-teadmisi-lambakasvatajale-3/
LOCATION:Võrumaa\, Võrumaa
CATEGORIES:Loomakasvatus
GEO:57.7377372;27.1398938
END:VEVENT
BEGIN:VEVENT
DTSTART;VALUE=DATE:20141127
DTEND;VALUE=DATE:20141128
DTSTAMP:20260424T111040
CREATED:20171231T220000Z
LAST-MODIFIED:20171231T220000Z
UID:10006963-1417046400-1417132799@www.pikk.ee
SUMMARY:Põllumajandustoetusi tutvustav infopäev
DESCRIPTION:Lääne-Virumaa \nRakvere Targa Maja Kompetentsikeskus (Turu plats 2\, Rakvere) \nLääne-Virumaa \n\n	\n	  \n\n	Põllumajandusministeerium korraldab tänavu 18. novembrist kuni 11. detsembrini üheksas maakonnas põllumajandustoetuste infopäevad\, kus tutvustatakse 2015. aastast kehtima hakkavaid uusi otsetoetusi ning Eesti maaelu arengukava 2014-2020 võimalusi tuleval aastal. \n\n	„Uuest aastast kehtima hakkavates otsetoetuste reeglites on palju uuendusi\, näiteks nn rohestamine\, mille detailid infopäevadel huvilistele lahti seletame\,“ ütles põllumajandus- ja maaelupoliitika asekantsler Illar Lemetti. „Infopäevadel tutvustame ka maaelu arengukava toetuste taotlemise tingimusi.“ \n\n	Ministeerium ootab infopäevadele osalema põllumajandustootjaid\, kelleni tuuakse teemad otsetoetustest kuni maaelu arengukava investeeringu- ja keskkonnatoetusteni. \n\n	\n	Infopäev toimub: \n\n	27. novembril Rakvere Targa Maja Kompetentsikeskus (Turu plats 2\, Rakvere)\n	Algusega kell 11.30\, kestab kuni 17.30. \n\n	\n	Täpne info ja ajakava on üleval Põllumajandusministeeriumi kodulehel:\n	http://www.agri.ee/et/pollumajandustoetuste-infopaevad-2015-otsetoetused-ja-uus-maaelu-arengukava \n	INFOPÄEVALE REGISTREERUMINE: http://goo.gl/forms/yk2TzeZmWf  \n	  \n\n	  \n\n	  \n\n	 
URL:https://www.pikk.ee/sundmus/pollumajandustoetusi-tutvustav-infopaev-5/
LOCATION:Lääne-Virumaa\, Lääne-Virumaa\, Eesti
CATEGORIES:Muu
END:VEVENT
END:VCALENDAR