BEGIN:VCALENDAR
VERSION:2.0
PRODID:-//PIKK.ee - ECPv6.13.2.1//NONSGML v1.0//EN
CALSCALE:GREGORIAN
METHOD:PUBLISH
X-WR-CALNAME:PIKK.ee
X-ORIGINAL-URL:https://www.pikk.ee
X-WR-CALDESC:Events for PIKK.ee
REFRESH-INTERVAL;VALUE=DURATION:PT1H
X-Robots-Tag:noindex
X-PUBLISHED-TTL:PT1H
BEGIN:VTIMEZONE
TZID:Europe/Tallinn
BEGIN:DAYLIGHT
TZOFFSETFROM:+0200
TZOFFSETTO:+0300
TZNAME:EEST
DTSTART:20140330T010000
END:DAYLIGHT
BEGIN:STANDARD
TZOFFSETFROM:+0300
TZOFFSETTO:+0200
TZNAME:EET
DTSTART:20141026T010000
END:STANDARD
END:VTIMEZONE
BEGIN:VEVENT
DTSTART;VALUE=DATE:20141201
DTEND;VALUE=DATE:20141202
DTSTAMP:20260419T213914
CREATED:20171231T220000Z
LAST-MODIFIED:20171231T220000Z
UID:10005956-1417392000-1417478399@www.pikk.ee
SUMMARY:MAK 2014-2020 investeeringutoetused põllumeestele
DESCRIPTION:Pärnumaa \nTõstamaa rahvamaja loengusaal\, Tõstamaa alevik\, Pärnumaa \nPärnumaa \n\n	\n	Pärnumaa Talupidajate Nõuandekeskus OÜ korraldab infopäeva teemal " MAK 2014 – 2020 investeeringutoetused põllumeestele".\n	Infopäev toimub 1. detsembril Tõstamaa rahvamaja loengusaalis algusega kell 10 00.\n	Lektor Olavy Sülla\n	Osalemiseks on vajalik eelregistreerimine. Info tel 4430923 või info[A]nouanne.ee \n\n	Osalemiseks registreerige end järgneval leheküljel\n	https://docs.google.com/forms/d/1c3fiibYET5khZEAHZjdmsvIPV84Q9eZCkFYhbNVzf9E/viewform?usp=send_form \n\n	Osalemine tasuta. Infopäeva toetab EU. viitenumber 112013671334\n	Tutvustusele tulevad järgmised meetmed :\n	1. Noorte põllumajandustootjate tegevuse alustamine\n	2. Väikeste põllumajandusettevõtete arendamine\n	3. Investeeringud põllumajandusettevõtte tulemuslikkuse parandamine\n	4. Investeeringud majandustegevuse mitmekesistamiseks maapiirkonnas mittepõllumajandusliku tegevuse suunas  \n\n	 
URL:https://www.pikk.ee/sundmus/mak-2014-2020-investeeringutoetused-pollumeestele/
LOCATION:Pärnumaa\, Pärnumaa\, Eesti
CATEGORIES:Muu
END:VEVENT
BEGIN:VEVENT
DTSTART;VALUE=DATE:20141201
DTEND;VALUE=DATE:20141202
DTSTAMP:20260419T213914
CREATED:20171231T220000Z
LAST-MODIFIED:20171231T220000Z
UID:10005981-1417392000-1417478399@www.pikk.ee
SUMMARY:Infopäev "Lepingute sõlmimine"
DESCRIPTION:Saaremaa \nKuressaares\, Saarte  Nõuandekeskuse õppeklassis  (Tallinna  tn. 27\, Kuressaare) \nSaaremaa \n\n	  \n\n	MTÜ Saarte Nõuandekeskus korraldab esmaspäeval\, 01. detsembril  2014.a. \n\n	Saare maakonnas  Kuressaares  Tallinna  tn. 27  MTÜ  Saarte  Nõuandekeskuse õppeklassis\, \n	algusega kell 10.00 \n\n	maakondliku infopäeva teemal:  „Lepingute sõlmimine“. \n\n	 \n	Käsitletakse lepinguõigust\, lepingute sõlmimist\, tõlgendamist\, erinevad lepingute liigid. Maaettevõtjatele vajalike lepingute näidised  ja nende baasil juriidilised tähelepanekud.   \n\n	\n	Lektor  Tiiu Tuhkanen. \n\n	Info telefonil ja registreerimine 45 56 145 ja 5136756 \n\n	  \n\n	Infopäev on tasuta ja selle korraldamist toetab EL meetmest 1.1. Toetuse taotluse viitenumber 112013741326.  \n	 
URL:https://www.pikk.ee/sundmus/infopaev-lepingute-solmimine/
LOCATION:Saaremaa\, Saaremaa
CATEGORIES:Muu
GEO:58.3705526;22.6876383
END:VEVENT
BEGIN:VEVENT
DTSTART;VALUE=DATE:20141201
DTEND;VALUE=DATE:20141202
DTSTAMP:20260419T213914
CREATED:20171231T220000Z
LAST-MODIFIED:20171231T220000Z
UID:10006980-1417392000-1417478399@www.pikk.ee
SUMMARY:Infopäev „Korrektne raamatupidamine on konkurentsivõime aluseks – muudatusi raamatupidamise seadustes“.
DESCRIPTION:Läänemaa \nPäeva villa \nLäänemaa \n\n	1. detsembril algusega 10.00 korraldab Tartumaa Põllumeeste Liit Päeva villas Haapsalus Lai 7 tasuta infopäeva „Korrektne raamatupidamine on konkurentsivõime aluseks – muudatusi raamatupidamise seadustes“. \n\n	Lektor on Aino Vooro. \n\n	Teemad. Muudatustest raamatupidamise toimkonna juhendites\, mis puudutavad põllumajandusettevõtteid. Sihtfinantseerimise arvestamine. \n\n	Erisoodustused: isikliku sõiduauto kasutamine; sõiduki (k. a traktor) tasuta või soodushinnaga kasutada andmine; laenu andmine; töölähetuse maksustamine; koolituskulud; esinduskulude maksustamine; ettevõtlusega mitteseotud kulude maksustamine; töötajate toitlustamisega ja tööriietega seotud kulud; töötajate tervisega seotud kulude maksustamine; kingituste annetuste maksustamine \n\n	Palk: keskmise töötasu ja puhkusetasu arvutamine; töötasu osad: põhitöötasu\, lisatasud\, hüvitised\, preemiad\, juurdemaksed; töötasu muutmise-vähendamise võimalused; leppetrahv ja trahv töölepingulise suhte korral; bruto- ja netotasu – töötasu arvutamise viisid ja dokumentatsioon; palgapäev; keskmise tööpäeva tasu arvutamine; keskmise kalendripäeva tasu arvutamine; puhkus ja puhkusetasu; kasutamata puhkuse hüvitis – lõpparve; haigushüvitis; keskmise kuutasu arvutamine koondamise puhul; õppepuhkuse tasu arvutamine. \n\n	Soovitav eelregistreerimine ttl[A]kodu.ee või 736 6955.
URL:https://www.pikk.ee/sundmus/infopaev-korrektne-raamatupidamine-on-konkurentsivoime-aluseks-muudatusi-raamatupidamise-seadustes/
LOCATION:Läänemaa
CATEGORIES:Finantsmajandus
END:VEVENT
END:VCALENDAR