BEGIN:VCALENDAR
VERSION:2.0
PRODID:-//PIKK.ee - ECPv6.13.2.1//NONSGML v1.0//EN
CALSCALE:GREGORIAN
METHOD:PUBLISH
X-WR-CALNAME:PIKK.ee
X-ORIGINAL-URL:https://www.pikk.ee
X-WR-CALDESC:Events for PIKK.ee
REFRESH-INTERVAL;VALUE=DURATION:PT1H
X-Robots-Tag:noindex
X-PUBLISHED-TTL:PT1H
BEGIN:VTIMEZONE
TZID:Europe/Tallinn
BEGIN:DAYLIGHT
TZOFFSETFROM:+0200
TZOFFSETTO:+0300
TZNAME:EEST
DTSTART:20140330T010000
END:DAYLIGHT
BEGIN:STANDARD
TZOFFSETFROM:+0300
TZOFFSETTO:+0200
TZNAME:EET
DTSTART:20141026T010000
END:STANDARD
END:VTIMEZONE
BEGIN:VEVENT
DTSTART;VALUE=DATE:20141209
DTEND;VALUE=DATE:20141210
DTSTAMP:20260421T051825
CREATED:20171231T220000Z
LAST-MODIFIED:20171231T220000Z
UID:10005983-1418083200-1418169599@www.pikk.ee
SUMMARY:Infopäev "Põllumajandus - ja maaelutoetused aastatel 2014-2020"
DESCRIPTION:Läänemaa \nHaapsalu\, Põllumajandusameti saal\, Jaani 10\, II korrus \nLäänemaa \n\n	Kell 10.00 -15.30 \n\n	Teemad \n\n	Otsetoetused 2015-2020 ja rohestamine ning seotud toetused. \n\n	Maastikuelementide ja uute maade deklareerimine \n\n	Maaelu arengukava 2014-2020 prioriteedid ja neist tulenevad meetmed\, ajakava. \n\n	Maaelu Arengukava 2014-2020 investeeringutoetused \n\n	Maaelu Arengukava 2014-2020 keskkonnatoetused \n\n	Lektorid: \n\n	Vaike Nõu\, Targo Pikkmets\, Silvi Tarang  – Läänemaa Nõuandekeskuse konsulendid \n\n	Infopäev on osalejatele tasuta ja toimub MAK koolitusmeetme 1.1 toetuse abil. \n\n	Osavõtust palume teatada telefonil 5650 6109 või e-posti aadressil  info@nouandla.ee \n\n	Korraldaja on Läänemaa Nõuandekeskus \n\n	  \n\n	  \n \n\n	              \n\n	 
URL:https://www.pikk.ee/sundmus/infopaev-pollumajandus-ja-maaelutoetused-aastatel-2014-2020/
LOCATION:Läänemaa
CATEGORIES:Taimekasvatus
END:VEVENT
BEGIN:VEVENT
DTSTART;VALUE=DATE:20141209
DTEND;VALUE=DATE:20141210
DTSTAMP:20260421T051825
CREATED:20171231T220000Z
LAST-MODIFIED:20171231T220000Z
UID:10006929-1418083200-1418169599@www.pikk.ee
SUMMARY:MAK 2014-2020 investeeringutoetused põllumeestele
DESCRIPTION:Pärnumaa \nVändra OÜ õppeklass\, Vändra vald \nPärnumaa \n\n	Pärnumaa Talupidajate Nõuandekeskus OÜ korraldab infopäeva teemal " MAK 2014 – 2020 investeeringutoetused põllumeestele". Infopäev toimub 9. detsembril Vändra vallas Vändra OÜ õppeklassis algusega kell 10 00. \n\n	Lektor Olavy Sülla \n\n	Osalemiseks on vajalik eelregistreerimine. Info tel 4430923 või info@nouanne.ee \n\n	Osalemiseks registreerige end järgneval leheküljel \n\n	https://docs.google.com/forms/d/1C6rRGWqbGJybkhECCmsrQN0uxWwvtOVUIRn2xiuVaMU/viewform?usp=send_form \n\n	Osalemine tasuta. Infopäeva toetab EU. viitenumber 112013671336 \n\n	Tutvustusele tulevad järgmised meetmed : \n\n	1. Noorte põllumajandustootjate tegevuse alustamine \n\n	2. Väikeste põllumajandusettevõtete arendamine \n\n	3. Investeeringud põllumajandusettevõtte tulemuslikkuse parandamine \n\n	4. Investeeringud majandustegevuse mitmekesistamiseks maapiirkonnas mittepõllumajandusliku tegevuse suunas
URL:https://www.pikk.ee/sundmus/mak-2014-2020-investeeringutoetused-pollumeestele-3/
LOCATION:Pärnumaa\, Pärnumaa\, Eesti
CATEGORIES:Muu
END:VEVENT
BEGIN:VEVENT
DTSTART;VALUE=DATE:20141209
DTEND;VALUE=DATE:20141210
DTSTAMP:20260421T051825
CREATED:20171231T220000Z
LAST-MODIFIED:20171231T220000Z
UID:10006991-1418083200-1418169599@www.pikk.ee
SUMMARY:Infopäev „Korrektne raamatupidamine on konkurentsivõime aluseks – muudatusi raamatupidamise seadustes“.
DESCRIPTION:Harjumaa \nHarju taluliit \nHarjumaa \n\n	9. detsembril algusega 10.00 korraldab Tartumaa Põllumeeste Liit Harju taluliidus Sakus Üksnurme tee 8 tasuta infopäeva „Korrektne raamatupidamine on konkurentsivõime aluseks – muudatusi raamatupidamise seadustes“. \n\n	Lektor on Aino Vooro. \n\n	Teemad. Muudatustest raamatupidamise toimkonna juhendites\, mis puudutavad põllumajandusettevõtteid. Sihtfinantseerimise arvestamine. \n\n	Erisoodustused: isikliku sõiduauto kasutamine; sõiduki (k. a traktor) tasuta või soodushinnaga kasutada andmine; laenu andmine; töölähetuse maksustamine; koolituskulud; esinduskulude maksustamine; ettevõtlusega mitteseotud kulude maksustamine; töötajate toitlustamisega ja tööriietega seotud kulud; töötajate tervisega seotud kulude maksustamine; kingituste annetuste maksustamine \n\n	Palk: keskmise töötasu ja puhkusetasu arvutamine; töötasu osad: põhitöötasu\, lisatasud\, hüvitised\, preemiad\, juurdemaksed; töötasu muutmise-vähendamise võimalused; leppetrahv ja trahv töölepingulise suhte korral; bruto- ja netotasu – töötasu arvutamise viisid ja dokumentatsioon; palgapäev; keskmise tööpäeva tasu arvutamine; keskmise kalendripäeva tasu arvutamine; puhkus ja puhkusetasu; kasutamata puhkuse hüvitis – lõpparve; haigushüvitis; keskmise kuutasu arvutamine koondamise puhul; õppepuhkuse tasu arvutamine. \n\n	Soovitav eelregistreerimine ttl@kodu.ee või 736 6955.
URL:https://www.pikk.ee/sundmus/infopaev-korrektne-raamatupidamine-on-konkurentsivoime-aluseks-muudatusi-raamatupidamise-seadustes-5/
LOCATION:Harjumaa\, Harjumaa\, Eesti
CATEGORIES:Finantsmajandus
END:VEVENT
END:VCALENDAR