BEGIN:VCALENDAR
VERSION:2.0
PRODID:-//PIKK.ee - ECPv6.13.2.1//NONSGML v1.0//EN
CALSCALE:GREGORIAN
METHOD:PUBLISH
X-ORIGINAL-URL:https://www.pikk.ee
X-WR-CALDESC:Events for PIKK.ee
REFRESH-INTERVAL;VALUE=DURATION:PT1H
X-Robots-Tag:noindex
X-PUBLISHED-TTL:PT1H
BEGIN:VTIMEZONE
TZID:Europe/Tallinn
BEGIN:DAYLIGHT
TZOFFSETFROM:+0200
TZOFFSETTO:+0300
TZNAME:EEST
DTSTART:20140330T010000
END:DAYLIGHT
BEGIN:STANDARD
TZOFFSETFROM:+0300
TZOFFSETTO:+0200
TZNAME:EET
DTSTART:20141026T010000
END:STANDARD
END:VTIMEZONE
BEGIN:VEVENT
DTSTART;VALUE=DATE:20141212
DTEND;VALUE=DATE:20141213
DTSTAMP:20260424T064502
CREATED:20171231T220000Z
LAST-MODIFIED:20171231T220000Z
UID:10005978-1418342400-1418428799@www.pikk.ee
SUMMARY:Infopäev "Ettevõtluse vormid"
DESCRIPTION:Hiiumaa \nKäinas\,  Mäe  tn. 2 \nHiiumaa \n\n	MTÜ Saarte Nõuandekeskus korraldab  12. detsembril  2014.a.   \n\n	Hiiumaal  Käinas  Mäe  tn. 2\, \n	algusega kell 10.00 maakondliku infopäeva teemal:  „Ettevõtluse vormid“. \n\n	\n	Käsitletakse erinevaid ettevõtluse vorme (FIE\,OÜ\, AS jne) \n\n	Ettevõtluse erinevad vormid\, nende plussid ja miinused. Millest lähtuda ettevõtlusvormi valikul. Ettevõtja õigused ja kohustused. Erinevused aruandluses ja maksustamises.   \n\n	\n	Lektorid  konsulendid:   Mai Vaher\, Epp Petrov ja Tiina Kattel. \n\n	Info telefonil ja registreerimine 45 56 145\, 46 31 191 ja 5136756. \n\n	  \n\n	Infopäev on tasuta ja selle korraldamist toetab EL meetmest 1.1. Toetuse taotluse viitenumber 112013391299.  \n	 
URL:https://www.pikk.ee/sundmus/infopaev-ettevotluse-vormid/
LOCATION:Hiiumaa\, Hiiumaa\, Eesti
CATEGORIES:Muu
END:VEVENT
BEGIN:VEVENT
DTSTART;VALUE=DATE:20141212
DTEND;VALUE=DATE:20141213
DTSTAMP:20260424T064502
CREATED:20171231T220000Z
LAST-MODIFIED:20171231T220000Z
UID:10006900-1418342400-1418428799@www.pikk.ee
SUMMARY:Infopäev "Eeltingimusprogrammide rakendamine toidukäitlemisettevõttes"
DESCRIPTION:Tartumaa \nTartu\, Eesti Maaülikool (Kreutzwaldi 56/1 ruum 303\, Tartu) \nTartumaa \n\n	  \n\n	Eesti Maaülikool korraldab Eesti Maaelu arengukava 2007-2013 meetme 1.1.1 raames infopäeva \n	EELTINGIMUSPROGRAMMIDE RAKENDAMINE TOIDUKÄITLEMISETTEVÕTTES  \n	Sihtrühm              põllumajandustoodete tootmise\, toidu tootmise või töötlemisega tegelevad füüsilised või eraõiguslikud juriidilised isikud ja tema töötajad \n	Maht                      7 akadeemilist tundi auditoorset tööd \n\n	  \n\n	Toimumisaeg ja -koht:  reede\, 12.12.2014\, Eesti Maaülikool\, Kreutzwaldi 56/1 ruum 303\, Tartu \n\n	                                                    \n\n	Teemad: \n\n	– eeltingimusprogrammide roll toiduohutuse tagamisel;\n	– taristu ja seadmed; \n	– toidu ohutu käitlemine (sh tsoneerimine\, allergeenide käitlemine\, pakendamine\, toiduga kokkupuutes olevad materjalid\, vedu); \n	– prügi ja jäätmete käitlemine; \n	– kahjuritõrje; \n	– puhastamine/pesemine ja desinfitseerimine; \n	– vee kvaliteet;   \n	– töötajate tervis\, koolitus ja isiklik hügieen; \n	– jälgitavuse tagamine;\n	– toidu tagasivõtmine turult. \n\n	  \n\n	Õppejõud Katrin Laikoja\, mag (tehn)\, Eesti Maaülikooli Veterinaarmeditsiini ja loomakasvatuse instituudi lektor \n\n	  \n\n	Ajakava \n	10.00 – 11.30 õppetöö\n	11.30 – 11.40 paus\n	11.40 – 13.10 õppetöö\n	13.10 – 13.40 kohvipaus\n	13.40 – 15.10 õppetöö\n	15.10 – 15.15 paus\n	15.15 – 16.00 õppetöö \n\n	  \n\n	Kursus on sihtrühmale tasuta. \n\n	Kohtade arv on piiratud\, \n	vajalik eelregistreerimine maaülikooli avatud ülikooli\n	tel 731 3175; 731 3275; 731 3174 \n	või täites registreerumisvormi maaülikooli kodulehe aadressil\n	http://avatudylikool.emu.ee/taiendope/registreeru-kursusele/  \n\n	Infopäeva korraldamist toetab Euroopa Liit.  \n	  \n\n	Eesti Maaülikooli Avatud ülikool\n	Tel 731 3174\,  731 3275\, 731 3175\n	avayl@emu.ee\n	http://avatudylikool.emu.ee/\n	Kreutzwaldi 56/1-304;306\n	51014 Tartu  \n\n	  \n\n	 
URL:https://www.pikk.ee/sundmus/infopaev-eeltingimusprogrammide-rakendamine-toidukaitlemisettevottes-4/
LOCATION:Tartumaa\, Eesti
CATEGORIES:Muu
GEO:58.4057128;26.801576
END:VEVENT
BEGIN:VEVENT
DTSTART;VALUE=DATE:20141212
DTEND;VALUE=DATE:20141213
DTSTAMP:20260424T064502
CREATED:20171231T220000Z
LAST-MODIFIED:20171231T220000Z
UID:10006996-1418342400-1418428799@www.pikk.ee
SUMMARY:Infopäev „Korrektne raamatupidamine on konkurentsivõime aluseks – muudatusi raamatupidamise seadustes“
DESCRIPTION:Saaremaa \nSarte nõuandekeskus \nSaaremaa \n\n	12. detsembril algusega 10.00 korraldab Tartumaa Põllumeeste Liit Saarte nõuandekeskuse õppeklassis Tallinna mnt 27 tasuta infopäeva „Korrektne raamatupidamine on konkurentsivõime aluseks – muudatusi raamatupidamise seadustes“. \n\n	Lektor on Aino Vooro. \n\n	Teemad. Muudatustest raamatupidamise toimkonna juhendites\, mis puudutavad põllumajandusettevõtteid. Sihtfinantseerimise arvestamine. \n\n	Erisoodustused: isikliku sõiduauto kasutamine; sõiduki (k. a traktor) tasuta või soodushinnaga kasutada andmine; laenu andmine; töölähetuse maksustamine; koolituskulud; esinduskulude maksustamine; ettevõtlusega mitteseotud kulude maksustamine; töötajate toitlustamisega ja tööriietega seotud kulud; töötajate tervisega seotud kulude maksustamine; kingituste annetuste maksustamine \n\n	Palk: keskmise töötasu ja puhkusetasu arvutamine; töötasu osad: põhitöötasu\, lisatasud\, hüvitised\, preemiad\, juurdemaksed; töötasu muutmise-vähendamise võimalused; leppetrahv ja trahv töölepingulise suhte korral; bruto- ja netotasu – töötasu arvutamise viisid ja dokumentatsioon; palgapäev; keskmise tööpäeva tasu arvutamine; keskmise kalendripäeva tasu arvutamine; puhkus ja puhkusetasu; kasutamata puhkuse hüvitis – lõpparve; haigushüvitis; keskmise kuutasu arvutamine koondamise puhul; õppepuhkuse tasu arvutamine. \n\n	Soovitav eelregistreerimine ttl@kodu.ee või 736 6955.
URL:https://www.pikk.ee/sundmus/infopaev-korrektne-raamatupidamine-on-konkurentsivoime-aluseks-muudatusi-raamatupidamise-seadustes-7/
LOCATION:Saaremaa\, Saaremaa
CATEGORIES:Finantsmajandus
GEO:58.3705526;22.6876383
END:VEVENT
BEGIN:VEVENT
DTSTART;VALUE=DATE:20141212
DTEND;VALUE=DATE:20141213
DTSTAMP:20260424T064502
CREATED:20171231T220000Z
LAST-MODIFIED:20171231T220000Z
UID:10007025-1418342400-1418428799@www.pikk.ee
SUMMARY:”Tapakoolitus nii teoorias kui praktikas” linnukasvatajatele
DESCRIPTION:Tartumaa \nTartus\, EMÜ ruumides Kreutzvaldi 62  \nTartumaa \n\n	\n	Järvamaa Kutsehariduskeskuse Särevere õppekoht korraldab TASUTA koolituse põllu- ja metsameestele\, toidutootjatele  ja – käitlejatele:\n\n	\n	12.-13.dets ”Tapakoolitus nii teoorias kui praktikas” linnukasvatajatele\n	(taotlus 111013510529) II grupp (16 tundi)\n	Tartus\, EMÜ ruumides Kreutzvaldi 62 \n\n	algus kell 9.00. \n\n	\n	Koolitus toimub Maaelu Arengu Euroopa Põllumajandusfondi finantseerimisel. \n	Täiendav info ja registreerimine  \n\n	Ruth Türk\n\n	ruth.turk@jkhk.ee\n\n	5329 2188\n\n	 www.jkhk.ee  \n\n	 \n\n	 
URL:https://www.pikk.ee/sundmus/tapakoolitus-nii-teoorias-kui-praktikas-linnukasvatajatele/
LOCATION:Tartumaa\, Eesti
CATEGORIES:Muu
GEO:58.4057128;26.801576
END:VEVENT
BEGIN:VEVENT
DTSTART;VALUE=DATE:20141212
DTEND;VALUE=DATE:20141213
DTSTAMP:20260424T064502
CREATED:20171231T220000Z
LAST-MODIFIED:20171231T220000Z
UID:10007030-1418342400-1418428799@www.pikk.ee
SUMMARY:Valgamaa põllumeeste konverents
DESCRIPTION:Valgamaa \nSangastes\, Sangaste lossis \nValgamaa \n	Valgamaa Põllumeeste Liit viib läbi Sügiskonverentsi teemal: \n\n	"EL uue finantsperioodi ülemineku aastast ja ülesanded ÜPP osas ja Maaelu arengukavast 2014-2020 tulenevalt" \n\n	Konverents toimub 12 detsembril 2014 Sangaste lossis algusega kell 10.00. \n	Esinevad Põllumajandusministeeriumi\, Keskkonnainspektsiooni\, VTA\, EMÜ jt spetsialistid. \n\n	Põhiteemad on otsetoetused\, MAK toetused\, rohestamine. \n\n	Konverents on osalejatele tasuta. \n	Vajalik eelregistreerimine telefonil 5042260 Jaan Bachmann.  \n	 
URL:https://www.pikk.ee/sundmus/valgamaa-pollumeeste-konverents/
LOCATION:Eesti
CATEGORIES:Muu
END:VEVENT
END:VCALENDAR