BEGIN:VCALENDAR
VERSION:2.0
PRODID:-//PIKK.ee - ECPv6.13.2.1//NONSGML v1.0//EN
CALSCALE:GREGORIAN
METHOD:PUBLISH
X-WR-CALNAME:PIKK.ee
X-ORIGINAL-URL:https://www.pikk.ee
X-WR-CALDESC:Events for PIKK.ee
REFRESH-INTERVAL;VALUE=DURATION:PT1H
X-Robots-Tag:noindex
X-PUBLISHED-TTL:PT1H
BEGIN:VTIMEZONE
TZID:Europe/Tallinn
BEGIN:DAYLIGHT
TZOFFSETFROM:+0200
TZOFFSETTO:+0300
TZNAME:EEST
DTSTART:20150329T010000
END:DAYLIGHT
BEGIN:STANDARD
TZOFFSETFROM:+0300
TZOFFSETTO:+0200
TZNAME:EET
DTSTART:20151025T010000
END:STANDARD
END:VTIMEZONE
BEGIN:VEVENT
DTSTART;VALUE=DATE:20150207
DTEND;VALUE=DATE:20150208
DTSTAMP:20260420T134820
CREATED:20171231T220000Z
LAST-MODIFIED:20171231T220000Z
UID:10006020-1423267200-1423353599@www.pikk.ee
SUMMARY:infopäev "Mesindus ja keskkond"
DESCRIPTION:Jõgevamaa \nPõltsamaa linn kohvik Rivaal seminariruum \nJõgevamaa \n\n	Põltsamaa Mesinike Selts korraldab Eesti Maaelu arengukava 2007-2013 meetme 1.1. raames infopäeva \n\n	          07. veebruaril 2015 algusega kell 10.00\, asukohaga kohvik Rivaal seminariruumis \n	           Põltsamaal Veski tn 1\, algusega kell 10.00 .\n	           Loengu pikkuseks on 4 tundi \n	Loengu teemaks:\n	1. Kuidas on meemesilased kohanenud keskkonnaga  Mesinik T.Holsting Fie\n	2. Mürgitamine ja kuidas mesinik peaks toimetama  Eesti Maaülikool\, teadur R.Karise\n	3. Väikeste põllumajandusettevõtete arendamine  Konsulent  L.Lust   \n\n	Ajakava \n	  9.30 – 10.10 hommikukohv\n	10.10 – 12.00 õppetöö\n	12.00 – 12.30 paus\n	12.30 – 14.30 õppetöö \n	Koolitus on sihtrühmale tasuta.\n	Koolitust korraldab: Põltsamaa Mesinike Selts\n	telefon 5250204 A.Seeder\n	ain.seeder@gmail.com
URL:https://www.pikk.ee/sundmus/infopaev-mesindus-ja-keskkond/
LOCATION:Jõgevamaa\, Jõgevamaa\, Eesti
CATEGORIES:Muu
END:VEVENT
END:VCALENDAR