BEGIN:VCALENDAR
VERSION:2.0
PRODID:-//PIKK.ee - ECPv6.13.2.1//NONSGML v1.0//EN
CALSCALE:GREGORIAN
METHOD:PUBLISH
X-WR-CALNAME:PIKK.ee
X-ORIGINAL-URL:https://www.pikk.ee
X-WR-CALDESC:Events for PIKK.ee
REFRESH-INTERVAL;VALUE=DURATION:PT1H
X-Robots-Tag:noindex
X-PUBLISHED-TTL:PT1H
BEGIN:VTIMEZONE
TZID:Europe/Tallinn
BEGIN:DAYLIGHT
TZOFFSETFROM:+0200
TZOFFSETTO:+0300
TZNAME:EEST
DTSTART:20150329T010000
END:DAYLIGHT
BEGIN:STANDARD
TZOFFSETFROM:+0300
TZOFFSETTO:+0200
TZNAME:EET
DTSTART:20151025T010000
END:STANDARD
END:VTIMEZONE
BEGIN:VEVENT
DTSTART;VALUE=DATE:20150210
DTEND;VALUE=DATE:20150211
DTSTAMP:20260422T003555
CREATED:20171231T220000Z
LAST-MODIFIED:20171231T220000Z
UID:10006052-1423526400-1423612799@www.pikk.ee
SUMMARY:MAK 2014-2020 rakenduvad toetused 2015 aastal
DESCRIPTION:Jõgevamaa \nKamari Seltsimaja Põltsamaa vald \nJõgevamaa \n\n	Jõgevamaa Põllumeeste Liit korraldab 10  veebruaril 2015.a algusega kell 10.00 Kamari seltsimajas ( Põltsamaa vald)   MAK 2014-2020 toetused 2015 aastal  \n\n	Teemad: \n\n	Käsitlemisele tulevad järgmised teemad: \n\n\n		Väikeste põllumajandusettevõtete arendamine\n\n		Investeeringud põllumajandusettevõtte tulemuslikkuse parandamiseks\n\n		tootjarühmade loomine\n\n		keskkonnatoetused\n\n		nõuandetoetus\n\n		Soovitused\, näpunäited toetuste taotlemisel.\n\n\n	 Lektorid: Liia Lust ja Epp Säga \n\n	Registreerimine e-posti aadressil: liia[A]kamari.ee\, tel 5235115 \n\n	Koolitust toetab Euroopa Liit. \n	 
URL:https://www.pikk.ee/sundmus/mak-2014-2020-rakenduvad-toetused-2015-aastal/
LOCATION:Jõgevamaa\, Jõgevamaa\, Eesti
CATEGORIES:Muu
END:VEVENT
BEGIN:VEVENT
DTSTART;VALUE=DATE:20150210
DTEND;VALUE=DATE:20150211
DTSTAMP:20260422T003555
CREATED:20171231T220000Z
LAST-MODIFIED:20171231T220000Z
UID:10007159-1423526400-1423612799@www.pikk.ee
SUMMARY:Konekesko põllumajandusmasinate infopäev
DESCRIPTION:Ida-Virumaa \nRakvere mnt 27\, Jõhvi \nIda-Virumaa \nKonekesko ootab teid põllumajandusmasinate koolitus- ja infopäevadele üle Eesti. \n\nKoolituse teemad ja ajakava:\n10.00 Massey Fergusoni traktorite tutvustus\n10.45 Põllumajandusrehvid – Optitrans OÜ\n11.45 GPS lahendused TOPCON – Hades Invest OÜ\n12.45 Lõunapaus\n13.15 Claasi tehnika\n14.15 Hardi taimekaitsetehnoloogia\n15.00 Traktori ja haakeriista ühendamine Lemkeni mullaharimismasinad ja külvikud \n\nInfo ja registreerimine:\nKatrin Kikerpill\, mob. 5257155; e-mail: katrin.kikerpill@kesko.ee
URL:https://www.pikk.ee/sundmus/konekesko-pollumajandusmasinate-infopaev/
LOCATION:Ida-Virumaa\, Ida-Virumaa\, Eesti
CATEGORIES:Muu
GEO:59.2592663;27.4136535
END:VEVENT
END:VCALENDAR