BEGIN:VCALENDAR
VERSION:2.0
PRODID:-//PIKK.ee - ECPv6.13.2.1//NONSGML v1.0//EN
CALSCALE:GREGORIAN
METHOD:PUBLISH
X-WR-CALNAME:PIKK.ee
X-ORIGINAL-URL:https://www.pikk.ee
X-WR-CALDESC:Events for PIKK.ee
REFRESH-INTERVAL;VALUE=DURATION:PT1H
X-Robots-Tag:noindex
X-PUBLISHED-TTL:PT1H
BEGIN:VTIMEZONE
TZID:Europe/Tallinn
BEGIN:DAYLIGHT
TZOFFSETFROM:+0200
TZOFFSETTO:+0300
TZNAME:EEST
DTSTART:20150329T010000
END:DAYLIGHT
BEGIN:STANDARD
TZOFFSETFROM:+0300
TZOFFSETTO:+0200
TZNAME:EET
DTSTART:20151025T010000
END:STANDARD
END:VTIMEZONE
BEGIN:VEVENT
DTSTART;VALUE=DATE:20150212
DTEND;VALUE=DATE:20150213
DTSTAMP:20260423T182845
CREATED:20171231T220000Z
LAST-MODIFIED:20171231T220000Z
UID:10006044-1423699200-1423785599@www.pikk.ee
SUMMARY:Täppisviljelustarkvara Ag Leader SMS koolitus
DESCRIPTION:Tartumaa \nEMÜ metsandus- ja maaehitusinstituudi õppehoone arvutiklass 0A5\, Kreutzwaldi 5\, Tartu \nTartumaa \n12 .veebruar 09:00 kuni 18:00 \nKoolitus on ette nähtud ülevaate andmiseks ja praktiliste oskuste elavdamiseks senistele ja potentsiaalsetele tarkvarakasutajatele. \nKoolitus toimub Eesti Maaülikooli arvutiklassis\, kus igale osalejale on kavandatud töökoht koos installeeritud tarkvaraga. Koolituse raames saab osaleja lahendada konkreetseid praktilisi ülesandeid. Seoses sellega on osalejate arv piiratud. Vajalik on eelregistreerimine. \nPäevakava\n09:00 – 09:15    Kogunemine\, tutvustus\n09:15 – 10:15    Sissejuhatus teemasse: "Andmete kogumine põllutöödel".\n10:15 – 11:00    Sissejuhatus tarkvarasse (installeerimine\, litsentsid\, uuendused\, ühilduvus\, varundamine\, kasutussoovitused).\n11:00 – 11:15    Paus.\n11:15 – 12:15    Ettevõtte struktuur\, andmevahetus\, masinandmete import\, kaardikihtide ülevaade\, koostamine\, kohandamine\, parandamine.\n12:15 – 13:00    Töö erinevate andmekihtidega\, "kolmandate" andmete import.\n13:00 – 13:45    Lõuna.\n13:45 – 14:30    Töötlemiskaartide koostamine\, eksport masinatesse.\n14:30 – 15:00    Aruanded\, graafikud. Kaasnev informatsioon ja erivahendid.\n15:00 – 15:15    Paus.\n15:15 – 16:00    Analüüs ja väljundid. Tööarvestus. Lisafunktsioonid.\n16:00 – 17:45    Milleks on tarkvara vaja? / Arutelu.\n17:45 – 18:00    Kokkuvõte ja lõpetamine. \nKoolitus on osalejatele tasuta\, korraldab Eesti Maaülikool MAK meetme 1.1 raames. Toetab Euroopa Liit. \n  \nKoolitusel osalemiseks eelnevalt registreeruda:\nToomas Tõrra: toomas.torra@emu.ee \, tel.: 501 8038\nvõi\nJaanus Kilgi: jaanus@tatoli.ee \, tel.: 53 404 656\n  \n \n 
URL:https://www.pikk.ee/sundmus/tappisviljelustarkvara-ag-leader-sms-koolitus/
LOCATION:Tartumaa\, Eesti
CATEGORIES:Taimekasvatus
GEO:58.4057128;26.801576
END:VEVENT
BEGIN:VEVENT
DTSTART;VALUE=DATE:20150212
DTEND;VALUE=DATE:20150213
DTSTAMP:20260423T182845
CREATED:20171231T220000Z
LAST-MODIFIED:20171231T220000Z
UID:10007080-1423699200-1423785599@www.pikk.ee
SUMMARY:Taimekaitse täienduskoolitus professionaalsele taimekaitsevahendite kasutajale
DESCRIPTION:Võrumaa \nVõru Vallavalitsuse saal\, Võrumõisa tee 4\, Võru \nVõrumaa \nRäpina Aianduskool korraldab 12.-13. veebruar Taimekaitse täienduskoolituse professionaalsele taimekaitsevahendite kasutajale. \nKoolituse algus 9.00\, maht 14 h. \nKoolituste sihtgrupp: põllumajandustoodete tootmise\, toidu tootmise ja töötlemise või metsa majandamisega tegelevad füüsilised või eraõiguslikud juriidilised isikud ja tema töötajad ning koolituse läbiviimist toetab PRIA. Koolitus on sihtgruppi kuuluvatele inimestele/talunikele tasuta. \nKõik taimekaitse koolitused vastavad Põllumajandusministri määrusele 18.11.2013 nr.67\, mis jõustus 26.11.2013.\nKõikidele koolitustele vajalik eelregistreerimine. Registreerimine igale koolitusele lõpetatakse õppegrupi\ntäitumisel või 5 tööpäeva enne koolituse algust. Info ja koolitusele registreerimine Räpina Aianduskooli\nkodulehel www.aianduskool.ee või tel 7961 549 ja 53 461 209. \nInfo teiste taimekaitsekoolituste kohta \n  \nKoolituste kontaktisik\nEda Gross\nRäpina Aianduskooli täienduskoolituse metoodik \n  \n \n 
URL:https://www.pikk.ee/sundmus/taimekaitse-taienduskoolitus-professionaalsele-taimekaitsevahendite-kasutajale-2/
LOCATION:Võrumaa\, Võrumaa
CATEGORIES:Taimekaitse
GEO:57.7377372;27.1398938
END:VEVENT
BEGIN:VEVENT
DTSTART;VALUE=DATE:20150212
DTEND;VALUE=DATE:20150213
DTSTAMP:20260423T182845
CREATED:20171231T220000Z
LAST-MODIFIED:20171231T220000Z
UID:10007142-1423699200-1423785599@www.pikk.ee
SUMMARY:Infopäev "Teaduselt maheloomakasvatajale
DESCRIPTION:Pärnumaa \nPärnu linnavalitsus \nPärnumaa \n\n	Tartumaa Põllumeeste Liit korraldab 12. veebruaril algusega 10.00 Pärnu linnavalitsuse planeeringute saalis (ruum 3) Suur-Sepa 16\, I korrus tasuta infopäeva „Teaduselt maheloomakasvatajale“. Teemad: veiste söötmine; karjamaade majandamine; proteiinisöödad; linnukasvatuse mobiilsed lindlad. Lektor on Margo Mansberg. \n\n	Soovitav eelregistreerimine ttl@kodu.ee või 736 6955.
URL:https://www.pikk.ee/sundmus/infopaev-teaduselt-maheloomakasvatajale-3/
LOCATION:Pärnumaa\, Pärnumaa\, Eesti
CATEGORIES:Loomakasvatus
END:VEVENT
BEGIN:VEVENT
DTSTART;VALUE=DATE:20150212
DTEND;VALUE=DATE:20150213
DTSTAMP:20260423T182845
CREATED:20171231T220000Z
LAST-MODIFIED:20171231T220000Z
UID:10007157-1423699200-1423785599@www.pikk.ee
SUMMARY:Baltic Agro taimekasvatusseminar 2015
DESCRIPTION:Tartumaa \nEesti Maaülikooli spordihoone\, Fr. R. Kreutzwaldi 3\, Tartu \nTartumaa \nBaltic Agro iga-aastased talveseminarid toimuvad seekord neljas linnas: Pärnus\, Jõhvis\, Tallinnas ja Tartus. Märksõnadeks on taimekasvatuse tulusus\, toodangu omahind\, rekordsaagid ning teravilja eksport. \nAJAKAVA\nKogunemine hommikukohvile\n10.00 seminari esimene osa:\nMullaviljakus ja väetamine saagi kujundajana.\nVäetiste turg 2014/2015. NPK väetiste valik.\nFluorimeetrilise kiiranalüüsi kogemused. Täiendväetamise lahendused.\nTulukas taimekasvatus. \n12.30 lõuna\n13.30 seminari teine osa:\nTaimekasvatuse väljakutsed muutuvas maailmas – taimekaitse lahendused.\nParimad kogemused põllumeestelt.\nViljakaubandus.\n16.00 seminari lõpetamine \nRohkem infot leiab ning registreerida saab Baltic Agro kodulehel või oma piirkonna müügiesindaja juures. \nBaltic Agro AS\nwww.balticagro.ee\ntel 606 2260
URL:https://www.pikk.ee/sundmus/baltic-agro-taimekasvatusseminar-2015-4/
LOCATION:Tartumaa\, Eesti
CATEGORIES:Taimekasvatus
GEO:58.4057128;26.801576
END:VEVENT
BEGIN:VEVENT
DTSTART;VALUE=DATE:20150212
DTEND;VALUE=DATE:20150213
DTSTAMP:20260423T182845
CREATED:20171231T220000Z
LAST-MODIFIED:20171231T220000Z
UID:10007165-1423699200-1423785599@www.pikk.ee
SUMMARY:Konekesko põllumajandusmasinate infopäev
DESCRIPTION:Raplamaa \nSauna 2\, Märjamaa \nRaplamaa \nKonekesko ootab teid põllumajandusmasinate koolitus- ja infopäevadele üle Eesti. \n\nKoolituse teemad ja ajakava:\n10.00 Massey Fergusoni traktorite tutvustus\n10.45 Põllumajandusrehvid – Optitrans OÜ\n11.45 GPS lahendused TOPCON – Hades Invest OÜ\n12.45 Lõunapaus\n13.15 Claasi tehnika\n14.15 Hardi taimekaitsetehnoloogia\n15.00 Traktori ja haakeriista ühendamine Lemkeni mullaharimismasinad ja külvikud \n\nInfo ja registreerimine:\nKatrin Kikerpill\, mob. 5257155; e-mail: katrin.kikerpill@kesko.ee
URL:https://www.pikk.ee/sundmus/konekesko-pollumajandusmasinate-infopaev-3/
LOCATION:Raplamaa\, Raplamaa
CATEGORIES:Muu
GEO:58.8492625;24.7346569
END:VEVENT
BEGIN:VEVENT
DTSTART;VALUE=DATE:20150212
DTEND;VALUE=DATE:20150213
DTSTAMP:20260423T182845
CREATED:20171231T220000Z
LAST-MODIFIED:20171231T220000Z
UID:10006019-1423699200-1423785599@www.pikk.ee
SUMMARY:Euroopa Liidu toetused põllumajandusele- pindala ja investeeringud
DESCRIPTION:Ida-Virumaa \nTudulinna Kultuurimaja\, Tudulinna vald\, Ida- Virumaa \nIda-Virumaa \n\n	Ida- Virumaa Talupidajate Liit korraldab infopäeva teemal: \n\n	Euroopa Liidu toetused põllumajandusele- investeeringud ja pindala \n\n	·         Käsitlemisele tulevad järgmised teemad: \n\n	·         Väikeste põllumajandusettevõtete arendamine \n\n	·         Investeeringud põllumajandusettevõtte tulemuslikkuse parandamiseks \n\n	·         Otsetoetused (ÜPT\, rohestamine) \n\n	·         Soovitused\, näpunäited toetuste taotlemisel. \n\n	 Lektorid: Maie Paas\, Arvo Aller ja Heiki Unt \n\n	Algus kell 10.00 \n\n	Registreerimine e-posti aadressil: info[A]ivtl.ee\, tel 33 70527 \n\n	Koolitust toetab Euroopa Liit.
URL:https://www.pikk.ee/sundmus/euroopa-liidu-toetused-pollumajandusele-pindala-ja-investeeringud-3/
LOCATION:Ida-Virumaa\, Ida-Virumaa\, Eesti
CATEGORIES:Muu
GEO:59.2592663;27.4136535
END:VEVENT
END:VCALENDAR