BEGIN:VCALENDAR
VERSION:2.0
PRODID:-//PIKK.ee - ECPv6.13.2.1//NONSGML v1.0//EN
CALSCALE:GREGORIAN
METHOD:PUBLISH
X-WR-CALNAME:PIKK.ee
X-ORIGINAL-URL:https://www.pikk.ee
X-WR-CALDESC:Events for PIKK.ee
REFRESH-INTERVAL;VALUE=DURATION:PT1H
X-Robots-Tag:noindex
X-PUBLISHED-TTL:PT1H
BEGIN:VTIMEZONE
TZID:Europe/Tallinn
BEGIN:DAYLIGHT
TZOFFSETFROM:+0200
TZOFFSETTO:+0300
TZNAME:EEST
DTSTART:20150329T010000
END:DAYLIGHT
BEGIN:STANDARD
TZOFFSETFROM:+0300
TZOFFSETTO:+0200
TZNAME:EET
DTSTART:20151025T010000
END:STANDARD
END:VTIMEZONE
BEGIN:VEVENT
DTSTART;VALUE=DATE:20150302
DTEND;VALUE=DATE:20150303
DTSTAMP:20260424T085651
CREATED:20171231T220000Z
LAST-MODIFIED:20171231T220000Z
UID:10007172-1425254400-1425340799@www.pikk.ee
SUMMARY:Koolitus "Mahepõllumajandusliku taimekasvatuse teadusuuringud"
DESCRIPTION:Viljandimaa \nEttevõtluskõrgkool Mainoris\, Tallinna 19/21\, Viljandi \nViljandimaa \n\n	Eesti Mahepõllumajanduse SA korralab järgmised infopäevad  "Mahepõllumajandusliku taimekasvatuse teadusuuringud"  : \n\n	Viljandis 2.03.15 kell 10:00-15:00  Ettevõtluskõrgkool Mainor\, Tallinna 19/21 \n\n	Rakveres 6.03.15 kell 11:00-16:00 Kolmainu kiriku kantselei maja\, Pikk 19 \n\n	Pärnus 6.03.15 kell  10:00-15:00 Pärnu Põllumajandusameti saalis\, Kerese 4\, Pärnu \n\n	Sakus 9.03.15 kell 11:00-16:00 Harju Taluliidu Nõuandekeskus\, Üksnurme tee 8\,  III korrus \n\n	Teemad Viljandis ja Pärnus: \n\n	Põllukultuuride maheviljeluses saksakeelsetes maades tehtavate teadusuuringute tutvutus: \n\n	– Mullaviljakuse ja huumuse uuringud \n\n	– Minimeeritud harimise uuringud \n\n	– Umbrohtumuse ja taimekaitse uuringud \n\n	Mahetaimekasvatuse peamised probleemid\, arutelu \n\n	Lektorid Margo Mansberg\, Airi Vetemaa \n\n	  \n\n	Teemad Rakveres ja Sakus: \n\n	Põllukultuuride maheviljeluses Eesti Taimekasvatuse Instituudis tehtavate teadusuuringute tutvutus: \n\n	– Erinevate liblikõieliste heintaimede sobivus eelkultuurideks maheviljeluses. \n\n	– Mitmete Jõgeval käivitunud Euroopa Liidu mahepõllumajandusega seotud projektide ülevaade (vähemlevinud teraviljad\, mahesordiaretus jt) \n\n	Mahetaimekasvatuse peamised probleemid\, arutelu \n\n	Lektorid Ilmar Tamm\, Merit Mikk \n\n	Koolitus on tasuta\, osalemiseks vajalik eelregistreerumine mahepm[A]gmail.com\, 56620955; kohtade arv on piiratud\, registreerumine lõpetatakse kohtade täitumisel. \n\n	Koolitus läheb arvesse mahepõllumajandusliku tootmise toetuse raames nõutava kohustusliku koolitusena \n\n	Koolitus toimub MAK meetme 1.1 raames\,  toetab Euroopa Liit. \n \n\n	  \n\n	Registreerumine on lõppenud kohtade täitumise tõttu. \n\n	 
URL:https://www.pikk.ee/sundmus/koolitus-mahepollumajandusliku-taimekasvatuse-teadusuuringud/
LOCATION:Viljandimaa\, Viljandimaa\, Eesti
CATEGORIES:Taimekasvatus
GEO:58.2821746;25.5752233
END:VEVENT
END:VCALENDAR