BEGIN:VCALENDAR
VERSION:2.0
PRODID:-//PIKK.ee - ECPv6.13.2.1//NONSGML v1.0//EN
CALSCALE:GREGORIAN
METHOD:PUBLISH
X-WR-CALNAME:PIKK.ee
X-ORIGINAL-URL:https://www.pikk.ee
X-WR-CALDESC:Events for PIKK.ee
REFRESH-INTERVAL;VALUE=DURATION:PT1H
X-Robots-Tag:noindex
X-PUBLISHED-TTL:PT1H
BEGIN:VTIMEZONE
TZID:Europe/Tallinn
BEGIN:DAYLIGHT
TZOFFSETFROM:+0200
TZOFFSETTO:+0300
TZNAME:EEST
DTSTART:20150329T010000
END:DAYLIGHT
BEGIN:STANDARD
TZOFFSETFROM:+0300
TZOFFSETTO:+0200
TZNAME:EET
DTSTART:20151025T010000
END:STANDARD
END:VTIMEZONE
BEGIN:VEVENT
DTSTART;VALUE=DATE:20150304
DTEND;VALUE=DATE:20150305
DTSTAMP:20260420T100941
CREATED:20171231T220000Z
LAST-MODIFIED:20171231T220000Z
UID:10005960-1425427200-1425513599@www.pikk.ee
SUMMARY:Konverents “Terve loom ja tervislik toit 2015”
DESCRIPTION:Tartumaa \nEesti Maaülikooli peahoone aulas\, Kreutzwaldi 1a\, Tartu \nTartumaa \nKonverents "Terve loom ja tervislik toit 2015" toimub 4.-5. märtsil 2015 Eesti Maaülikooli peahoone aulas (Kreutzwaldi 1a\, Tartu). \nJuba seitsmendat korda toimuv konverents käsitleb nii loomakasvatuse kui toidutehnoloogia ja -hügieeniga seotud teemasid. 4. märtsil saavad soovijad osaleda lisatasu eest konverentsi ühisel koosviibimisel ja õhtusöögil Café Shakespeare´s. \nKonverentsi korraldab Eesti Maaülikooli veterinaarmeditsiini ja loomakasvatuse instituut. Üritust kaasrahastatakse Maaelu Arengu Euroopa Põllumajandusfondi poolt koolitus- ja teavitustegevuse programmi (MAK meede 1.1) 2010 kaudu. \nRegistreerumine lõppeb 24.02.2015! \nKonverents on kõigile osavõtjatele tasuta. \nProgrammi leiad siit. \nRegistreerimisvorm \n 
URL:https://www.pikk.ee/sundmus/konverents-terve-loom-ja-tervislik-toit-2015/
LOCATION:Tartumaa\, Eesti
CATEGORIES:Loomakasvatus
GEO:58.4057128;26.801576
END:VEVENT
BEGIN:VEVENT
DTSTART;VALUE=DATE:20150304
DTEND;VALUE=DATE:20150305
DTSTAMP:20260420T100941
CREATED:20171231T220000Z
LAST-MODIFIED:20171231T220000Z
UID:10006058-1425427200-1425513599@www.pikk.ee
SUMMARY:Infopäev Toidu sensoorika II
DESCRIPTION:Harjumaa \nToidu- ja Fermentatsioonitehnoloogia Arenduskeskus (TFTAK)\, Akadeemia tee 15A\, Tallinn \nHarjumaa \nEPKK korraldab toiduekspertidele Tallinnas Toidu- ja Fermentatsioonitehnoloogia Arenduskeskuses (TFTAK)\nInfopäeva Toidu Sensoorika II \,viitenumber 112013371141. \nKoolituspäeva kava:\n9:45-10:00           Kogunemine ja osalejate registreerimine\n10:00-10:20        Põhimaitsete tuvastamine – duo-trio test\n10:20-10:45        Lõhnamolekulid\n10:45-11:15        Maitselävede tuvastamine – standardtest (viiele põhimaitsele: magus\, soolane\, hapu\, kibe\, umami)\n11:15-12:15        Hindamiskomisjoni koolituse teooria – assessoritele esitatavad nõuded\, komisjoni töö eripära\, hindamise põhitõed\n12:15-12:45        Praktilised ülesanded: erinevate proovide hindamine\n12:45-13:45        Kirjeldav sensoorne analüüs (juust)\n13:45-14:00        Päeva kokkuvõte\, tulemused\, küsimused \nLisainfo \nKristi Varrik\nEPKK toiduvaldkonna spetsialist\nkristi@epkk.ee\n+372 600 9349\nwww.epkk.ee
URL:https://www.pikk.ee/sundmus/infopaev-toidu-sensoorika-ii/
LOCATION:Harjumaa\, Harjumaa\, Eesti
CATEGORIES:Toiduainete tootmine
END:VEVENT
END:VCALENDAR