BEGIN:VCALENDAR
VERSION:2.0
PRODID:-//PIKK.ee - ECPv6.13.2.1//NONSGML v1.0//EN
CALSCALE:GREGORIAN
METHOD:PUBLISH
X-WR-CALNAME:PIKK.ee
X-ORIGINAL-URL:https://www.pikk.ee
X-WR-CALDESC:Events for PIKK.ee
REFRESH-INTERVAL;VALUE=DURATION:PT1H
X-Robots-Tag:noindex
X-PUBLISHED-TTL:PT1H
BEGIN:VTIMEZONE
TZID:Europe/Tallinn
BEGIN:DAYLIGHT
TZOFFSETFROM:+0200
TZOFFSETTO:+0300
TZNAME:EEST
DTSTART:20150329T010000
END:DAYLIGHT
BEGIN:STANDARD
TZOFFSETFROM:+0300
TZOFFSETTO:+0200
TZNAME:EET
DTSTART:20151025T010000
END:STANDARD
END:VTIMEZONE
BEGIN:VEVENT
DTSTART;VALUE=DATE:20150327
DTEND;VALUE=DATE:20150328
DTSTAMP:20260422T064257
CREATED:20171231T220000Z
LAST-MODIFIED:20171231T220000Z
UID:10006064-1427414400-1427500799@www.pikk.ee
SUMMARY:Infopäev "Suvi- ja talirapsi agrotehnika"
DESCRIPTION:Lääne-Virumaa \nMaavalitsuse õppeklass \nLääne-Virumaa \n\n	Tartumaa Põllumeeste Liit korraldab 27. märsil algusega 10.00 Lääne-Viru maavalitsuse õppeklassis (ruum 3\, I k) Kreutzwaldi 5 tasuta infopäeva „Suvi- ja talirapsi agrotehnika“. \n\n	Teemad: rapsi kahjurid ja haigused ning nende tõrje õige ajastamine; talirapsi talvitumine sõltuvalt külviajast ja külvisenormist; külviaja mõju talirapsi saagile ja selle kvaliteedile\, suvirapsi lehekaudne väetamine ning selle mõju saagile ning saagi kvaliteedile; küsimused-vastused \n\n	Lektorid on Tiiu Annuk Scandagrast ja Peeter Lääniste EMÜst. \n\n	Soovitav eelregistreerimine ttl@kodu.ee või 736 6955.
URL:https://www.pikk.ee/sundmus/infopaev-suvi-ja-talirapsi-agrotehnika-8/
LOCATION:Lääne-Virumaa\, Lääne-Virumaa\, Eesti
CATEGORIES:Taimekasvatus
END:VEVENT
BEGIN:VEVENT
DTSTART;VALUE=DATE:20150327
DTEND;VALUE=DATE:20150328
DTSTAMP:20260422T064257
CREATED:20171231T220000Z
LAST-MODIFIED:20171231T220000Z
UID:10007107-1427414400-1427500799@www.pikk.ee
SUMMARY:Infopäev "Eeltingimusprogrammide rakendamine toidukäitlemisettevõtetele"
DESCRIPTION:Võrumaa \nHotell Tamula\, Vee tn 4\, Võru \nVõrumaa \nEesti Maaülikool korraldab Eesti Maaelu arengukava 2007-2013 meetme 1.1.1 raames infopäeva\n"Eeltingimusprogrammide rakendamine toidukäitlemisettevõtetele" \nSihtrühm: põllumajandustoodete tootmise\, toidu tootmise või töötlemisega tegelevad füüsilised või eraõiguslikud juriidilised isikud ja tema töötajad \nMaht: 7 akadeemilist tundi auditoorset tööd \nTeemad:\n– eeltingimusprogrammide roll toiduohutuse tagamisel;\n– taristu ja seadmed;\n– toidu ohutu käitlemine (sh tsoneerimine\, allergeenide käitlemine\, pakendamine\, toiduga kokkupuutes olevad materjalid\, vedu);\n– prügi ja jäätmete käitlemine;\n– kahjuritõrje;\n– puhastamine/pesemine ja desinfitseerimine;\n– vee kvaliteet;\n– töötajate tervis\, koolitus ja isiklik hügieen;\n– jälgitavuse tagamine;\n– toidu tagasivõtmine turult. \nÕppejõud: Katrin Laikoja\, mag (tehn)\, Eesti Maaülikooli Veterinaarmeditsiini ja loomakasvatuse instituudi lektor \nAjakava:\n10.00 – 11.30 õppetöö\n11.30 – 11.40 paus\n11.40 – 13.10 õppetöö\n13.10 – 13.40 kohvipaus\n13.40 – 15.10 õppetöö\n15.10 – 15.15 paus\n15.15 – 16.00 õppetöö \nKursus on sihtrühmale tasuta. \nKohtade arv on piiratud\, vajalik eelregistreerimine:\nMaaülikooli avatud ülikooli tel 731 3175; 731 3275; 731 3174 või täites registreerumisvormi maaülikooli kodulehe aadressil http://avatudylikool.emu.ee/taiendope/registreeru-kursusele/
URL:https://www.pikk.ee/sundmus/infopaev-eeltingimusprogrammide-rakendamine-toidukaitlemisettevotetele-2/
LOCATION:Võrumaa\, Võrumaa
CATEGORIES:Toiduainete tootmine
GEO:57.7377372;27.1398938
END:VEVENT
BEGIN:VEVENT
DTSTART;VALUE=DATE:20150327
DTEND;VALUE=DATE:20150328
DTSTAMP:20260422T064257
CREATED:20171231T220000Z
LAST-MODIFIED:20171231T220000Z
UID:10007248-1427414400-1427500799@www.pikk.ee
SUMMARY:Maapiirkonnas majandustegevuse mitmekesistamise investeeringutoetuse infopäev
DESCRIPTION:Valgamaa \nalgusega kell 10.00 Sangaste Seltsimajas\, Valga Maakonnas \nValgamaa \n\n	Teemad: Toetuse eesmärgid\, nõuded\, hindamiskriteeriumid\, põllumajandustootjate lisategevuse võimalused\, tähelepanekud majandusaasta aruande koostamisel\, vead\, mida saab taotlemisel vältida\,                    \n\n	Korraldaja: Põlvamaa Põllumeeste Liidu Nõuandekeskus     \n\n	Lektorid: Ulvi Ajalik ja Epp Säga  – Põlvamaa Põllumeeste Liidu Nõuandekeskuse konsulendid \n\n	Infopäeva korraldamist  toetab EL koolitus ja  teavitustegevuse  M1.1 raames ja on osalejale tasuta. \n\n	Palume osalemisest teatada: \n\n	tel .79 92 928 e-mail: pltl@estpak.ee\, mob 56608028
URL:https://www.pikk.ee/sundmus/maapiirkonnas-majandustegevuse-mitmekesistamise-investeeringutoetuse-infopaev/
LOCATION:Järvamaa\, Eesti
CATEGORIES:Maaettevõtlus
END:VEVENT
BEGIN:VEVENT
DTSTART;VALUE=DATE:20150327
DTEND;VALUE=DATE:20150328
DTSTAMP:20260422T064257
CREATED:20171231T220000Z
LAST-MODIFIED:20171231T220000Z
UID:10007257-1427414400-1427500799@www.pikk.ee
SUMMARY:Infopäev „Sõstrakasvatus: kaasajal ja lähitulevikus\, majanduslik tasuvus ühistegevuse kaudu“.
DESCRIPTION:Põlvamaa \nPesa hotell \nPõlvamaa \n\n	Tartumaa Põllumeeste Liit korraldab 27. märtsil algusega 10.00 Põlvas Pesa hotellis tasuta infopäeva „Sõstrakasvatus: kaasajal ja lähitulevikus\, majanduslik tasuvus ühistegevuse kaudu“. \n\n	Teemad: taimede valik\, kasvatamine ja hooldamine; saagi koristamise kvaliteet\, korjamine vähese tööjõuga; tüüpvead marjakasvatuses; turg ühistegevuse kaudu\, tulevikusuunad maailmas ja majanduslik tasuvus. \n\n	Lektorid on Margus Kopp EMÜst ja konsulent Merry Aart. Soovitav eelregistreerimine ttl@kodu.ee või 736 6955.
URL:https://www.pikk.ee/sundmus/infopaev-sostrakasvatus-kaasajal-ja-lahitulevikus-majanduslik-tasuvus-uhistegevuse-kaudu-3/
LOCATION:Põlvamaa\, Põlvamaa\, Eesti
CATEGORIES:Aiandus
GEO:58.1160622;27.2066394
END:VEVENT
END:VCALENDAR