BEGIN:VCALENDAR
VERSION:2.0
PRODID:-//PIKK.ee - ECPv6.13.2.1//NONSGML v1.0//EN
CALSCALE:GREGORIAN
METHOD:PUBLISH
X-WR-CALNAME:PIKK.ee
X-ORIGINAL-URL:https://www.pikk.ee
X-WR-CALDESC:Events for PIKK.ee
REFRESH-INTERVAL;VALUE=DURATION:PT1H
X-Robots-Tag:noindex
X-PUBLISHED-TTL:PT1H
BEGIN:VTIMEZONE
TZID:Europe/Tallinn
BEGIN:DAYLIGHT
TZOFFSETFROM:+0200
TZOFFSETTO:+0300
TZNAME:EEST
DTSTART:20150329T010000
END:DAYLIGHT
BEGIN:STANDARD
TZOFFSETFROM:+0300
TZOFFSETTO:+0200
TZNAME:EET
DTSTART:20151025T010000
END:STANDARD
END:VTIMEZONE
BEGIN:VEVENT
DTSTART;VALUE=DATE:20150408
DTEND;VALUE=DATE:20150409
DTSTAMP:20260423T023000
CREATED:20171231T220000Z
LAST-MODIFIED:20171231T220000Z
UID:10007272-1428451200-1428537599@www.pikk.ee
SUMMARY:infopäev " Maapiirkonna majandustegevuse mitmekesistamise investeeringutoetuse taotlemine"
DESCRIPTION:Pärnumaa \nP.Kerese 4 Pärnu Põllumajandusameti saal \nPärnumaa \n\n	Pärnumaa Talupidajate Liit korraldab 8 aprillil P. Kerese 4 Pärnu Põllumajandusameti saalis algusega kell 10 00 infopäeva teemal "Maapiirkonna majandustegevuse mitmekesistamise investeeringutoetuse taotlemine"  \n\n	Iinfopäeva pikkuseks kuni 4 tundi\n	Lektor Olavy Sülla\n	Osalemistasu taluliidu liikmetele 25 +km eurot\n	Teistele osalejatele 50+km eurot.\n	Maksmine võimalik vaid ülekandega arvete alusel.\n	Registreerimine kohustuslik antud lehel või e-mailil info@nouanne.ee\n	Info tel 56605964\n	Antud meede avaneb PRIAs 13 aprill ja läheb lukku 20 aprill. \n	Registreerida on võimalik järgmisel lingil  https://docs.google.com/forms/d/1F4fFu8DpL3J7e2iJBbqoa_84Q1-SIFsU58nZhQQj68Q/viewform
URL:https://www.pikk.ee/sundmus/infopaev-maapiirkonna-majandustegevuse-mitmekesistamise-investeeringutoetuse-taotlemine/
LOCATION:Pärnumaa\, Pärnumaa\, Eesti
CATEGORIES:Maaettevõtlus
END:VEVENT
BEGIN:VEVENT
DTSTART;VALUE=DATE:20150408
DTEND;VALUE=DATE:20150409
DTSTAMP:20260423T023000
CREATED:20171231T220000Z
LAST-MODIFIED:20171231T220000Z
UID:10007279-1428451200-1428537599@www.pikk.ee
SUMMARY:Koolitus "Lihaveisekasvatus – rohumaapõhine söötmine ja loomade tervis"
DESCRIPTION:Läänemaa \nLäänemaal\, Uuemõisa\, Ehitajate tee 3\, Haapsalu Kutsehariduskeskus \nLäänemaa \n\n	Eesti Mahepõllumajanduse Sihtasutus korraldab koolitused \n\n	"Lihaveisekasvatus – rohumaapõhine söötmine ja loomade tervis" \n\n	8. aprillil 2015\, kell 11:00-15:45 \n\n	Läänemaal\, Uuemõisa\, Ehitajate tee 3\, Haapsalu Kutsehariduskeskus http://www.hkhk.edu.ee/uus/index.php/kontakt \n\n	Kava: \n\n	11:00 Kvaliteetse lihaveiseliha tootmine rohumaadel. Rohumaapõhise nuuma tingimused\, karjatamiskoormused looduslikel\, püsi – ja kultuurkarjamaadel.  Rohusöötade kasutust mõjutavad tegurid  veiste pidamisel. Rohusöötadel kasvatatud liha tervislikkus ja kvaliteet. – Airi Külvet \n\n	13:15 Kohvipaus \n\n	13:30 Lihaveiste terviseprobleemid (haigused\, s.h parasiitidega seotud probleemid)\, lehma sünnitus  ja vasika jälgimine pärast sündi – Alar Onoper \n\n	15:45 Lõpp \n\n	  \n\n	 13. aprillil 2015\, kell 10:00-14:45 \n\n	Viljandis\, Vabaduse plats 4\, Põllumajandusameti saal (III korrus) \n\n	Kava: \n\n	10:00 Kvaliteetse lihaveiseliha tootmine rohumaadel. Rohumaapõhise nuuma tingimused; karjatamiskoormused looduslikel\, püsi- ja kultuurkarjamaadel. Rohusöötade kasutust mõjutavad tegurid veiste pidamisel. Rohusöötadel kasvatatud liha tervislikkus ja kvaliteet – Airi Külvet \n\n	12:15 Kohvipaus \n\n	12:30 Lihaveiste terviseprobleemid (haigused\, s.h parasiitidega seotud probleemid)\, lehma sünnitus  ja vasika jälgimine pärast sündi – Alar Onoper \n\n	14:45 Lõpp \n\n	Lektorid Alar Onoper (Eesti Maaülikool)\, Airi Külvet (mahelihaveisekasvataja\, TÜ Liivimaa Lihaveis) \n\n	Koolitus on tasuta\, osalemiseks vajalik eelregistreerumine mahepm@gmail.com\, 56620955; kohtade arv on piiratud\, registreerumine lõpetatakse kohtade täitumisel. \n\n	Koolitus läheb arvesse mahepõllumajandusliku tootmise toetuse raames nõutava kohustusliku koolitusena. \n\n	Koolituse tellija Põllumajandusministeerium\, toetab Euroopa Liit. \n\n	 
URL:https://www.pikk.ee/sundmus/koolitus-lihaveisekasvatus-rohumaapohine-sootmine-ja-loomade-tervis/
LOCATION:Läänemaa
CATEGORIES:Loomakasvatus
END:VEVENT
BEGIN:VEVENT
DTSTART;VALUE=DATE:20150408
DTEND;VALUE=DATE:20150409
DTSTAMP:20260423T023000
CREATED:20171231T220000Z
LAST-MODIFIED:20171231T220000Z
UID:10007292-1428451200-1428537599@www.pikk.ee
SUMMARY:Poollooduslike koosluste hooldamise toetuse koolitus
DESCRIPTION:Läänemaa \nHaapsalu Kutsehariduskeskus\, Ehitajate tee 3\, Uuemõisa \nLäänemaa \nKoolitus on Eesti maaelu arengukava 2014-2020 poolloodusliku koosluse hooldamise toetuse saamise üheks tingimuseks.  \nAlgus 10.30. \nLisainfo: Läänemaa maahoolduse spetsialistidelt\nKaie Kattai: 53001870\nMihkel Tiido: 53088935 \n  \nKoolitusele registreerimise tähtaeg on nädal enne koolituse toimumise kuupäeva! \nInfo teistes maakondades toimuvate koolituste kohta Keskkonnaameti kodulehel http://www.keskkonnaamet.ee/teenused/looduskaitse-2/loodushoiutood-ja-toetused/pool-looduslike-toetuste-taotluste-kooskolastused/koolitused/ \nKoolitusi korraldab Keskkonnaamet.\n 
URL:https://www.pikk.ee/sundmus/poollooduslike-koosluste-hooldamise-toetuse-koolitus-3/
LOCATION:Läänemaa
CATEGORIES:Keskkond
END:VEVENT
END:VCALENDAR