BEGIN:VCALENDAR
VERSION:2.0
PRODID:-//PIKK.ee - ECPv6.13.2.1//NONSGML v1.0//EN
CALSCALE:GREGORIAN
METHOD:PUBLISH
X-ORIGINAL-URL:https://www.pikk.ee
X-WR-CALDESC:Events for PIKK.ee
REFRESH-INTERVAL;VALUE=DURATION:PT1H
X-Robots-Tag:noindex
X-PUBLISHED-TTL:PT1H
BEGIN:VTIMEZONE
TZID:Europe/Tallinn
BEGIN:DAYLIGHT
TZOFFSETFROM:+0200
TZOFFSETTO:+0300
TZNAME:EEST
DTSTART:20150329T010000
END:DAYLIGHT
BEGIN:STANDARD
TZOFFSETFROM:+0300
TZOFFSETTO:+0200
TZNAME:EET
DTSTART:20151025T010000
END:STANDARD
END:VTIMEZONE
BEGIN:VEVENT
DTSTART;VALUE=DATE:20150413
DTEND;VALUE=DATE:20150414
DTSTAMP:20260424T064516
CREATED:20171231T220000Z
LAST-MODIFIED:20171231T220000Z
UID:10007281-1428883200-1428969599@www.pikk.ee
SUMMARY:Koolitus "Lihaveisekasvatus – rohumaapõhine söötmine ja loomade tervis"
DESCRIPTION:Viljandimaa \nViljandis\, Vabaduse plats 4\, Põllumajandusameti saal (III korrus) \nViljandimaa \n\n	Eesti Mahepõllumajanduse Sihtasutus korraldab koolituse \n\n	"Lihaveisekasvatus – rohumaapõhine söötmine ja loomade tervis" \n\n	 13. aprillil 2015\, kell 10:00-14:45 \n\n	Viljandis\, Vabaduse plats 4\, Põllumajandusameti saal (III korrus) \n\n	Kava: \n\n	10:00 Kvaliteetse lihaveiseliha tootmine rohumaadel. Rohumaapõhise nuuma tingimused; karjatamiskoormused looduslikel\, püsi- ja kultuurkarjamaadel. Rohusöötade kasutust mõjutavad tegurid veiste pidamisel. Rohusöötadel kasvatatud liha tervislikkus ja kvaliteet – Airi Külvet \n\n	12:15 Kohvipaus \n\n	12:30 Lihaveiste terviseprobleemid (haigused\, s.h parasiitidega seotud probleemid)\, lehma sünnitus  ja vasika jälgimine pärast sündi – Alar Onoper \n\n	14:45 Lõpp \n\n	Lektorid Alar Onoper (Eesti Maaülikool)\, Airi Külvet (mahelihaveisekasvataja\, TÜ Liivimaa Lihaveis) \n\n	Koolitus on tasuta\, osalemiseks vajalik eelregistreerumine mahepm@gmail.com\, 56620955; kohtade arv on piiratud\, registreerumine lõpetatakse kohtade täitumisel. \n\n	Koolitus läheb arvesse mahepõllumajandusliku tootmise toetuse raames nõutava kohustusliku koolitusena. \n\n	Koolituse tellija Põllumajandusministeerium\, toetab Euroopa Liit. \n\n	 
URL:https://www.pikk.ee/sundmus/koolitus-lihaveisekasvatus-rohumaapohine-sootmine-ja-loomade-tervis-2/
LOCATION:Viljandimaa\, Viljandimaa\, Eesti
CATEGORIES:Loomakasvatus
GEO:58.2821746;25.5752233
END:VEVENT
BEGIN:VEVENT
DTSTART;VALUE=DATE:20150413
DTEND;VALUE=DATE:20150414
DTSTAMP:20260424T064516
CREATED:20171231T220000Z
LAST-MODIFIED:20171231T220000Z
UID:10007301-1428883200-1428969599@www.pikk.ee
SUMMARY:Poollooduslike koosluste hooldamise toetuse koolitus
DESCRIPTION:Lääne-Virumaa \nKeskkonnaameti Palmse kontor\, Palmse küla\, Vihula vald\, Lääne-Virumaa \nLääne-Virumaa \nKoolitus on Eesti maaelu arengukava 2014-2020 poolloodusliku koosluse hooldamise toetuse saamise üheks tingimuseks.  \nAlgus 10.30. \nLisainfo: Viru maahoolduse spetsialistilt\nKristiina Jürisoo: 56998201 \n  \nKoolitusele registreerimise tähtaeg on nädal enne koolituse toimumise kuupäeva! \nInfo teistes maakondades toimuvate koolituste kohta Keskkonnaameti kodulehel http://www.keskkonnaamet.ee/teenused/looduskaitse-2/loodushoiutood-ja-toetused/pool-looduslike-toetuste-taotluste-kooskolastused/koolitused/ \nKoolitusi korraldab Keskkonnaamet.\n 
URL:https://www.pikk.ee/sundmus/poollooduslike-koosluste-hooldamise-toetuse-koolitus-6/
LOCATION:Lääne-Virumaa\, Lääne-Virumaa\, Eesti
CATEGORIES:Keskkond
END:VEVENT
END:VCALENDAR