BEGIN:VCALENDAR
VERSION:2.0
PRODID:-//PIKK.ee - ECPv6.13.2.1//NONSGML v1.0//EN
CALSCALE:GREGORIAN
METHOD:PUBLISH
X-WR-CALNAME:PIKK.ee
X-ORIGINAL-URL:https://www.pikk.ee
X-WR-CALDESC:Events for PIKK.ee
REFRESH-INTERVAL;VALUE=DURATION:PT1H
X-Robots-Tag:noindex
X-PUBLISHED-TTL:PT1H
BEGIN:VTIMEZONE
TZID:Europe/Tallinn
BEGIN:DAYLIGHT
TZOFFSETFROM:+0200
TZOFFSETTO:+0300
TZNAME:EEST
DTSTART:20150329T010000
END:DAYLIGHT
BEGIN:STANDARD
TZOFFSETFROM:+0300
TZOFFSETTO:+0200
TZNAME:EET
DTSTART:20151025T010000
END:STANDARD
END:VTIMEZONE
BEGIN:VEVENT
DTSTART;VALUE=DATE:20150416
DTEND;VALUE=DATE:20150417
DTSTAMP:20260420T120816
CREATED:20171231T220000Z
LAST-MODIFIED:20171231T220000Z
UID:10006098-1429142400-1429228799@www.pikk.ee
SUMMARY:Infopäev „Uusi teadmisi ja oskusi lambakasvatajatele“.
DESCRIPTION:Tartumaa \nTartumaa põllumeeste liit Jalaka 48  \nTartumaa \n\n	Tartumaa Põllumeeste Liit korraldab 16. aprillil Tartumaa põllumeeste liidus Jalaka 48 algusega 10.00 tasuta infopäeva „Uusi teadmisi ja oskusi lambakasvatajatele“. \n\n	Lektor on Hillar Kalda. Teemad: lambakasvatusega alustamine; karjamaade rajamine ja tarastamine; söötmine; karja tervis; loomade arvestuse pidamine; uute teadusuuringute tutvustus; loomade heaolu; nõuded mahelambakasvatajale. \n\n	Soovitav eelregistreerimine ttl[A]kodu.ee või 736 6955. Kohvipausiks varuda 2.50.
URL:https://www.pikk.ee/sundmus/infopaev-uusi-teadmisi-ja-oskusi-lambakasvatajatele-6/
LOCATION:Tartumaa\, Eesti
CATEGORIES:Loomakasvatus
GEO:58.4057128;26.801576
END:VEVENT
BEGIN:VEVENT
DTSTART;VALUE=DATE:20150416
DTEND;VALUE=DATE:20150417
DTSTAMP:20260420T120816
CREATED:20171231T220000Z
LAST-MODIFIED:20171231T220000Z
UID:10007218-1429142400-1429228799@www.pikk.ee
SUMMARY:Tasuta infopäev "Lüpsikarja fertiilsus\, selle majandusliku tasuvuse analüüs"
DESCRIPTION:Raplamaa \nRapla Vesiroosi Gümnaasium\, Viljandi mnt 69\, Rapla \nRaplamaa \n\n	Eesti Maaülikool korraldab Eesti Maaelu arengukava 2007-2013 meetme 1.1.2 raames infopäeva \n\n	LÜPSIKARJA FERTIILSUS\, SELLE MAJANDUSLIKU TASUVUSE ANALÜÜS \n\n	Sihtrühm:  põllumajandustoodete tootmise\, toidutootmise või -töötlemisega tegelevad füüsilised või eraõiguslikud juriidilised isikud ja tema töötajad \n\n	Maht:  7 akadeemilist tundi auditoorset tööd \n\n	Toimumisaeg  ja -koht:  neljapäev\, 16.04.2015\, Rapla Vesiroosi Gümnaasium\, Viljandi mnt 69\, Rapla \n\n	Õppejõud:  Kalle Kask\, PhD\, Eesti Maaülikooli Veterinaarmeditsiini ja loomakasvatuse instituudi dotsent \n\n	Teemad \n\n	 – Lehma piimatoodang ja selle seos fertiilsusega\n	 – Kinnisperiood ja selle toime poegimisjärgsele fertiilsusele\n	 – Sigivusega seotud toitumuslikud faktorid\n	 – Uuemad diagnostikameetodid poegimisjärgsete sigivusprobleemide teadvustamiseks\n	 – Sigivusprobleemide analüüs karja tasandil ja nende võimalikud lahendusteed \n\n	Ajakava \n\n	10.00 – 11.30 õppetöö\n	11.30 – 11.40 paus\n	11.40 – 13.10 õppetöö\n	13.10 – 13.40 kohvipaus\n	13.40 – 15.10 õppetöö\n	15.10 – 15.15 paus\n	15.15 – 16.00 õppetöö \n\n	Kursus on sihtrühmale tasuta. \n\n	Kohtade arv on piiratud\, vajalik eelregistreerimine \n	maaülikooli avatud ülikooli tel 731 3175; 731 3275; 731 3174 või täites registreerumisvormi maaülikooli kodulehe aadressilhttp://avatudylikool.emu.ee/taiendope/registreeru-kursusele/ \n\n	  \n\n	  \n\n	Infopäeva korraldab: \n\n	Eesti Maaülikooli avatud ülikool \n\n	Tel 731 3174\,  731 3275\, 731 3175 \n\n	e-post: avayl@emu.ee; http://avatudylikool.emu.ee/ \n\n	Kreutzwaldi 56/1\, 51014 Tartu
URL:https://www.pikk.ee/sundmus/tasuta-infopaev-lupsikarja-fertiilsus-selle-majandusliku-tasuvuse-analuus/
LOCATION:Raplamaa\, Raplamaa
CATEGORIES:Loomakasvatus
GEO:58.8492625;24.7346569
END:VEVENT
BEGIN:VEVENT
DTSTART;VALUE=DATE:20150416
DTEND;VALUE=DATE:20150417
DTSTAMP:20260420T120816
CREATED:20171231T220000Z
LAST-MODIFIED:20171231T220000Z
UID:10007304-1429142400-1429228799@www.pikk.ee
SUMMARY:Poollooduslike koosluste hooldamise toetuse koolitus
DESCRIPTION:Läänemaa \nKeskkonnaameti Penijõe kontori\, Penijõe mõis\, Lihula vald\, Lääne maakond \nLäänemaa \nKoolitus on Eesti maaelu arengukava 2014-2020 poolloodusliku koosluse hooldamise toetuse saamise üheks tingimuseks.  \nAlgus 10.30. \nLisainfo: Läänemaa maahoolduse spetsialistidelt\nKaie Kattai: 53001870\nMihkel Tiido: 53088935 \n  \nKoolitusele registreerimise tähtaeg on nädal enne koolituse toimumise kuupäeva! \nInfo teistes maakondades toimuvate koolituste kohta Keskkonnaameti kodulehel http://www.keskkonnaamet.ee/teenused/looduskaitse-2/loodushoiutood-ja-toetused/pool-looduslike-toetuste-taotluste-kooskolastused/koolitused/ \nKoolitusi korraldab Keskkonnaamet.\n 
URL:https://www.pikk.ee/sundmus/poollooduslike-koosluste-hooldamise-toetuse-koolitus-8/
LOCATION:Läänemaa
CATEGORIES:Keskkond
END:VEVENT
BEGIN:VEVENT
DTSTART;VALUE=DATE:20150416
DTEND;VALUE=DATE:20150417
DTSTAMP:20260420T120816
CREATED:20171231T220000Z
LAST-MODIFIED:20171231T220000Z
UID:10007348-1429142400-1429228799@www.pikk.ee
SUMMARY:Mesinduse kursus
DESCRIPTION:Tartumaa \nDorpati konverentsikeskus\, Turu 2\, Tartu \nTartumaa \nKursuse eesmärgiks on anda teadmisi\, praktilisi kogemusi ja läbi selle ka tegutsemisjulgust neile\, kes on huvitatud mesilaste pidamisest.\n \nSihtgrupp\nAlustavad või veidi tegutsenud mesinikud\n \nKursuse sisu \nSissejuhatus mesindusse\nMesilaspere koosseis\nMesilaste liigid ja tõud\nMesila rajamine (taru valik\, mesila asukoht) Pesa ja kärjed\, mesindusinventar Mesilasperede hooldamine kevadel ja suvel Mesilaste paljunemine ja sülemline Mesilaspere kunstlik paljundamine Suvised tööd mesilas Meevõtt Ettevalmistus talvitumiseks ja talvitumine Võitlus mesilaste haigustega\, kahjurid ja mesila desinfektsioon Talvised tööd ja ettevalmistus kevadeks Mesilaste korjemaa\, meetaimed Mesindusproduktid \nKohapeal võimalik tutvuda mesindusinventariga. \nÕpiväljundid\nKursuse läbinu:\n1) teab\, mida arvestada mesila rajamisel;\n2) tunneb mesindusinventari;\n3) tunneb mesilaspere pidamisega kaasnevaid hooldustöid;\n4) tunneb mesilaste haigusi ja teab\, kuidas nendega võidelda;\n5) teab\, kuidas varuda ja kasutada mesindusprodukte.\n \nMuu info\nKursust toetab PRIA (MAK meede 1.1.2). Kursus on osavõtjatele tasuta.\nOsavõtjatele materjalid\, kohvipausid\, lõunatasku\, tunnistus.\nKellaaeg: 9.00-17.00\nAsukoht:  Tartu\nTäpsem asukoht:  Turu 2 Dorpati konverentsikeskus\nKestvus:  16 akadeemilist tundi\nKoolitajad: Taimi Paal \n  \nKülliki Kiviste \nOÜ Reiting PR\n7 420 438\n5 230 486\nkylliki@reiting.ee\nwww.reiting.ee
URL:https://www.pikk.ee/sundmus/mesinduse-kursus/
LOCATION:Tartumaa\, Eesti
CATEGORIES:Loomakasvatus
GEO:58.4057128;26.801576
END:VEVENT
END:VCALENDAR