BEGIN:VCALENDAR
VERSION:2.0
PRODID:-//PIKK.ee - ECPv6.13.2.1//NONSGML v1.0//EN
CALSCALE:GREGORIAN
METHOD:PUBLISH
X-ORIGINAL-URL:https://www.pikk.ee
X-WR-CALDESC:Events for PIKK.ee
REFRESH-INTERVAL;VALUE=DURATION:PT1H
X-Robots-Tag:noindex
X-PUBLISHED-TTL:PT1H
BEGIN:VTIMEZONE
TZID:Europe/Tallinn
BEGIN:DAYLIGHT
TZOFFSETFROM:+0200
TZOFFSETTO:+0300
TZNAME:EEST
DTSTART:20150329T010000
END:DAYLIGHT
BEGIN:STANDARD
TZOFFSETFROM:+0300
TZOFFSETTO:+0200
TZNAME:EET
DTSTART:20151025T010000
END:STANDARD
END:VTIMEZONE
BEGIN:VEVENT
DTSTART;VALUE=DATE:20150608
DTEND;VALUE=DATE:20150609
DTSTAMP:20260424T180857
CREATED:20171231T220000Z
LAST-MODIFIED:20171231T220000Z
UID:10006178-1433721600-1433807999@www.pikk.ee
SUMMARY:Mahetootmise efektiivistamine tootjate\, nõustajate ja teadlaste koostöös
DESCRIPTION:Tartumaa \nEesti Maaülikooli Mahekeskus Õssu küla\, Ülenurme vald\, Tartumaa \nTartumaa \n\n	Eesti Mahepõllumajanduse Sihtasutus korraldab infopäeva \n\n	Mahetootmise efektiivistamine tootjate\, nõustajate ja teadlaste koostöös \n\n	8.06.2015 kell 10:00-14:45 \n\n	EMÜ Mahekeskuses\, Õssu küla\, Ülenurme vald\, Tartumaa \n\n	Teemaks on maheköögiviljakasvatuse probleemide analüüs ning sellest tulenevad uurimisvajadused\, metoodika ja töögruppide moodustamine. \n\n	Osalemiseks on vajalik eelregistreerimine tel 5225936; kohtade arv on piiratud\, registreerimine lõpetatakse kohtade täitumisel. \n\n	Registreerumine on lõppenud. \n\n	  \n\n	Infopäev toimub MAK meetme 1.1 raames\, toetab Euroopa Liit. \n\n	 
URL:https://www.pikk.ee/sundmus/mahetootmise-efektiivistamine-tootjate-noustajate-ja-teadlaste-koostoos/
LOCATION:Tartumaa\, Eesti
CATEGORIES:Taimekasvatus
GEO:58.4057128;26.801576
END:VEVENT
BEGIN:VEVENT
DTSTART;VALUE=DATE:20150608
DTEND;VALUE=DATE:20150609
DTSTAMP:20260424T180857
CREATED:20171231T220000Z
LAST-MODIFIED:20171231T220000Z
UID:10007403-1433721600-1433807999@www.pikk.ee
SUMMARY:Taimekaitse aluskoolitus professionaalsele taimekaitsevahendite kasutajale
DESCRIPTION:Põlvamaa \nRäpina Aianduskool\, Pargi 32\, Räpina \nPõlvamaa \nRäpina Aianduskool korraldab 8.-10. juuni Taimekaitse aluskoolituse professionaalsele taimekaitsevahendite kasutajale. \nKoolituse algus 9.00\, maht 33 h. \nKoolituste sihtgrupp: põllumajandustoodete tootmise\, toidu tootmise ja töötlemise või metsa majandamisega tegelevad füüsilised või eraõiguslikud juriidilised isikud ja tema töötajad ning koolituse läbiviimist toetab PRIA. Koolitus on sihtgruppi kuuluvatele inimestele/talunikele tasuta. \nKõik taimekaitse koolitused vastavad Põllumajandusministri määrusele 18.11.2013 nr.67\, mis jõustus 26.11.2013.\nNB! Kõikidele koolitustele vajalik eelregistreerimine. Registreerimine igale koolitusele lõpetatakse õppegrupi\ntäitumisel või 5 tööpäeva enne koolituse algust. \nInfo ja koolitusele registreerimine Räpina Aianduskooli kodulehel www.aianduskool.ee või tel 7961 549 ja 53 461 209. \n  \nKoolituste kontaktisik\nEda Gross\nRäpina Aianduskooli täienduskoolituse metoodik \n  \n \n 
URL:https://www.pikk.ee/sundmus/taimekaitse-aluskoolitus-professionaalsele-taimekaitsevahendite-kasutajale-4/
LOCATION:Põlvamaa\, Põlvamaa\, Eesti
CATEGORIES:Taimekaitse
GEO:58.1160622;27.2066394
END:VEVENT
END:VCALENDAR