BEGIN:VCALENDAR
VERSION:2.0
PRODID:-//PIKK.ee - ECPv6.13.2.1//NONSGML v1.0//EN
CALSCALE:GREGORIAN
METHOD:PUBLISH
X-WR-CALNAME:PIKK.ee
X-ORIGINAL-URL:https://www.pikk.ee
X-WR-CALDESC:Events for PIKK.ee
REFRESH-INTERVAL;VALUE=DURATION:PT1H
X-Robots-Tag:noindex
X-PUBLISHED-TTL:PT1H
BEGIN:VTIMEZONE
TZID:Europe/Tallinn
BEGIN:DAYLIGHT
TZOFFSETFROM:+0200
TZOFFSETTO:+0300
TZNAME:EEST
DTSTART:20150329T010000
END:DAYLIGHT
BEGIN:STANDARD
TZOFFSETFROM:+0300
TZOFFSETTO:+0200
TZNAME:EET
DTSTART:20151025T010000
END:STANDARD
END:VTIMEZONE
BEGIN:VEVENT
DTSTART;VALUE=DATE:20150714
DTEND;VALUE=DATE:20150715
DTSTAMP:20260420T024252
CREATED:20171231T220000Z
LAST-MODIFIED:20171231T220000Z
UID:10007260-1436832000-1436918399@www.pikk.ee
SUMMARY:Põllupäev PMK Viljandi katsekeskuses
DESCRIPTION:Viljandimaa \nPMK Viljandi katsekeskus\, Matapera\, Viljandimaa \nViljandimaa \n\n14. juuli 2015 toimub PMK Viljandi katsekeskuses Põllupäev\, algusega kell 10.00.\nPMK Viljandi katsekeskuses tutvustatakse riiklikke sordivõrdluskatseid. \nVajalik eelregistreerumine viljandi@pmk.agri.ee või\ntel/faks: +372 43 34406\n 
URL:https://www.pikk.ee/sundmus/pollupaev-pmk-viljandi-katsekeskuses-3/
LOCATION:Viljandimaa\, Viljandimaa\, Eesti
CATEGORIES:Taimekasvatus
GEO:58.2821746;25.5752233
END:VEVENT
BEGIN:VEVENT
DTSTART;VALUE=DATE:20150714
DTEND;VALUE=DATE:20150715
DTSTAMP:20260420T024252
CREATED:20171231T220000Z
LAST-MODIFIED:20171231T220000Z
UID:10007445-1436832000-1436918399@www.pikk.ee
SUMMARY:Maheviljeluse põllupäev
DESCRIPTION:Jõgevamaa \nEesti Taimekasvatuse Instituudi põllud\, Jõgeva alevik \nJõgevamaa \n  \nEesti Taimekasvatuse Instituut kutsub: \n14. juuli Maheviljeluse põllupäev \n  \nPõllupäev toimub Eesti Taimekasvatuse Instituudi põldudel Jõgeva alevikus. \n  \nKava asub Eesti Taimekasvatuse Instituudi koduleheküljel www.etki.ee \n  \nRegistreerimine telefonil 7766901 või kirjutades osalejad@etki.ee.\n 
URL:https://www.pikk.ee/sundmus/maheviljeluse-pollupaev-5/
LOCATION:Jõgevamaa\, Jõgevamaa\, Eesti
CATEGORIES:Taimekasvatus
END:VEVENT
END:VCALENDAR