BEGIN:VCALENDAR
VERSION:2.0
PRODID:-//PIKK.ee - ECPv6.13.2.1//NONSGML v1.0//EN
CALSCALE:GREGORIAN
METHOD:PUBLISH
X-WR-CALNAME:PIKK.ee
X-ORIGINAL-URL:https://www.pikk.ee
X-WR-CALDESC:Events for PIKK.ee
REFRESH-INTERVAL;VALUE=DURATION:PT1H
X-Robots-Tag:noindex
X-PUBLISHED-TTL:PT1H
BEGIN:VTIMEZONE
TZID:Europe/Tallinn
BEGIN:DAYLIGHT
TZOFFSETFROM:+0200
TZOFFSETTO:+0300
TZNAME:EEST
DTSTART:20150329T010000
END:DAYLIGHT
BEGIN:STANDARD
TZOFFSETFROM:+0300
TZOFFSETTO:+0200
TZNAME:EET
DTSTART:20151025T010000
END:STANDARD
END:VTIMEZONE
BEGIN:VEVENT
DTSTART;VALUE=DATE:20151126
DTEND;VALUE=DATE:20151127
DTSTAMP:20260422T184225
CREATED:20171231T220000Z
LAST-MODIFIED:20171231T220000Z
UID:10006168-1448496000-1448582399@www.pikk.ee
SUMMARY:Eesti Seemneliidu seminar põllumajandustootajtele
DESCRIPTION:Pärnumaa \nEesti Seemneliit korraldab 26.-27. novembril Pärnus põllumajandustootjatele seminari. \n  \nKava ja täpsem info tulekul. \n  \n 
URL:https://www.pikk.ee/sundmus/eesti-seemneliidu-seminar-pollumajandustootajtele/
LOCATION:Pärnumaa\, Pärnumaa\, Eesti
CATEGORIES:Taimekasvatus
END:VEVENT
BEGIN:VEVENT
DTSTART;VALUE=DATE:20151126
DTEND;VALUE=DATE:20151127
DTSTAMP:20260422T184225
CREATED:20171231T220000Z
LAST-MODIFIED:20171231T220000Z
UID:10006241-1448496000-1448582399@www.pikk.ee
SUMMARY:Keskkonnasõbraliku aianduse toetuse taotlejate kohustuslik koolitus
DESCRIPTION:Viljandimaa \nHotelli Centrum väikeses saalis\, Tallinna mnt 24\, Viljandi \nViljandimaa \nKoolituse algus kell 10.00 – koolitus kestab 6 akadeemilist tundi \nPäevakava: \n1. ülevaade toetuse taotlejale esitatavatest toetusesaamise nõuetest;\n2. taimehaiguste ja –kahjurite seire\, levinuimad taimehaigused ja –kahjurid;\n3. bioloogilist mitmekesisust toetavad elemendid\, nende valmistamine ja paigaldamine. \nLisaks antakse infot keskkonnasõbraliku puuvilja- ja marjakasvatuse\, maasikakasvatuse ning keskkonnasõbraliku köögivilja-\, ravimtaime- ja maitsetaimekasvatuse alustest. \nInfopäeva arvestatakse keskkonnasõbraliku puuvilja- ja marjakasvatuse toetuse ning keskkonnasõbraliku köögivilja-\, ravimtaime- ja maitsetaimekasvatuse ning maasikakasvatuse toetuse koolitusena. \n  \nEttekanded keskkonnasõbraliku aianduse toetuse kohta: keskkonnasõbralik köögivilja-\, ravimtaime- ja maitsetaimekasvatus ning puuvilja- ja marjakasvatus\, maasikakasvatus. \n  \nAndmed osalejate kohta kantakse e-PRIA kliendiportaali. \nInfopäevade lektoriteks on Priit Põldma\,  M.Sc. köögiviljanduse ja  katmikaianduse lektor ning aianduse \nkonsulent  Margus Kopp \nInfopäeva korraldab Tartumaa Põllumeeste Liit. \nInfopäeva tellija on Põllumajanduse- ja Registrite Amet\nKoolitust toetab Euroopa Liit \nInfo:\nwww.pikk.ee ja ttl@kodu.ee või 7 366 955
URL:https://www.pikk.ee/sundmus/keskkonnasobraliku-aianduse-toetuse-taotlejate-kohustuslik-koolitus-3/
LOCATION:Viljandimaa\, Viljandimaa\, Eesti
CATEGORIES:Taimekasvatus
GEO:58.2821746;25.5752233
END:VEVENT
BEGIN:VEVENT
DTSTART;VALUE=DATE:20151126
DTEND;VALUE=DATE:20151127
DTSTAMP:20260422T184225
CREATED:20171231T220000Z
LAST-MODIFIED:20171231T220000Z
UID:10006249-1448496000-1448582399@www.pikk.ee
SUMMARY:Investeeringud põllumajandusettevõtte tulemuslikkuse parandamiseks
DESCRIPTION:Lääne-Virumaa \nHotell Wesenbergh\, Tallinna mnt 25\, Rakvere \nLääne-Virumaa \nKoolitus põllumajandustoodete tootmise ja töötlemisega tegelevatele isikutele\, oodatud on ka konsulendid. \nKoolituse algus kell 10.00 – koolitus kestab 4 akadeemilist tundi \nTeemad (ettekanded): \nMAK 2014—2020  Investeeringud (meede 4.1) põllumajandusettevõtte tulemuslikkuse parandamiseks\nToetuse taotlemise tarkvara tutvustus\nMAK 2014—2020 rahastamisvahend \nLektoriteks on Elar Neito ja Merle Saaliste Maaeluministeeriumist\, Kiido Levin PRIA-st ja Madis Reinup MES-st \nInfopäeva korraldab Tartumaa Põllumeeste Liit. \nInfopäeva tellija on Põllumajanduse ja Registrite ja Informatsiooni Amet \nKoolitust toetab Euroopa Liit \nInfo:  www.pikk.ee   ja ttl@kodu.ee või 7 366 955 \nRegistreerimine http://goo.gl/forms/8bcHmU1K7K \n  \n 
URL:https://www.pikk.ee/sundmus/investeeringud-pollumajandusettevotte-tulemuslikkuse-parandamiseks-3/
LOCATION:Lääne-Virumaa\, Lääne-Virumaa\, Eesti
CATEGORIES:Maaettevõtlus
END:VEVENT
BEGIN:VEVENT
DTSTART;VALUE=DATE:20151126
DTEND;VALUE=DATE:20151127
DTSTAMP:20260422T184225
CREATED:20171231T220000Z
LAST-MODIFIED:20171231T220000Z
UID:10007593-1448496000-1448582399@www.pikk.ee
SUMMARY:Infopäev "Toome (Apteegi) tilli Eesti põldududele"
DESCRIPTION:Võrumaa \nUue-Antsla rahvamaja\, Urvaste vald\, Võrumaa \nVõrumaa \nInfopäev "Toome (Apteegi) tilli Eesti põldududele" \n* Iseloomustus\n*Kasutusvõimalused\n*Kasvatamine\n*Toetused \nToimumisaeg kella 10-15 \n26 november  Võrumaa\, Uue-Antsla rahvamaja\, Urvaste vald\n27 november Jõgevamaa\, Jõgeva kultuurikeskus\, Aia 6\n30 november Läänemaa\, Haapsalu kultuurimaja\, Posti 3 \n\nInfopäeva maksumus 57 eur ja vajalik eelregistreerimine hiljemalt 1 ööpäev enne  infopäeva toimumist vormil http://goo.gl/forms/ft3zMjREID või meili teel agronpks@gmail.com \nLisainfo tel: 56498533 \n  \n 
URL:https://www.pikk.ee/sundmus/infopaev-toome-apteegi-tilli-eesti-poldududele-4/
LOCATION:Võrumaa\, Võrumaa
CATEGORIES:Aiandus
GEO:57.7377372;27.1398938
END:VEVENT
END:VCALENDAR