BEGIN:VCALENDAR
VERSION:2.0
PRODID:-//PIKK.ee - ECPv6.13.2.1//NONSGML v1.0//EN
CALSCALE:GREGORIAN
METHOD:PUBLISH
X-WR-CALNAME:PIKK.ee
X-ORIGINAL-URL:https://www.pikk.ee
X-WR-CALDESC:Events for PIKK.ee
REFRESH-INTERVAL;VALUE=DURATION:PT1H
X-Robots-Tag:noindex
X-PUBLISHED-TTL:PT1H
BEGIN:VTIMEZONE
TZID:Europe/Tallinn
BEGIN:DAYLIGHT
TZOFFSETFROM:+0200
TZOFFSETTO:+0300
TZNAME:EEST
DTSTART:20150329T010000
END:DAYLIGHT
BEGIN:STANDARD
TZOFFSETFROM:+0300
TZOFFSETTO:+0200
TZNAME:EET
DTSTART:20151025T010000
END:STANDARD
END:VTIMEZONE
BEGIN:VEVENT
DTSTART;VALUE=DATE:20151127
DTEND;VALUE=DATE:20151128
DTSTAMP:20260422T183400
CREATED:20171231T220000Z
LAST-MODIFIED:20171231T220000Z
UID:10006244-1448582400-1448668799@www.pikk.ee
SUMMARY:Keskkonnasõbraliku aianduse toetuse taotlejate kohustuslik koolitus
DESCRIPTION:Põlvamaa \nPesa Hotell\, Uus 5\, Põlva \nPõlvamaa \nKoolituse algus kell 10.00 – koolitus kestab 6 akadeemilist tundi \nPäevakava: \n1. ülevaade toetuse taotlejale esitatavatest toetusesaamise nõuetest;\n2. taimehaiguste ja –kahjurite seire\, levinuimad taimehaigused ja –kahjurid;\n3. bioloogilist mitmekesisust toetavad elemendid\, nende valmistamine ja paigaldamine. \nLisaks antakse infot keskkonnasõbraliku puuvilja- ja marjakasvatuse\, maasikakasvatuse ning keskkonnasõbraliku köögivilja-\, ravimtaime- ja maitsetaimekasvatuse alustest. \nInfopäeva arvestatakse keskkonnasõbraliku puuvilja- ja marjakasvatuse toetuse ning keskkonnasõbraliku köögivilja-\, ravimtaime- ja maitsetaimekasvatuse ning maasikakasvatuse toetuse koolitusena. \n  \nEttekanded keskkonnasõbraliku aianduse toetuse kohta: keskkonnasõbralik köögivilja-\, ravimtaime- ja maitsetaimekasvatus ning puuvilja- ja marjakasvatus\, maasikakasvatus. \n  \nAndmed osalejate kohta kantakse e-PRIA kliendiportaali. \nInfopäevade lektoriteks on Priit Põldma\,  M.Sc. köögiviljanduse ja  katmikaianduse lektor ning aianduse \nkonsulent  Margus Kopp \nInfopäeva korraldab Tartumaa Põllumeeste Liit. \nInfopäeva tellija on Põllumajanduse- ja Registrite Amet\nKoolitust toetab Euroopa Liit \nInfo:\nwww.pikk.ee ja ttl@kodu.ee või 7 366 955
URL:https://www.pikk.ee/sundmus/keskkonnasobraliku-aianduse-toetuse-taotlejate-kohustuslik-koolitus-4/
LOCATION:Põlvamaa\, Põlvamaa\, Eesti
CATEGORIES:Taimekasvatus
GEO:58.1160622;27.2066394
END:VEVENT
BEGIN:VEVENT
DTSTART;VALUE=DATE:20151127
DTEND;VALUE=DATE:20151128
DTSTAMP:20260422T183400
CREATED:20171231T220000Z
LAST-MODIFIED:20171231T220000Z
UID:10007484-1448582400-1448668799@www.pikk.ee
SUMMARY:Koolitus "Toiduhügieen"
DESCRIPTION:Tartumaa \nEesti Maaülikool\, Kreutzwaldi 56/1\, ruum 303 \nTartumaa \n\n	TOIDUHÜGIEEN \n\n	  \n\n	Toimumisaeg ja -koht: \n\n	27.11.2015 (R)\, Tartus Eesti Maaülikoolis\, Kreutzwaldi 56\, III korrus\, ruum 303\, kell 10-15  \n	  \n	Maht:        6 akadeemilist tundi auditoorset tööd (üks koolituspäev) \n\n	Teemad \n\n	– Toitu käsitlevad õigusaktid\n	– Toiduhügieeni põhimõtted\n	– Mikroorganismid ja nende kasvu ja paljunemist mõjutavad tegurid\n	– Toiduainete kaudu levivad haigused\, toidumürgistused ja -infektsioonid\n	– Toidu füüsikaline\, keemiline ja mikrobioloogiline saastumine ja selle vältimine\n	– Toidu säilitamise viisid ja tingimused ning temperatuuri kontroll\n	– Puhastamine\, desinfitseerimine\n	– Isiklik hügieen\n	– Enesekontrolli põhimõtted\n	– Toitu käsitleva töötaja kohustused ja vastutus \n\n	Õppejõud \n\n	Katrin Laikoja\, mag (tehn)\, Eesti Maaülikooli veterinaarmeditsiini ja loomakasvatuse instituudi lektor \n	Õppeteenustasu 25 EUR \n\n	Ajakava\n	10.00 – 11.30 õppetöö\n	11.30 – 11.45 kohvipaus\n	11.45 – 13.15 õppetöö\n	13.15 – 13.30 paus\n	13.30 – 15.00 õppetöö \n\n	Vajalik eelregistreerimine tel 731 3175\, 731 3275\, 731 3174 või täites registreerumisvormi maaülikooli kodulehe aadressilhttp://avatudylikool.emu.ee/taiendope/registreeru-kursusele/
URL:https://www.pikk.ee/sundmus/koolitus-toiduhugieen/
LOCATION:Tartumaa\, Eesti
CATEGORIES:Toiduainete tootmine
GEO:58.4057128;26.801576
END:VEVENT
BEGIN:VEVENT
DTSTART;VALUE=DATE:20151127
DTEND;VALUE=DATE:20151128
DTSTAMP:20260422T183400
CREATED:20171231T220000Z
LAST-MODIFIED:20171231T220000Z
UID:10007595-1448582400-1448668799@www.pikk.ee
SUMMARY:Infopäev "Toome (Apteegi) tilli Eesti põldududele"
DESCRIPTION:Jõgevamaa \nJõgeva kultuurikeskus\, Aia 6\, Jõgeva \nJõgevamaa \nInfopäev "Toome (Apteegi) tilli Eesti põldududele" \n* Iseloomustus\n*Kasutusvõimalused\n*Kasvatamine\n*Toetused \nToimumisaeg kella 10-15 \n27 november Jõgevamaa\, Jõgeva kultuurikeskus\, Aia 6\n30 november Läänemaa\, Haapsalu kultuurimaja\, Posti 3 \n\nInfopäeva maksumus 57 eur ja vajalik eelregistreerimine hiljemalt 1 ööpäev enne  infopäeva toimumist vormil http://goo.gl/forms/ft3zMjREID või meili teel agronpks@gmail.com \nLisainfo tel: 56498533 \n  \n 
URL:https://www.pikk.ee/sundmus/infopaev-toome-apteegi-tilli-eesti-poldududele-5/
LOCATION:Jõgevamaa\, Jõgevamaa\, Eesti
CATEGORIES:Aiandus
END:VEVENT
BEGIN:VEVENT
DTSTART;VALUE=DATE:20151127
DTEND;VALUE=DATE:20151128
DTSTAMP:20260422T183400
CREATED:20171231T220000Z
LAST-MODIFIED:20171231T220000Z
UID:10007622-1448582400-1448668799@www.pikk.ee
SUMMARY:Eesti Lambakasvatajate Seltsi seminar "Lambakasvatussektori arengukava – erinevad võimalused"
DESCRIPTION:Ida-Virumaa \nToila SPA Hotell \nIda-Virumaa \nProgramm: \n27. november\n11.00 – 11.15 Saabumine\n11.15 – 11.45 Lambakasvatuse sektori arengukava vajalikkusest\, Annika Väli\n11.45 – 12.15 Põllumajandussektorite arengukavade koostamisest\, Maaeluministeerium\n12.15 – 12.45 Lammaste turustamine – ostjate huvid\, Janek Mustmaa\, Baltic Vianco\n12.45 – 14.00 Lõuna\n14.00 – 16.00 Arengukava arutelud – ajurünnakud\, juhib Raivo Õisma.\nTeemadeks: Liha\, piim\, vill\, nahk\, ühistegevus ja rahvusvaheline koostöö\n20.00 – õhtusöök \n28. november\n10.00 – 13.00 Arengukava arutelud – ajurünnakud\, juhib Raivo Õisma\ntõuaretus\, looma tervis ja söödabaas\, koolitus- ja nõuandesüsteem ning seadusandlus\n13.00 – 14.00 Lõuna\n14.00 – 16.00 Kokkuvõtted\, kaugel arengukavaga oleme. Hinnang olemasolevale informatsioonile ning tehtud tööle. \nLisainfo:\nTaime Puura\nELaS tegevjuht\n5330 9406\nkontor@lammas.ee
URL:https://www.pikk.ee/sundmus/eesti-lambakasvatajate-seltsi-seminar-lambakasvatussektori-arengukava-erinevad-voimalused/
LOCATION:Ida-Virumaa\, Ida-Virumaa\, Eesti
CATEGORIES:Loomakasvatus
GEO:59.2592663;27.4136535
END:VEVENT
BEGIN:VEVENT
DTSTART;VALUE=DATE:20151127
DTEND;VALUE=DATE:20151128
DTSTAMP:20260422T183400
CREATED:20171231T220000Z
LAST-MODIFIED:20171231T220000Z
UID:10006211-1448582400-1448668799@www.pikk.ee
SUMMARY:Koolitus "Lihatoodete valmistamine ja hügieen"
DESCRIPTION:Tartumaa \nEesti Maaülikool\, Kreutzwaldi 56/1\, ruum 303 \nTartumaa \n\n	LIHATOODETE VALMISTAMINE JA HÜGIEEN \n\n	Sihtrühm: väikeses koguses liha ja lihatoodete käitlejad. \n\n	Õpiväljund: koolitusel osalenu omandab teadmised liha ja lihatoodetega kaasnevatest ohtudest\, säilimisaja määramise põhimõtetest\, toiduohutuse tagamisest\, liha konserveerimise erinevatest meetoditest\, lihakonservide ja suitsuvorstide valmistamisest. \n\n	Maht: 6 akadeemilist tundi auditoorset tööd . \n\n	Toimumisaeg ja –koht: reede\, 27.11.2015\, Eesti Maaülikooli tehnikamaja\, Kreutzwaldi 56/1\, ruum 303 \n\n	Õppeteenustasu: 55 eurot (sisaldab õppetööd\, kohvipausi\, tõendit) \n\n	Teemad \n\n\n		liha ja lihatoodetega kaasnevad ohud;\n\n		liha ja lihatoodete säilimisaja määramise põhimõtted;\n\n		hügieeni ning toiduohutuse tagamine liha ja lihatoodete käitlemisel;\n\n		liha konserveerimise/säilitamise erinevad meetodid;\n\n		lihakonservide valmistamine;\n\n		suitsuvorstide valmistamine.\n\n\n	Ajakava \n\n	10.00 – 11.30 õppetöö\n	11.30 – 12.00 kohvipaus\n	12.00 – 13.30 õppetöö\n	13.30 – 13.45 paus\n	13.45 – 15.15 õppetöö \n\n	Õppejõud        \n\n	Mati Roasto\, professor\, Eesti Maaülikooli veterinaarmeditsiini ja loomakasvatusinstituudi toiduhügieeni osakonna juhataja \n\n	Riina Soidla\, mag (teh)\, Eesti Maaülikooli veterinaarmeditsiini ja loomakasvatusinstituudi toiduteaduse ja toiduainete tehnoloogia osakonna lektor \n\n	Kohtade arv piiratud\, VAJALIK EELREGISTREERIMINE \n\n	Maaülikooli avatud ülikooli tel 731 3275\, 731 3175\, 731 3174 või täites registreerumisvormi maaülikooli kodulehe aadressilhttp://avatudylikool.emu.ee/taiendope/registreeru-kursusele/
URL:https://www.pikk.ee/sundmus/koolitus-lihatoodete-valmistamine-ja-hugieen/
LOCATION:Tartumaa\, Eesti
CATEGORIES:Toiduainete tootmine
GEO:58.4057128;26.801576
END:VEVENT
END:VCALENDAR