BEGIN:VCALENDAR
VERSION:2.0
PRODID:-//PIKK.ee - ECPv6.13.2.1//NONSGML v1.0//EN
CALSCALE:GREGORIAN
METHOD:PUBLISH
X-ORIGINAL-URL:https://www.pikk.ee
X-WR-CALDESC:Events for PIKK.ee
REFRESH-INTERVAL;VALUE=DURATION:PT1H
X-Robots-Tag:noindex
X-PUBLISHED-TTL:PT1H
BEGIN:VTIMEZONE
TZID:Europe/Tallinn
BEGIN:DAYLIGHT
TZOFFSETFROM:+0200
TZOFFSETTO:+0300
TZNAME:EEST
DTSTART:20150329T010000
END:DAYLIGHT
BEGIN:STANDARD
TZOFFSETFROM:+0300
TZOFFSETTO:+0200
TZNAME:EET
DTSTART:20151025T010000
END:STANDARD
END:VTIMEZONE
BEGIN:VEVENT
DTSTART;VALUE=DATE:20151130
DTEND;VALUE=DATE:20151201
DTSTAMP:20260424T183623
CREATED:20171231T220000Z
LAST-MODIFIED:20171231T220000Z
UID:10007598-1448841600-1448927999@www.pikk.ee
SUMMARY:Infopäev „Loomade heaolu ja tervishoid“
DESCRIPTION:Viljandimaa \nViljandi\, Hotell Centrum \nViljandimaa \nInfopäevale kogunemine 9.30\, koolitus algab 10.00 ja kestab 6 akadeemilist tundi \nInfopäevad on suunatud põllumajandustoodete tootmise ja töötlemisega tegelevatele isikutele. Infopäevadel võivad osaleda ka konsulendid. \nInfopäeva teemad: veiste sh vasikate\, hobuste\, lammaste\, kitsede\, sigade\, munakanade heaolu ja tervishoid. \nKitsede ja lammaste heaolu ja tervishoiu teema raames käsitletakse juhiseid parasiitide kindlakstegemiseks\, tõrjeks ja neist hoidumiseks\, soovitusi sööda rikastamiseks ravimtaimede ja muude kultuuridega\, soovitusi kiskjate rünnaku korral rakendatavate kaitsemeetmete kohta. \nSigade heaolu ja tervishoiu teema raames käsitletakse bioohutusmeetmete rakendamist sügavallapanulautades. \nInfopäevadel osalemist arvestatakse loomade heaolu toetuse koolitustena järgnevatel taotlemise aastatel. \nInfopäeval osalejad kantakse e-PRIA kaudu kliendiportaali. \nInfopäeval tuletatakse meelde nõuetele vastavuse nõudeid. \nInfopäeva lektorid on Aivar Vuks\, TÜ katseloomade labori veterinaar ja Merry Aart\, konsulent \nEttekanded aadressil: http://www.pikk.ee/valdkonnad/teadmussiirde-pikaajalised-programmid/pollumajanduspoliitika-teadmussiirde-programm#.Vlv-uXbhCUl \n\nInfo : ttl@kodu.ee  või 7 366 955 \nRegistreerimine:  http://goo.gl/forms/zMhAvBWVE9 \n 
URL:https://www.pikk.ee/sundmus/infopaev-loomade-heaolu-ja-tervishoid/
LOCATION:Viljandimaa\, Viljandimaa\, Eesti
CATEGORIES:Loomakasvatus
GEO:58.2821746;25.5752233
END:VEVENT
BEGIN:VEVENT
DTSTART;VALUE=DATE:20151130
DTEND;VALUE=DATE:20151201
DTSTAMP:20260424T183623
CREATED:20171231T220000Z
LAST-MODIFIED:20171231T220000Z
UID:10007596-1448841600-1448927999@www.pikk.ee
SUMMARY:Infopäev "Toome (Apteegi) tilli Eesti põldududele"
DESCRIPTION:Läänemaa \nHaapsalu kultuurimaja\, Posti 3\, Haapsalu \nLäänemaa \nInfopäev "Toome (Apteegi) tilli Eesti põldududele" \n* Iseloomustus\n*Kasutusvõimalused\n*Kasvatamine\n*Toetused \nToimumisaeg kella 10-15 \n30 november Läänemaa\, Haapsalu kultuurimaja\, Posti 3 \n\nInfopäeva maksumus 57 eur ja vajalik eelregistreerimine hiljemalt 1 ööpäev enne  infopäeva toimumist vormil http://goo.gl/forms/ft3zMjREID või meili teel agronpks@gmail.com \nLisainfo tel: 56498533 \n  \n 
URL:https://www.pikk.ee/sundmus/infopaev-toome-apteegi-tilli-eesti-poldududele-6/
LOCATION:Läänemaa
CATEGORIES:Aiandus
END:VEVENT
END:VCALENDAR