BEGIN:VCALENDAR
VERSION:2.0
PRODID:-//PIKK.ee - ECPv6.13.2.1//NONSGML v1.0//EN
CALSCALE:GREGORIAN
METHOD:PUBLISH
X-ORIGINAL-URL:https://www.pikk.ee
X-WR-CALDESC:Events for PIKK.ee
REFRESH-INTERVAL;VALUE=DURATION:PT1H
X-Robots-Tag:noindex
X-PUBLISHED-TTL:PT1H
BEGIN:VTIMEZONE
TZID:Europe/Tallinn
BEGIN:DAYLIGHT
TZOFFSETFROM:+0200
TZOFFSETTO:+0300
TZNAME:EEST
DTSTART:20160327T010000
END:DAYLIGHT
BEGIN:STANDARD
TZOFFSETFROM:+0300
TZOFFSETTO:+0200
TZNAME:EET
DTSTART:20161030T010000
END:STANDARD
END:VTIMEZONE
BEGIN:VEVENT
DTSTART;VALUE=DATE:20160310
DTEND;VALUE=DATE:20160311
DTSTAMP:20260424T233704
CREATED:20171231T220000Z
LAST-MODIFIED:20171231T220000Z
UID:10006214-1457568000-1457654399@www.pikk.ee
SUMMARY:Koolitus MAARJAKASE KASVATAMINE
DESCRIPTION:Tartumaa \nTartu\, Eesti Maaülikool\, Kreutzwaldi 56/1-303 – teooriaõpe  Praktikakoht täpsustub (praktikakohta liiguvad osalejad oma transpordiga) \nTartumaa \n\n	Maht:                   6 akadeemilist tundi teooriat + 4 akadeemilist tundi praktika \n\n	Sisu : \n\n	·         Maarjakase kultuuri rajamine \n\n	·         Istutusmaterjali ja kasvukoha valik \n\n	·         Puude laasimine \n\n	·         Hooldusraied \n\n	·         Ulukikaitse \n\n	·         Puidu turustamise võimalused \n\n	Õppejõud:         Ivar Sibul\, doktor (pm)\, Eesti Maaülikooli metsandus- ja maaehitusinstituudi metsakasvatuse osakonna dotsent \n\n	Osalustasu         106 eurot (kahepäevane koolitus) \n\n	Ajakava:\n	I õppepäeval (teooria) \n\n	10.00 – 11.30     õppetöö\n	11.30 – 11.45     paus\n	11.45 – 13.15     õppetöö\n	13.15 – 13.45     paus\n	13.45 – 15.15     õppetöö \n\n	II õppepäeval algus kell 9.00 (praktika) \n\n	Vajalik eelregistreerimine maaülikooli avatud ülikooli tel 731 3175\, 731 3174\, 731 31275\, avayl@emu.ee  või kodulehel  http://avatudylikool.emu.ee/taiendope/registreeru-kursusele/
URL:https://www.pikk.ee/sundmus/koolitus-maarjakase-kasvatamine/
LOCATION:Tartumaa\, Eesti
CATEGORIES:Metsandus
GEO:58.4057128;26.801576
END:VEVENT
BEGIN:VEVENT
DTSTART;VALUE=DATE:20160310
DTEND;VALUE=DATE:20160311
DTSTAMP:20260424T233704
CREATED:20171231T220000Z
LAST-MODIFIED:20171231T220000Z
UID:10007735-1457568000-1457654399@www.pikk.ee
SUMMARY:Teemapäev "Kõik munadest ja kodulindudest!"
DESCRIPTION:Viljandimaa \nViljandi OTT Toiduait\, Tallinna tn 3 b\, Viljandi \nViljandimaa \nI osa kell 15.30 – 17.30 linnukasvatajate kogemused;\nII osa kell 18.00 – 20.00 teemaõhtu huvilistele "Kõik munadest"\nOsalustasu: 2 EUR\nKorraldaja: Viljandimaa OTT \nI OSA – KÕIK LINDUDE PIDAMISEST\n10\, märtsi varakevadisel neljapäeval alustame teemapäeva I osa huvilistega\, kes juba kasvatavad kodulinde või on mõelnud seda teha. Kokkusaamise mõte on jagada üksteisega kogemusi ja infot teemadel: haudemunad\, tibud\, lindude ost\, söödad\, allapanu\, kanatraktorid\, munade müük\, supikuked\, söödaveski. Talunike kogemuste ja võimaluste kaardistamise järel jätkame ühistegevust\, millest on abi nii kogenud kasvatajal kui alustajal. \nKohapeal on võimalik osta ja tulevikuks tellida kanatraktorit (üliväikest lauta koos jalutusalaga\, kus mõned kanad saaksid talvekülmade tulekuni koduaias elada). \nKampaania "Kanad linna!".\nPaljud viljandlased mäletavad neid hetki\, kui linn käivitas kampaania "Värvid linna!"\, "Lilled linna!". Mõned aastad hiljem avaldas Liba-Sakala uudise uutest kampaaniatest: "Kartul linna!"\, "Päike linna!". \nMitmeski suurlinnas (Stockholm\, London) on viimastel aastatel mõne kana pidamine muutunud kasulikuks ja jõukohaseks trendiks. Miks mitte pöörata pilk ka meil kodulindude poole? On ju kana eluiga lemmikloomana märksa lühem kui kassidel ja koertel\, keda perre võttes peab arvestama vähemasti aastakümne jagu vastutusega. Lisaks on igast kanast tõhus ja regulaarne abi pere toidulauale. Mõtestatud tegevusest ning toiduahelast saavad osa pere lapsed ja sõbrad-tuttavad. \nViljandis on aeg küps uueks kampaaniaks – "Kanad linna!".\nTeemapäeva I osas saavad huvilised kogenud tegijatelt aimu\, kuidas alustada ja millega arvestada. \nII OSA – KÕIK MUNADEST\n10. märtsil kell 18.00 jätkub teemapäev Viljandi Toiduaidas kõikidele neile\, kelle toidulaual on aeg-ajalt munad. Jutuks tulevad pildis ja sõnas kodulindude pidamistingimused\, söödainfo ehk mida lind sööb ja mis vahe on munal ja munal? Kas teadsite\, et on olemas riike (Saksamaa\, Šveits)\, kus lindude puurispidamine on keelatud ja miks? Kohal on Viljandimaa OTT linnukasvatajad ja külalised kaugemaltki. Mis põhimõttel kasvatavad linde ja pakuvad mune talunikud\, kes järgivad kvaliteedistandardit "OTT talumunad"? Võimalus küsida\, tellida ja osta. \nP.S. Kui Te ei saa osaleda 10. märtsil\, siis täitke registreerimisleht ikkagi\, saadame kogunenud infot. \nRegistreerumine https://docs.google.com/forms/d/1RqqT8sHxolCbcJQl14H5fIJw-hJJIYk2Mh92myQVZAo/viewform \n\nLisainfo: Maainfo Keskuse kodulehel:\nhttp://www.maainfo.ee/index.php?id=3937&page=3394& \nvõi \nAnu Johani\nViljandimaa OTT liige\ntel 552 8007\nanu.johani@gmail.com
URL:https://www.pikk.ee/sundmus/teemapaev-koik-munadest-ja-kodulindudest/
LOCATION:Viljandimaa\, Viljandimaa\, Eesti
CATEGORIES:Loomakasvatus
GEO:58.2821746;25.5752233
END:VEVENT
END:VCALENDAR