BEGIN:VCALENDAR
VERSION:2.0
PRODID:-//PIKK.ee - ECPv6.13.2.1//NONSGML v1.0//EN
CALSCALE:GREGORIAN
METHOD:PUBLISH
X-WR-CALNAME:PIKK.ee
X-ORIGINAL-URL:https://www.pikk.ee
X-WR-CALDESC:Events for PIKK.ee
REFRESH-INTERVAL;VALUE=DURATION:PT1H
X-Robots-Tag:noindex
X-PUBLISHED-TTL:PT1H
BEGIN:VTIMEZONE
TZID:Europe/Tallinn
BEGIN:DAYLIGHT
TZOFFSETFROM:+0200
TZOFFSETTO:+0300
TZNAME:EEST
DTSTART:20160327T010000
END:DAYLIGHT
BEGIN:STANDARD
TZOFFSETFROM:+0300
TZOFFSETTO:+0200
TZNAME:EET
DTSTART:20161030T010000
END:STANDARD
END:VTIMEZONE
BEGIN:VEVENT
DTSTART;VALUE=DATE:20160322
DTEND;VALUE=DATE:20160323
DTSTAMP:20260419T205404
CREATED:20171231T220000Z
LAST-MODIFIED:20171231T220000Z
UID:10006312-1458604800-1458691199@www.pikk.ee
SUMMARY:Teraviljafoorum 2016
DESCRIPTION:Järvamaa \nPaide Kultuurikeskus \nJärvamaa \nOotame teid teisipäeval\, 22. märtsil kell 10.00 Paide Kultuurikeskuses (Pärnu 18\, Paide) toimuvale Teraviljafoorumile 2016. \nKonverentsil osalemine on kõikidele põllumajandustootjatele\, põllumajandussaaduste töötlejatele\, EPK ja EPKK liikmetele TASUTA. \nPõllumajandustootjad peavad täitma tootja kinnitusvormi\, mis asub Pria lehel: http://www.pria.ee/docs/resources/9211.rtf? Põllumajandustootja kinnitus tuleb saata 18. märtsini digitaalselt allkirjastatult martin@epkk.ee. Kui digitaalne allkirjastamine pole võimalik\, siis saab kinnituse esitada konverentsil kohapeal. \nTeistele huvilistele maksab konverentsil osalemine 84 eurot (sisaldab konverentsi materjale ja toitlustamist). \nFoorumil osalemiseks on vajalik ennast registreerida kuni 18. märtsini SIIN\nhttps://docs.google.com/forms/d/1GIhSMopgm8ecaMYdj63MHzvZGiqV44GrLDYClFryMNo/viewform?c=0&w=1 \nPäevakava\n09.00     Hommikukohv ja registreerimine\n10.00     Foorumi avamine\nMati Koppel\, Teraviljatoimkonna esimees\n10.10     Teraviljasektori väljavaated\nUrmas Kruuse\, maaeluminister\n10.45     Panga vaade teraviljasektorile\nBrit Juus\, Swedbank\n11.15     Teravilja ja rapsi maailmaturu ülevaade ja trendid\nMikael Jeppsson\, Lantmännen Lantbruk \, Rootsi\n11.55     Toidukaera sordid ja kvaliteedinõuded\nIneta Kārkla\, Dobeles Dzirnavnieks\, Läti\n12.30     Teraviljatoodete tarbimine\nPille Vahtramäe\, Eesti Konjunktuuriinstituut\n13.00     Lõuna\n14.00     Ülevaade otsekülvikutest ja otsekülvi  kasutamisest\nTaavi Võsa\, Eesti Taimekasvatuse Instituut\n14.30     Taimekaitse pritsimiskaod\nJaanus Siim\, Eesti Taimekasvatuse Instituut\n15.00     Foorumi kokkuvõte \nLisainformatsioon: Martin Vilen\, martin@epkk.ee\, telefon 50 84 431
URL:https://www.pikk.ee/sundmus/teraviljafoorum-2016/
LOCATION:Järvamaa\, Järvamaa\, Eesti
CATEGORIES:Taimekasvatus
GEO:58.8866713;25.5000624
END:VEVENT
BEGIN:VEVENT
DTSTART;VALUE=DATE:20160322
DTEND;VALUE=DATE:20160323
DTSTAMP:20260419T205404
CREATED:20171231T220000Z
LAST-MODIFIED:20171231T220000Z
UID:10007728-1458604800-1458691199@www.pikk.ee
SUMMARY:Tasuta infopäev - Natura 2000 toetus erametsamaale saamise tingimused ja kohapealse kontrolli läbiviimine
DESCRIPTION:Harjumaa \nTallinna Teeninduskool\, Majaka 2\, Tallinn \nHarjumaa \nEesti Põllumajandus-Kaubanduskoda korraldab Maaeluministeeriumi tellimusel tasuta infopäevad teemal Natura 2000 toetus erametsamaale saamise tingimused ja kohapealse kontrolli läbiviimine. \nInfopäev kestab 4 tundi ja algab kell 17:00. \nInfopäevad on suunatud metsa majandamisega tegelevatele isikutele sh erametsaomanikele ja metsaühistute eestvedajatele/tugiisikutele. Infopäevadel võivad osaleda ka konsulendid. \nLektorid: SA Erametsakeskuse arendusnõunik Triin Suur ja kontrolliüksuse juht Gunnar Reinapu. \nInfopäeval osalemiseks palume kindlasti REGISTREERIDA SIIN või EPKK kodulehel www.epkk.ee \nEelregistreerimine lõpeb 2 päeva enne iga infopäeva toimumist ning on oluline lisapaberite (vajadusel) vormistamiseks. \nLisainfo saamiseks ja küsimuste korral palume ühendust info@epkk.ee või tel 600 9349 (juhiabi Maire Vimb). \n\nInfopäevade korraldamist toetab Euroopa Liit 
URL:https://www.pikk.ee/sundmus/tasuta-infopaev-natura-2000-toetus-erametsamaale-saamise-tingimused-ja-kohapealse-kontrolli-labiviimine-3/
LOCATION:Harjumaa\, Harjumaa\, Eesti
CATEGORIES:Metsandus
END:VEVENT
END:VCALENDAR