BEGIN:VCALENDAR
VERSION:2.0
PRODID:-//PIKK.ee - ECPv6.13.2.1//NONSGML v1.0//EN
CALSCALE:GREGORIAN
METHOD:PUBLISH
X-WR-CALNAME:PIKK.ee
X-ORIGINAL-URL:https://www.pikk.ee
X-WR-CALDESC:Events for PIKK.ee
REFRESH-INTERVAL;VALUE=DURATION:PT1H
X-Robots-Tag:noindex
X-PUBLISHED-TTL:PT1H
BEGIN:VTIMEZONE
TZID:Europe/Tallinn
BEGIN:DAYLIGHT
TZOFFSETFROM:+0200
TZOFFSETTO:+0300
TZNAME:EEST
DTSTART:20160327T010000
END:DAYLIGHT
BEGIN:STANDARD
TZOFFSETFROM:+0300
TZOFFSETTO:+0200
TZNAME:EET
DTSTART:20161030T010000
END:STANDARD
END:VTIMEZONE
BEGIN:VEVENT
DTSTART;VALUE=DATE:20160405
DTEND;VALUE=DATE:20160406
DTSTAMP:20260423T090623
CREATED:20171231T220000Z
LAST-MODIFIED:20171231T220000Z
UID:10006311-1459814400-1459900799@www.pikk.ee
SUMMARY:Taimekaitse aluskoolitus professionaalsele kasutajale
DESCRIPTION:Järvamaa \nJärvamaa Kutsehariduskeskuse Särevere õppekoht \nJärvamaa \n\nJärvamaa Kutsehariduskeskuse Särevere õppekohas toimuvad alljärgnevad koolitused Meede 1.1. alt \nTaimekaitse aluskoolitusprofessionaalsele kasutajale (22 tundi) – taotlus nr. 611015510005 – III grupp\,  – 5.-7. aprill 2016\n  \nTäpsem info: \nRuth Türk \nJKHK koolitusjuht \nruth.turk@jkhk.ee \n5329 2188 \n 
URL:https://www.pikk.ee/sundmus/taimekaitse-aluskoolitus-professionaalsele-kasutajale-3/
LOCATION:Järvamaa\, Järvamaa\, Eesti
CATEGORIES:Taimekaitse
GEO:58.8866713;25.5000624
END:VEVENT
BEGIN:VEVENT
DTSTART;VALUE=DATE:20160405
DTEND;VALUE=DATE:20160406
DTSTAMP:20260423T090623
CREATED:20171231T220000Z
LAST-MODIFIED:20171231T220000Z
UID:10006331-1459814400-1459900799@www.pikk.ee
SUMMARY:e-PRIA tugiteenuse pakkujate praktiline koolitus
DESCRIPTION:Koolituse käigus räägitakse: \n• Taotlemise alused. Põhinõuded.\n• Põldude joonistamine e-PRIAs\n• Taotlusvormide täitmine e-PRIAs\nKoolituse käigus proovib osaleja ise põlde joonistada ja taotlusdokumente täita ning esitada. \nKoolituse päevakava:\n10.00 – 10.30 kogunemine ja tervituskohv\n10.30 – 12.30 koolitus\n12.30 – 13.30 lõuna\n13.30 – 16.30 koolitus ja praktiline töö \nKoolitusel osalejatele tehakse eelnevalt e-PRIA testkeskkonna kasutajatunnused. Osalejal peab olema kaasas ID-kaart ja kehtiv PIN1. \nEelnevalt on soovitav üle vaadata 31.03 pindala- ja loomatoetuste infopäeva ettekanded aadressil: http://www.pikk.ee/sundmused/2016/03/31/10308#.Vv4sKfmLSUk \nLisainfo:\nKatri Kuusk\narendusprojektide koordinaator\nMaaelu Edendamise Sihtasutus\nTel.: 731 3650\, 5308 9961\nE-post: katri.kuusk@nouandeteenistus.ee\n 
URL:https://www.pikk.ee/sundmus/e-pria-tugiteenuse-pakkujate-praktiline-koolitus/
LOCATION:Muu\, Eesti
CATEGORIES:Muu
GEO:58.595272;25.0136071
END:VEVENT
BEGIN:VEVENT
DTSTART;VALUE=DATE:20160405
DTEND;VALUE=DATE:20160406
DTSTAMP:20260423T090623
CREATED:20171231T220000Z
LAST-MODIFIED:20171231T220000Z
UID:10007756-1459814400-1459900799@www.pikk.ee
SUMMARY:Toidutarne ahela juhtimine
DESCRIPTION:Harjumaa \nHotell Euroopa\, Paadi 5\, Tallinn \nHarjumaa \n  \nSihtgrupile edastatakse teadmised ja oskused tarneahela juhtimise võimalustest ettevõtte äritegevuste arendamisel. Kursusel käsitletakse täiendavalt veebipoe jaotuslogistika loomist\, juhtimist ning arendustegevusi.\nKoolituse kava vastab 7. taseme ekspordijuhi kutsestandardi osale B.2.10 (logistika planeerimine) ning 5. taseme veokorraldaja kutsestandardi osale B.2.1 (veoprotsessi juhtimine). \nKursus on rahastatud Eesti maaelu arengukava 2014-2020 meede 1 vahenditest. Kursus on osalejatele tasuta.\nKoolituspäevad sisaldavad kohvipause ja kerget einet. \n\nSihtgrupp\nPõllumajandustoodete tootmise või töötlemise\, põllumajandustoodetest mittepõllumajandustoodete töötlemise või metsanduses tegutsev füüsilisest isikust ettevõtja ja tema töötaja ning eraõigusliku juriidilise isiku osanik\, aktsionär\, liige\, juhtorgani liige ja tema töötaja. \n  \nKursuse sisu\nKursus hõlmab nii teoreetilist osa kui situatsioon-probleemülesannete lahendamist\, sisaldades ajaliselt  vähemalt ¼ ulatuses praktilist õpet valitud ettevõtte näitel. \n  \nKäsitletavad teemad: \nToiduainete tarneahel\nPakkumus-  ja nõudlusahel\nJaotuslogistika ja E-poe logistika juhtimine\nKohalike ning rahvusvaheliste vedude korraldamine\, kokku- ja/või laialiveo kulude optimeerimine\nHinna kujundamise põhimõtted tellijatele/kliendile\nTarnekindluse suurendamine\nKonkurentsivõime tõstmine ja lisaväärtuse loomine\nLogistikaklastri võimalused maaettevõtjatele \n \nKursuse läbinu: \nTeab väärtust lisava toiduainete tarneahela olemust ja eesmärke;\nTeab tarneahela haldamise tõhustamise meetodeid;\nTeab kuidas määrata kindlaks strateegia ja taktika väljatöötamise põhimõtted tarneahela haldamiseks;\nTöötab välja tarneahela juhtimise strateegia ja taktika etteantud parameetrite alusel;\nKirjeldab tarneahela juhtimise vigadest tulenevaid riske ja põhjendab nende ennetamise vajadust. \n\nKoolituse korralduslik info:\n• Kellaaeg: 9.30-16.45\n• Asukoht: Tallinn\n• Täpsem asukoht: Hotell Euroopa\, Paadi 5\n• Kestus: 16 akadeemilist tundi\n• Koolitaja: Meljo Musto\n• Koolitusele saab registreeruda siin: http://reiting.ee/toiduainete-tarneahela-juhtimine-41-4_26-16 \n  \n 
URL:https://www.pikk.ee/sundmus/toidutarne-ahela-juhtimine-3/
LOCATION:Harjumaa\, Harjumaa\, Eesti
CATEGORIES:Toiduainete tootmine
END:VEVENT
END:VCALENDAR